BEGIN:VCALENDAR
VERSION:2.0
PRODID:-//Improv Shows &amp; Courses, Bristol | The Bristol Improv Theatre - ECPv6.15.20//NONSGML v1.0//EN
CALSCALE:GREGORIAN
METHOD:PUBLISH
X-WR-CALNAME:Improv Shows &amp; Courses, Bristol | The Bristol Improv Theatre
X-ORIGINAL-URL:https://improvtheatre.co.uk
X-WR-CALDESC:Events for Improv Shows &amp; Courses, Bristol | The Bristol Improv Theatre
REFRESH-INTERVAL;VALUE=DURATION:PT1H
X-Robots-Tag:noindex
X-PUBLISHED-TTL:PT1H
BEGIN:VTIMEZONE
TZID:Europe/London
BEGIN:DAYLIGHT
TZOFFSETFROM:+0000
TZOFFSETTO:+0100
TZNAME:BST
DTSTART:20250330T010000
END:DAYLIGHT
BEGIN:STANDARD
TZOFFSETFROM:+0100
TZOFFSETTO:+0000
TZNAME:GMT
DTSTART:20251026T010000
END:STANDARD
BEGIN:DAYLIGHT
TZOFFSETFROM:+0000
TZOFFSETTO:+0100
TZNAME:BST
DTSTART:20260329T010000
END:DAYLIGHT
BEGIN:STANDARD
TZOFFSETFROM:+0100
TZOFFSETTO:+0000
TZNAME:GMT
DTSTART:20261025T010000
END:STANDARD
BEGIN:DAYLIGHT
TZOFFSETFROM:+0000
TZOFFSETTO:+0100
TZNAME:BST
DTSTART:20270328T010000
END:DAYLIGHT
BEGIN:STANDARD
TZOFFSETFROM:+0100
TZOFFSETTO:+0000
TZNAME:GMT
DTSTART:20271031T010000
END:STANDARD
END:VTIMEZONE
BEGIN:VTIMEZONE
TZID:UTC
BEGIN:STANDARD
TZOFFSETFROM:+0000
TZOFFSETTO:+0000
TZNAME:UTC
DTSTART:20250101T000000
END:STANDARD
END:VTIMEZONE
BEGIN:VEVENT
DTSTART;TZID=Europe/London:20260105T130000
DTEND;TZID=Europe/London:20260105T143000
DTSTAMP:20260423T011708
CREATED:20250721T194733Z
LAST-MODIFIED:20260401T122435Z
UID:10003048-1767618000-1767623400@improvtheatre.co.uk
SUMMARY:Lunchtime Improv with Rebecca MacMillan
DESCRIPTION:Mondays | 13:00 – 14:30\n(NO LUNCHTIME IMPROV ON 6TH APRIL 2026)\n(Please check the calendar below for dates of upcoming sessions)\nDiscover the joy of improv with Rebecca MacMillan’s lunchtime classes at Bristol Improv Theatre. These sessions are designed for creatives\, freelancers\, and everyone else who’s looking for a dose of joy in their day. Powerfully creative\, intensely playful\, and highly enjoyable\, improv is a great way to boost your confidence\, unleash creativity\, and improve your wellbeing. You’ll experience the joy and inner playfulness that comes from improvising and challenging yourself to be in the moment! Each drop-in session is stand-alone\, so you can join any Monday without needing prior experience. \n“It’s like skydiving for the imagination.”\n \nCome play\, laugh\, and connect with yourself and others\, and leave with a lighter heart and a smile on your face. \nTo book your ticket\, simply choose your preferred date below.\n——— \nTicket sales have been moved to our new events site!\nClick here to buy tickets!\n———
URL:https://improvtheatre.co.uk/upcoming-show/lunchtime-improv-with-rebecca-macmillan-2-2/2026-01-05/
LOCATION:The Bristol Improv Theatre\, Bristol Improv Theatre\, 50 St Paul's Rd\, Clifton\, Bristol BS8 1LP\, Bristol\, BS8 1LP\, United Kingdom
CATEGORIES:Theatre School
ATTACH;FMTTYPE=image/jpeg:https://improvtheatre.co.uk/wp-content/uploads/2024/09/Rebeca-macmillan-banner.jpg
ORGANIZER;CN="The Bristol Improv Theatre":MAILTO:hello@improvtheatre.co.uk
END:VEVENT
BEGIN:VEVENT
DTSTART;TZID=UTC:20260105T183000
DTEND;TZID=UTC:20260105T210000
DTSTAMP:20260423T011708
CREATED:20251027T184716Z
LAST-MODIFIED:20260106T153603Z
UID:10002949-1767637800-1767646800@improvtheatre.co.uk
SUMMARY:Level 1: Discovering Improv
DESCRIPTION:5th January – 9th February| Mondays | 18:30 – 21:00\nImprov isn’t just about being funny (although it’s often very funny). For you improv could be about facing your fears\, working with a team\, trusting yourself\, listening\, or just letting yourself be silly and playful! \nThis six-week course is a voyage through spontaneity\, creativity\, and connection. Our experienced instructors will guide you through games\, exercises\, and reflections that will equip you with the tools to improvise\, both on stage and off.  \nIs this course for me?\n \nDiscovering Improv is an introduction to improvisation aimed at absolute beginners – no experience required!  \nThis is the course for you if: \n\nYou want to be more spontaneous\, confident\, or creative.\nYou want to meet new people and have fun!\nYou’re looking to push outside of your comfort zone in a supportive environment.\nYou’ve heard about this improv thing and you want to find out what it’s all about.\nYou’ve been improvising for a while and want to return to the fundamentals.\n\nIf you’re curious about improvisation\, but you don’t want to commit to a full 6 week course\, why not try one of our Improv Taster Sessions? \n\n      \n        \n      \n    \nClass Details\nThis course consists of 6 sessions that last for 2.5 hours each\, and will be taught by two of our experienced facilitators. Places are capped at 16. \nIf you have any accommodations or access needs\, questions\, feedback or concerns about the classes\, please don’t hesitate to get in touch at theatreschool@improvtheatre.net
URL:https://improvtheatre.co.uk/upcoming-show/level-1-discovering-improv-2/
LOCATION:The Bristol Improv Theatre\, Bristol Improv Theatre\, 50 St Paul's Rd\, Clifton\, Bristol BS8 1LP\, Bristol\, BS8 1LP\, United Kingdom
CATEGORIES:Level 1 Courses,Theatre School
ATTACH;FMTTYPE=image/png:https://improvtheatre.co.uk/wp-content/uploads/2022/12/1.png
ORGANIZER;CN="The Bristol Improv Theatre":MAILTO:hello@improvtheatre.co.uk
END:VEVENT
BEGIN:VEVENT
DTSTART;TZID=Europe/London:20260105T183000
DTEND;TZID=Europe/London:20260105T210000
DTSTAMP:20260423T011708
CREATED:20251029T200120Z
LAST-MODIFIED:20260112T194145Z
UID:10002951-1767637800-1767646800@improvtheatre.co.uk
SUMMARY:Level 4: Performing Improv - Approaches to Scenework
DESCRIPTION:5th January – 16th February | Mondays | 18:30 – 21:00\nScenes are the building blocks of improvised theatre\, but there are as many different ways to play a scene as there are improvisers. From emotionally-focused play\, to creating a narrative flow of cause and effect\, deftly weaving themes and concepts together\, or just finding something funny to do again (but bigger)\, how you approach a scene helps to define how it plays out.  This 7-week course delves into improvisation techniques and theory from a range of perspectives to help you stretch your scenic muscles and develop your own approach to scenework. \nA great course for those looking to develop their scenework skills and explore their personal voice as an improviser. \nThis course is part of our Level 4 Performing Improv programme. Completion of Level 3 courses (or equivalent beginner-to-intermediate training) is recommended\, but not required. \n\n      \n        \n      \n    \nCLASS DETAILS\nThis course consists of 7 sessions that last for 2.5 hours each\, and will be taught by one or two of our experienced facilitators. Places are capped at 12. Like all our Performing Improv courses\, the 7th week includes a showcase performance to a supportive audience of friends\, family\, and fellow students. \nIf you have any accommodations or access needs\, questions\, feedback or concerns about these classes\, please don’t hesitate to get in touch at theatreschool@improvtheatre.net.
URL:https://improvtheatre.co.uk/upcoming-show/level-4-performing-improv-approaches-to-scenework-2/
LOCATION:The Bristol Improv Theatre\, Bristol Improv Theatre\, 50 St Paul's Rd\, Clifton\, Bristol BS8 1LP\, Bristol\, BS8 1LP\, United Kingdom
CATEGORIES:Level 4 Courses,Theatre School
ATTACH;FMTTYPE=image/jpeg:https://improvtheatre.co.uk/wp-content/uploads/2025/10/Approaches-to-Scenework-scaled.jpg
ORGANIZER;CN="The Bristol Improv Theatre":MAILTO:hello@improvtheatre.co.uk
END:VEVENT
BEGIN:VEVENT
DTSTART;TZID=UTC:20260105T190000
DTEND;TZID=UTC:20260105T210000
DTSTAMP:20260423T011708
CREATED:20251204T220635Z
LAST-MODIFIED:20260112T193835Z
UID:10002960-1767639600-1767646800@improvtheatre.co.uk
SUMMARY:Improv Drop-ins
DESCRIPTION:Mondays | 19:00 – 21:00\nLooking to stretch your improvising muscles? Then our drop-ins are for you! \nOur drop-ins run every Monday evening and alternate between scene workshops and classes focused on specific skills to help you pad out your improvisers tool-kit. \nDuring our scene workshops\, you’ll receive supportive and constructive side-coaching\, tailored to the group and designed to develop your confidence and improvisation skills. On the other hand\, the regular drop-ins will take a specific skill and explore it through games\, exercises and scenes. \nFacilitated by an experienced Bristol Improv Theatre instructor\, drop-ins are a great chance to try improv at Bristol Improv Theatre and connect with others. \nAny questions\, please don’t hesitate to get in touch at theatreschool@improvtheatre.net. \nIf you are brand new to improv\, you may prefer to try the monthly Improv Taster Session. \nIf you have any accommodations or access needs\, please let us know at theatreschool@improvtheatre.net. If you are attending this class with a carer\, they do not need to buy a ticket\, but please do let us know so that we can keep an eye on class size. \nOur Improv Drop-Ins are very popular classes which regularly sell out. We would always recommend booking your place in advance in order to secure your spot. Whilst we do occasionally have drop outs and availability on the day\, we would recommend booking in advance to avoid disappointment. \nTo book your ticket\, simply choose your preferred date below.
URL:https://improvtheatre.co.uk/upcoming-show/improv-drop-ins-3-2-2-3-3/2026-01-05/
LOCATION:The Bristol Improv Theatre\, Bristol Improv Theatre\, 50 St Paul's Rd\, Clifton\, Bristol BS8 1LP\, Bristol\, BS8 1LP\, United Kingdom
CATEGORIES:Theatre School
ATTACH;FMTTYPE=image/jpeg:https://improvtheatre.co.uk/wp-content/uploads/2025/07/Improv-Drop-Ins-scaled.jpg
ORGANIZER;CN="The Bristol Improv Theatre":MAILTO:hello@improvtheatre.co.uk
END:VEVENT
BEGIN:VEVENT
DTSTART;TZID=UTC:20260106T183000
DTEND;TZID=UTC:20260106T210000
DTSTAMP:20260423T011708
CREATED:20250505T121350Z
LAST-MODIFIED:20260112T164541Z
UID:10002136-1767724200-1767733200@improvtheatre.co.uk
SUMMARY:Performing Improv Level 3: Singing Songs
DESCRIPTION:6th January – 17th February | Tuesdays | 18:30 – 21:00\nSinging Songs is the course for anyone who’s ever fancied making up songs on the spot\, and for those who don’t think they can sing but would love to have a go! \nThis seven-week course explores different song structures and games to help build your musicality\, rhythm\, and improv skills so you can perform group numbers and improvised singing games. All voices are welcomed\, some improv skills are recommended (but not strictly required).  \nWho is this course for? \n\nStudents who have completed Discovering Improv & Intro to Performing Improv and want to take the next step\nPerformers who have some improv experience and want to develop their improvised singing skills \nAnyone who has learned improv elsewhere and wants to start learning with the BIT school\n\nThis course consists of 7 sessions that last for 2.5 hours each\, and will be taught by one of our experienced facilitators and an accompanying pianist. Places are capped at 12. Like all our Performing Improv courses\, the 7th week includes a showcase performance to a supportive audience of friends\, family\, and fellow students.
URL:https://improvtheatre.co.uk/upcoming-show/performing-improv-level-1-singing-songs-2/
LOCATION:The Bristol Improv Theatre\, Bristol Improv Theatre\, 50 St Paul's Rd\, Clifton\, Bristol BS8 1LP\, Bristol\, BS8 1LP\, United Kingdom
CATEGORIES:Level 3 Courses,Theatre School
ATTACH;FMTTYPE=image/webp:https://improvtheatre.co.uk/wp-content/uploads/2024/11/Tickets-icon-1.webp
ORGANIZER;CN="The Bristol Improv Theatre":MAILTO:hello@improvtheatre.co.uk
END:VEVENT
BEGIN:VEVENT
DTSTART;TZID=UTC:20260106T183000
DTEND;TZID=UTC:20260106T210000
DTSTAMP:20260423T011708
CREATED:20251027T203903Z
LAST-MODIFIED:20260112T164620Z
UID:10002950-1767724200-1767733200@improvtheatre.co.uk
SUMMARY:Level 2: Intro to Performing Improv
DESCRIPTION:6th January – 10th February | Tuesdays | 18:30 – 21:00\nImprovisation happens all over the place: at work\, at home\, when you’re messing around with your mates. Whenever you do something that you didn’t plan in advance\, try something just to have a go\, or join in with something that looks fun – you’re improvising!  \nBut what about improvising in front of people on a stage? Improv as a performance can be a scary prospect\, but it can also be tremendously fun and hugely rewarding! \nFollowing on from our hugely popular Discovering Improv course\, this six-week course will immerse you in the fundamentals of improvising for an audience through games\, exercises\, and scenes. Our experienced facilitators will guide and support you on your journey towards performing. \nIs this course for me? \nIntro to Performing is an introduction to improvisation as a performance artform\, aimed at beginners – no experience is needed! If you aren’t sure about performing\, or want to learn about improv from the beginning\, try our Discovering Improv course. \nThis is the course for you if: \n\nYou’ve completed our Discovering Improv course and want to take the next step\nYou’re new to improv and want to learn the fundamentals of improvisation for an audience\nYou learned improv elsewhere and want to start learning with the Bristol Improv Theatre School\n\n\n      \n        \n      \n    \nClass Details\nThis is a 6-week course. Sessions are held weekly (on the same evening) and last 2.5 hours. The course will be taught by our experienced facilitators\, and there are 16 places available per course. \nIf you have any accommodations or access needs\, questions\, feedback or concerns about the classes\, please don’t hesitate to get in touch at theatreschool@improvtheatre.net.
URL:https://improvtheatre.co.uk/upcoming-show/level-2-intro-to-performing-improv-3/
LOCATION:The Bristol Improv Theatre\, Bristol Improv Theatre\, 50 St Paul's Rd\, Clifton\, Bristol BS8 1LP\, Bristol\, BS8 1LP\, United Kingdom
CATEGORIES:Level 2 Courses,Theatre School
ATTACH;FMTTYPE=image/jpeg:https://improvtheatre.co.uk/wp-content/uploads/2023/03/2-731x1024-portrait-opt.jpg
ORGANIZER;CN="The Bristol Improv Theatre":MAILTO:hello@improvtheatre.co.uk
END:VEVENT
BEGIN:VEVENT
DTSTART;TZID=UTC:20260107T183000
DTEND;TZID=UTC:20260107T210000
DTSTAMP:20260423T011708
CREATED:20251029T203747Z
LAST-MODIFIED:20260106T163821Z
UID:10002953-1767810600-1767819600@improvtheatre.co.uk
SUMMARY:Level 1: Discovering Improv
DESCRIPTION:7th January – 11th February| Wednesdays | 18:30 – 21:00\nImprov isn’t just about being funny (although it’s often very funny). For you improv could be about facing your fears\, working with a team\, trusting yourself\, listening\, or just letting yourself be silly and playful! \nThis six-week course is a voyage through spontaneity\, creativity\, and connection. Our experienced instructors will guide you through games\, exercises\, and reflections that will equip you with the tools to improvise\, both on stage and off.  \nIs this course for me?\n \nDiscovering Improv is an introduction to improvisation aimed at absolute beginners – no experience required!  \nThis is the course for you if: \n\nYou want to be more spontaneous\, confident\, or creative.\nYou want to meet new people and have fun!\nYou’re looking to push outside of your comfort zone in a supportive environment.\nYou’ve heard about this improv thing and you want to find out what it’s all about.\nYou’ve been improvising for a while and want to return to the fundamentals.\n\nIf you’re curious about improvisation\, but you don’t want to commit to a full 6 week course\, why not try one of our Improv Taster Sessions? \n\n      \n        \n      \n    \nClass Details\nThis course consists of 6 sessions that last for 2.5 hours each\, and will be taught by two of our experienced facilitators. Places are capped at 16. \nIf you have any accommodations or access needs\, questions\, feedback or concerns about the classes\, please don’t hesitate to get in touch at theatreschool@improvtheatre.net
URL:https://improvtheatre.co.uk/upcoming-show/level-1-discovering-improv-3/
LOCATION:The Bristol Improv Theatre\, Bristol Improv Theatre\, 50 St Paul's Rd\, Clifton\, Bristol BS8 1LP\, Bristol\, BS8 1LP\, United Kingdom
CATEGORIES:Level 1 Courses,Theatre School
ATTACH;FMTTYPE=image/png:https://improvtheatre.co.uk/wp-content/uploads/2022/12/1.png
ORGANIZER;CN="The Bristol Improv Theatre":MAILTO:hello@improvtheatre.co.uk
END:VEVENT
BEGIN:VEVENT
DTSTART;TZID=Europe/London:20260108T193000
DTEND;TZID=Europe/London:20260108T220000
DTSTAMP:20260423T011708
CREATED:20251215T115945Z
LAST-MODIFIED:20251215T115945Z
UID:10003118-1767900600-1767909600@improvtheatre.co.uk
SUMMARY:The Drag Dungeoneers
DESCRIPTION:Thursday 8th January | 19:30\n(Doors Open from 18:30)\nCLICK TO BOOK NOW \nBristol’s no.1 show that slays… literally.  \nRunning since 2022\, The Drag Dungeoneers is a loose narrative monster-of-the-week style D&D live show adventure\, featuring some of Bristol’s finest drag nerds.  \nExpect to encounter sexy NPCs and sexier monsters\, all with a healthy dose of improv\, audience interaction\, and utter nonsense. \nDon’t know the rules of DND? Don’t worry\, neither does most of the cast! The Drag Dungeoneers is designed to be enjoyed by anyone\, no matter what subclass of nerd they decided to spend their skill points in. \n  \n“Truly one of the silliest shows in Bristol\, I have cried with laughter every time.” \n“A perfect blend of chaotic humour\, pop culture references and whimsical storytelling.” \n“An absolute riot of a good time. Whether you’re a DnD fanatic or not\,” \n“Highlight of my month every month. Funny\, queer\, fantastic fun” \n  \nStarring \nBooHoo Mann \nJersey The Devil  \nYuGiHoe \nVaccine \n– \nAccessibility information:\nThe Bristol Improv Theatre’s entrance has stairs\, and there is no accessible bathroom. The rear entrance has fewer stairs and wider access\, making it more suitable for those with limited mobility. For any further questions\, please email thedragdungeoneers@gmail.com\n\nThe show contains no flashing lights\, but occasional sudden loud sounds – mostly Jersey the Devil’s laugh. \nEntry requirements: 18+\, any under 18s accompanied by 21+ adult 1:1 ratio \nCLICK TO BOOK NOW
URL:https://improvtheatre.co.uk/upcoming-show/the-drag-dungeoneers-2026/
LOCATION:The Bristol Improv Theatre\, Bristol Improv Theatre\, 50 St Paul's Rd\, Clifton\, Bristol BS8 1LP\, Bristol\, BS8 1LP\, United Kingdom
CATEGORIES:Flagship Shows
ATTACH;FMTTYPE=image/jpeg:https://improvtheatre.co.uk/wp-content/uploads/2025/07/TDD-scaled.jpg
ORGANIZER;CN="The Bristol Improv Theatre":MAILTO:hello@improvtheatre.co.uk
END:VEVENT
BEGIN:VEVENT
DTSTART;TZID=Europe/London:20260109T193000
DTEND;TZID=Europe/London:20260109T213000
DTSTAMP:20260423T011708
CREATED:20251215T145101Z
LAST-MODIFIED:20251215T145101Z
UID:10003122-1767987000-1767994200@improvtheatre.co.uk
SUMMARY:Improv Double Bill: What’s Your Star Sign? & Last Day On Earth
DESCRIPTION:Friday 9th January 2026 | 19:30\n(NEW: Bar open from 18:30)\nA delicious double bill of improv to beat the January blues! Featuring What’s Your Star Sign\, improv inspired by today’s horoscope and what it might mean\, and Last Day on Earth\, imagining the day before the end of the world. \nWhat’s Your Star Sign?\nHave you ever read a horoscope and wondered who is having that kind of day?\nWonder no longer\, as we take you through the day of someone whose fate is in the stars. We’ll read a star sign from the most acceptable tabloid we can find\, explore that day and delve into any crazy events that come up. \nStarring some of Bristol’s most experienced improvisers\, you’re in safe hands no matter what the future holds. And as it’s our Capricorn show\, you know it’ll be the GOAT. \nToday’s horoscope: As the sun remains out of sight in the dark days of winter\, you’re stepping in the right direction and making great decisions. Embrace the FOMO. Not to beat around the bush\, that means buying a ticket to see this amazing comedy improv show. \n\n“Story strands and events that steadily layer and begin to play off one another until they wind into a crescendo of hilarity” – Epigram\n\nLast Day on Earth\nWhat would you do with your final day? Watch Last Day On Earth perform improv comedy of course!\nThe first graduate house team of legendary improv night ‘Parent’s Basement’ takes a location from the audience and proceeds to take us on a journey through improvised sketch and character comedy. \nFeaturing performers from: This Is Your Musical\, Up The Antics & After Dusk\, the improvised twilight zone\, Last Day on Earth have travelled all over the country with their chaotic\, hilarious comedic style and consistently deliver premium laughter.
URL:https://improvtheatre.co.uk/upcoming-show/improv-double-bill-star-sign-ldoe/
LOCATION:The Bristol Improv Theatre\, Bristol Improv Theatre\, 50 St Paul's Rd\, Clifton\, Bristol BS8 1LP\, Bristol\, BS8 1LP\, United Kingdom
CATEGORIES:Homegrown Heroes
ATTACH;FMTTYPE=image/jpeg:https://improvtheatre.co.uk/wp-content/uploads/2025/12/Double-Bill.jpg
ORGANIZER;CN="The Bristol Improv Theatre":MAILTO:hello@improvtheatre.co.uk
END:VEVENT
BEGIN:VEVENT
DTSTART;TZID=UTC:20260110T140000
DTEND;TZID=UTC:20260110T160000
DTSTAMP:20260423T011708
CREATED:20250611T183626Z
LAST-MODIFIED:20260202T170252Z
UID:10003026-1768053600-1768060800@improvtheatre.co.uk
SUMMARY:Improv Taster Session
DESCRIPTION:Saturdays | 14:00 – 16:00\n(Please see below for dates of upcoming sessions)\nApproximately twice a month\, we run the Improv Taster Session for anyone looking to try their hand at improvisation before committing to a course. \nFacilitated by an experienced Bristol Improv Theatre instructor\, the class will explore the fundamental skills of improvisation using a smorgasbord of improv games and exercises. It’s a great chance to try improv and connect with others in a playful way. \nCome along and give improv a go! \nPlaces are capped at 20 with up to 2 instructors present. \nAny questions\, please don’t hesitate to get in touch at theatreschool@improvtheatre.net. \nIf you have any accommodations or access needs\, please let us know at theatreschool@improvtheatre.net. If you are attending this class with a carer\, they do not need to buy a ticket\, but please do let us know so that we can keep an eye on class size. \nTo book your ticket\, simply choose your preferred date from below.
URL:https://improvtheatre.co.uk/upcoming-show/improv-taster-session-3/2026-01-10/
LOCATION:The Bristol Improv Theatre\, Bristol Improv Theatre\, 50 St Paul's Rd\, Clifton\, Bristol BS8 1LP\, Bristol\, BS8 1LP\, United Kingdom
CATEGORIES:Theatre School
ATTACH;FMTTYPE=image/jpeg:https://improvtheatre.co.uk/wp-content/uploads/2025/09/Improv-Taster-scaled.jpg
ORGANIZER;CN="The Bristol Improv Theatre":MAILTO:hello@improvtheatre.co.uk
END:VEVENT
END:VCALENDAR