BEGIN:VCALENDAR
VERSION:2.0
PRODID:-//Improv Shows &amp; Courses, Bristol | The Bristol Improv Theatre - ECPv6.15.20//NONSGML v1.0//EN
CALSCALE:GREGORIAN
METHOD:PUBLISH
X-ORIGINAL-URL:https://improvtheatre.co.uk
X-WR-CALDESC:Events for Improv Shows &amp; Courses, Bristol | The Bristol Improv Theatre
REFRESH-INTERVAL;VALUE=DURATION:PT1H
X-Robots-Tag:noindex
X-PUBLISHED-TTL:PT1H
BEGIN:VTIMEZONE
TZID:UTC
BEGIN:STANDARD
TZOFFSETFROM:+0000
TZOFFSETTO:+0000
TZNAME:UTC
DTSTART:20240101T000000
END:STANDARD
END:VTIMEZONE
BEGIN:VTIMEZONE
TZID:Europe/London
BEGIN:DAYLIGHT
TZOFFSETFROM:+0000
TZOFFSETTO:+0100
TZNAME:BST
DTSTART:20240331T010000
END:DAYLIGHT
BEGIN:STANDARD
TZOFFSETFROM:+0100
TZOFFSETTO:+0000
TZNAME:GMT
DTSTART:20241027T010000
END:STANDARD
BEGIN:DAYLIGHT
TZOFFSETFROM:+0000
TZOFFSETTO:+0100
TZNAME:BST
DTSTART:20250330T010000
END:DAYLIGHT
BEGIN:STANDARD
TZOFFSETFROM:+0100
TZOFFSETTO:+0000
TZNAME:GMT
DTSTART:20251026T010000
END:STANDARD
BEGIN:DAYLIGHT
TZOFFSETFROM:+0000
TZOFFSETTO:+0100
TZNAME:BST
DTSTART:20260329T010000
END:DAYLIGHT
BEGIN:STANDARD
TZOFFSETFROM:+0100
TZOFFSETTO:+0000
TZNAME:GMT
DTSTART:20261025T010000
END:STANDARD
BEGIN:DAYLIGHT
TZOFFSETFROM:+0000
TZOFFSETTO:+0100
TZNAME:BST
DTSTART:20270328T010000
END:DAYLIGHT
BEGIN:STANDARD
TZOFFSETFROM:+0100
TZOFFSETTO:+0000
TZNAME:GMT
DTSTART:20271031T010000
END:STANDARD
END:VTIMEZONE
BEGIN:VEVENT
DTSTART;TZID=UTC:20251230T193000
DTEND;TZID=UTC:20251230T223000
DTSTAMP:20260423T041724
CREATED:20251211T135416Z
LAST-MODIFIED:20251211T135621Z
UID:10003113-1767123000-1767133800@improvtheatre.co.uk
SUMMARY:La La Bar
DESCRIPTION:Tuesday 30th December | 19:30\n(Doors open 19:00)\n\n\n\n\nJoin us at the Bristol Improv Theatre for a Betwixtmas offering from our musical-theatre open-mic night\, featuring live piano accompaniment! \nFrom performance pros to absolute beginners\, this is a welcome-all night where anyone can get on stage to share their favourite songs and stories. Regale us with a classic or introduce the room to a musical they’ve never heard of. \nIf you’re not quite ready to jump on stage and take the mic\, there are still chances to join in with the group numbers. \nFriendly compering provided by Caitlin Campbell; musical stylings by Sara Garrard. \nWant to sing at La La Bar? Please send your submissions to lalabarsingers@gmail.com before the event to ensure your slot! \nThis event usually sells out. We recommend booking in advance; if we reach capacity on the night\, we may have to turn away people who have not pre-booked.
URL:https://improvtheatre.co.uk/upcoming-show/la-la-bar-dec-30/
LOCATION:The Bristol Improv Theatre\, Bristol Improv Theatre\, 50 St Paul's Rd\, Clifton\, Bristol BS8 1LP\, Bristol\, BS8 1LP\, United Kingdom
CATEGORIES:Community Event
ATTACH;FMTTYPE=image/jpeg:https://improvtheatre.co.uk/wp-content/uploads/2023/11/La-La-Bar-cover-image.jpg
ORGANIZER;CN="The Bristol Improv Theatre":MAILTO:hello@improvtheatre.co.uk
END:VEVENT
BEGIN:VEVENT
DTSTART;TZID=Europe/London:20251231T190000
DTEND;TZID=Europe/London:20260101T020000
DTSTAMP:20260423T041724
CREATED:20251201T114400Z
LAST-MODIFIED:20251212T143556Z
UID:10003065-1767207600-1767232800@improvtheatre.co.uk
SUMMARY:Up The Antics New Year’s Eve Party
DESCRIPTION:Wednesday 31st December | 19:00 – Late\nBack from the success of their last three sold-out New Year’s Eve parties\, Up The Antics have put together a stellar line-up to bring in 2026 at the Bristol Improv Theatre. This year’s line-up will include sketch comedy from Up The Antics\, improv\, and much more. \nThis Year’s Line-up:\n_ \nSketch Comedy from ‘Up The Antics’\nBristol’s own Up The Antics will be bringing a mix of some old favourites with some fun new characters\, scenes and situations thrown into the mix. See this group\, which has been featured on BBC Radio 4 Extra and won awards for its online sketch content. \n\nLeicester Square Sketch-Off Semi-Finalists\n\n\n“Brilliantly Witty” ★★★★★ Inter:Mission\n\n\n“Up The Antics are guaranteed to deliver a laugh every minute” ★★★★ EdFringeReview\n\n_ \nImprov from ‘Pressure Cooker’\nThe improvised restaurant show (From the cast of ‘The Bish Bosh Bash’ and the creators of ‘Tales of Adventure’). \nStep into our restaurant\, where the experience is different every single night! Our performers take ingredients from audience suggestions to create recipes for wacky\, funny\, and silly stories. \n_\nCompered by Burt Lash\nDrag Idol 2025 national finalist and Bristol-born and bred Drag King\, it’s only Burt Lash! \nExpect musical comedy\, original rap and parody. \n\n“You’re a lyricist!” – Baga Chips\n\n\n“Laugh out loud musical comedy” – Chortle\n“Genuine highlight of the day“ – British Comedy Guide\n\n\nDrag Wars 2025 Runner-up\n\n_ \nAfter the shows\, we will have enough MUSIC in the bar to keep us dancing until 2027! \nEvent timings: \n\n7 pm | Fizz Reception\n8 pm – 10:30 pm | Performances\n10:30 pm – 2 am | Late Dancing in the bar to see in the New Year!\n\n– \nTHIS EVENT HAS LIMITED CAPACITY – PLEASE BUY IN ADVANCE TO PREVENT DISAPPOINTMENT \n– \nTickets include a glass of prosecco on arrival.
URL:https://improvtheatre.co.uk/upcoming-show/up-the-antics-new-years-eve-party-2025/
LOCATION:The Bristol Improv Theatre\, Bristol Improv Theatre\, 50 St Paul's Rd\, Clifton\, Bristol BS8 1LP\, Bristol\, BS8 1LP\, United Kingdom
CATEGORIES:Community Event,Flagship Shows
ATTACH;FMTTYPE=image/jpeg:https://improvtheatre.co.uk/wp-content/uploads/2024/11/NE-Up-the-antics-Cover-image-1-1.jpg
ORGANIZER;CN="The Bristol Improv Theatre":MAILTO:hello@improvtheatre.co.uk
END:VEVENT
BEGIN:VEVENT
DTSTART;TZID=UTC:20260102T193000
DTEND;TZID=UTC:20260102T213000
DTSTAMP:20260423T041724
CREATED:20251202T163024Z
LAST-MODIFIED:20260325T114126Z
UID:10003115-1767382200-1767389400@improvtheatre.co.uk
SUMMARY:The Bish Bosh Bash: The Improvised Game Show
DESCRIPTION:Friday\, 6th February 2026 | 19:30\nFriday\, 6th March 2026 | 19:30\nFriday\, 3rd April 2026 | 19:30\nFriday\, 1st May 2026 | 19:30\nFriday\, 3rd July 2026 | 19:30\nFriday\, 7th August 2026 | 19:30\nFriday\, 4th September 2026 | 19:30\nFriday\, 2nd October 2026 | 19:30\nFriday\, 6th November 2026 | 19:30\nSaturday\, 4th December 2026 | 19:30\n(Doors Open: 18:30)\nThe Bish Bosh Bash: The Improvised Game Show is back\, bringing songs\, scenes and silliness. \nThe Bish Bosh Bash is a great introduction for those who’ve never seen improv before. An easy-going and mischievous evening awaits. \nIt’s a game of two halves! \nIn the first half\, our teams will go head-to-head playing quick-fire games\, which those familiar with ‘Whose Line Is It Anyway?’ might recognise. The second half is our knockout round\, where our players are both writers and actors in mini-plays inspired by your suggestions. \nThey’re battling it out for you\, playing for your votes and adoration. You decide who makes it to the end\, and ultimately\, which team goes home with the glory! \nJoin The Bish Bosh Bash on the first Friday of each month. \n“A good value evening’s entertainment and plenty of playfulness. Five stars!”\n★★★★★ Bristol 24/7 \n  \n——— \nTicket sales are temporarily closed for a system update and will reopen on Saturday\, 28th March 2026\nFollow us on Instagram for updates! \n———
URL:https://improvtheatre.co.uk/upcoming-show/the-bish-bosh-bash-the-improvised-game-show-2026/2026-01-02/
LOCATION:The Bristol Improv Theatre\, Bristol Improv Theatre\, 50 St Paul's Rd\, Clifton\, Bristol BS8 1LP\, Bristol\, BS8 1LP\, United Kingdom
CATEGORIES:Flagship Shows
ATTACH;FMTTYPE=image/jpeg:https://improvtheatre.co.uk/wp-content/uploads/2025/12/Bish-Bosh-Bash-at-Bristol-Improv-Theatre.jpg
ORGANIZER;CN="The Bristol Improv Theatre":MAILTO:hello@improvtheatre.co.uk
END:VEVENT
BEGIN:VEVENT
DTSTART;TZID=UTC:20260104T193000
DTEND;TZID=UTC:20260104T213000
DTSTAMP:20260423T041724
CREATED:20251204T165655Z
LAST-MODIFIED:20251204T165655Z
UID:10003096-1767555000-1767562200@improvtheatre.co.uk
SUMMARY:Improv Jam & Social
DESCRIPTION:Sunday\, 4th January 2026 | 19:30\nSunday\, 8th February 2026 | 19:30\nThursday\, 5th March 2026 | 19:30\nThursday\, 2nd April 2026 | 19:30\n(NEW: Bar open from 18:30)\nA friendly and welcoming evening of improv games\, silliness\, socialising and fun. Our monthly improv jam allows YOU to sign up to take part in scenes or games\, participate in games from the safety of the audience\, or sit back and enjoy the entertainment as others give it a go! \nThe Improv Jam is hosted by one of our fantastic improv facilitators\, who will guide you through any improv games – think ‘Whose Line Is It Anyway?’ – or scenes. There will be lots of silly nonsense\, laughs and plenty of chances to join in!  \nYou don’t need to have performed before or taken a class to take part in the Improv Jam. Everyone is welcome\, whether you’re aching to stretch your improv muscles\, curious to try improvising on stage\, or simply want to come along and watch. \nTickets are £5 or ‘Pay What You Decide’. All funds raised go straight back into supporting Bristol Improv Theatre\, creating a hub for improv and creativity in Bristol. \nPlease book in advance to secure your spot.
URL:https://improvtheatre.co.uk/upcoming-show/improv-jam-social-2026/2026-01-04/
LOCATION:The Bristol Improv Theatre\, Bristol Improv Theatre\, 50 St Paul's Rd\, Clifton\, Bristol BS8 1LP\, Bristol\, BS8 1LP\, United Kingdom
CATEGORIES:Community Event
ATTACH;FMTTYPE=image/jpeg:https://improvtheatre.co.uk/wp-content/uploads/2025/12/March-23-2024-BIT-Little-Improv-Festival-web-res-LEE-PULLEN-PHOTOGRAPHY.jpg
ORGANIZER;CN="The Bristol Improv Theatre":MAILTO:hello@improvtheatre.co.uk
END:VEVENT
END:VCALENDAR