BEGIN:VCALENDAR
VERSION:2.0
PRODID:-//Improv Shows &amp; Courses, Bristol | The Bristol Improv Theatre - ECPv6.15.20//NONSGML v1.0//EN
CALSCALE:GREGORIAN
METHOD:PUBLISH
X-ORIGINAL-URL:https://improvtheatre.co.uk
X-WR-CALDESC:Events for Improv Shows &amp; Courses, Bristol | The Bristol Improv Theatre
REFRESH-INTERVAL;VALUE=DURATION:PT1H
X-Robots-Tag:noindex
X-PUBLISHED-TTL:PT1H
BEGIN:VTIMEZONE
TZID:Europe/London
BEGIN:DAYLIGHT
TZOFFSETFROM:+0000
TZOFFSETTO:+0100
TZNAME:BST
DTSTART:20240331T010000
END:DAYLIGHT
BEGIN:STANDARD
TZOFFSETFROM:+0100
TZOFFSETTO:+0000
TZNAME:GMT
DTSTART:20241027T010000
END:STANDARD
BEGIN:DAYLIGHT
TZOFFSETFROM:+0000
TZOFFSETTO:+0100
TZNAME:BST
DTSTART:20250330T010000
END:DAYLIGHT
BEGIN:STANDARD
TZOFFSETFROM:+0100
TZOFFSETTO:+0000
TZNAME:GMT
DTSTART:20251026T010000
END:STANDARD
BEGIN:DAYLIGHT
TZOFFSETFROM:+0000
TZOFFSETTO:+0100
TZNAME:BST
DTSTART:20260329T010000
END:DAYLIGHT
BEGIN:STANDARD
TZOFFSETFROM:+0100
TZOFFSETTO:+0000
TZNAME:GMT
DTSTART:20261025T010000
END:STANDARD
END:VTIMEZONE
BEGIN:VEVENT
DTSTART;TZID=Europe/London:20251215T130000
DTEND;TZID=Europe/London:20251215T143000
DTSTAMP:20260423T041853
CREATED:20250721T194733Z
LAST-MODIFIED:20260401T122435Z
UID:10002462-1765803600-1765809000@improvtheatre.co.uk
SUMMARY:Lunchtime Improv with Rebecca MacMillan
DESCRIPTION:Mondays | 13:00 – 14:30\n(NO LUNCHTIME IMPROV ON 6TH APRIL 2026)\n(Please check the calendar below for dates of upcoming sessions)\nDiscover the joy of improv with Rebecca MacMillan’s lunchtime classes at Bristol Improv Theatre. These sessions are designed for creatives\, freelancers\, and everyone else who’s looking for a dose of joy in their day. Powerfully creative\, intensely playful\, and highly enjoyable\, improv is a great way to boost your confidence\, unleash creativity\, and improve your wellbeing. You’ll experience the joy and inner playfulness that comes from improvising and challenging yourself to be in the moment! Each drop-in session is stand-alone\, so you can join any Monday without needing prior experience. \n“It’s like skydiving for the imagination.”\n \nCome play\, laugh\, and connect with yourself and others\, and leave with a lighter heart and a smile on your face. \nTo book your ticket\, simply choose your preferred date below.\n——— \nTicket sales have been moved to our new events site!\nClick here to buy tickets!\n———
URL:https://improvtheatre.co.uk/upcoming-show/lunchtime-improv-with-rebecca-macmillan-2-2/2025-12-15/
LOCATION:The Bristol Improv Theatre\, Bristol Improv Theatre\, 50 St Paul's Rd\, Clifton\, Bristol BS8 1LP\, Bristol\, BS8 1LP\, United Kingdom
CATEGORIES:Theatre School
ATTACH;FMTTYPE=image/jpeg:https://improvtheatre.co.uk/wp-content/uploads/2024/09/Rebeca-macmillan-banner.jpg
ORGANIZER;CN="The Bristol Improv Theatre":MAILTO:hello@improvtheatre.co.uk
END:VEVENT
BEGIN:VEVENT
DTSTART;TZID=Europe/London:20251217T200000
DTEND;TZID=Europe/London:20251217T230000
DTSTAMP:20260423T041853
CREATED:20250901T104414Z
LAST-MODIFIED:20251120T133138Z
UID:10002935-1766001600-1766012400@improvtheatre.co.uk
SUMMARY:This Is Your Panto!
DESCRIPTION:Wednesday – Saturday\, 17th – 20th December | 20:00\n(Doors Open 19:00)\nYou’ve never seen a panto like this… \nA hilarious new spin on a Christmas theatre tradition\, This Is Your Panto! takes suggestions from the audience and uses them to weave an entirely new panto\, complete with festive trimmings and live musical accompaniment. Even the songs are made up on the spot (Oh yes\, they are!) \nBrought to you by the Bristol Improv Theatre\, their community\, and the creative team behind the improvised musical flagship This Is Your Musical\, this show will make you laugh\, gasp\, and sing along to lift your spirits for the festive season. \nFeaturing an exciting new cast of improv talent alongside regular This Is Your Musical cast\, This Is Your Panto! will tickle your funny bone and top up your festive cheer. \nOur fully stocked bar is open before and after the show\, as well as during the interval. Serving Bristol Beer Factory draught and cans alongside an array of spirits\, soft drinks and our famous hot mulled cider as a winter warmer. \nAge Guide: 12+\nPlease be aware that the show is improvised and there may be adult themes and explicit language. Content may be inappropriate for younger children\, parental discretion is advised.\n\nClick here for the daytime\, Family-Friendly show.
URL:https://improvtheatre.co.uk/upcoming-show/this-is-your-panto/2025-12-17/
LOCATION:The Bristol Improv Theatre\, Bristol Improv Theatre\, 50 St Paul's Rd\, Clifton\, Bristol BS8 1LP\, Bristol\, BS8 1LP\, United Kingdom
CATEGORIES:Flagship Shows,Homegrown Heroes
ATTACH;FMTTYPE=image/jpeg:https://improvtheatre.co.uk/wp-content/uploads/2025/09/This-is-your-Panto-1440.jpg
ORGANIZER;CN="The Bristol Improv Theatre":MAILTO:hello@improvtheatre.co.uk
END:VEVENT
BEGIN:VEVENT
DTSTART;TZID=Europe/London:20251218T200000
DTEND;TZID=Europe/London:20251218T230000
DTSTAMP:20260423T041853
CREATED:20250901T104414Z
LAST-MODIFIED:20251120T133138Z
UID:10002936-1766088000-1766098800@improvtheatre.co.uk
SUMMARY:This Is Your Panto!
DESCRIPTION:Wednesday – Saturday\, 17th – 20th December | 20:00\n(Doors Open 19:00)\nYou’ve never seen a panto like this… \nA hilarious new spin on a Christmas theatre tradition\, This Is Your Panto! takes suggestions from the audience and uses them to weave an entirely new panto\, complete with festive trimmings and live musical accompaniment. Even the songs are made up on the spot (Oh yes\, they are!) \nBrought to you by the Bristol Improv Theatre\, their community\, and the creative team behind the improvised musical flagship This Is Your Musical\, this show will make you laugh\, gasp\, and sing along to lift your spirits for the festive season. \nFeaturing an exciting new cast of improv talent alongside regular This Is Your Musical cast\, This Is Your Panto! will tickle your funny bone and top up your festive cheer. \nOur fully stocked bar is open before and after the show\, as well as during the interval. Serving Bristol Beer Factory draught and cans alongside an array of spirits\, soft drinks and our famous hot mulled cider as a winter warmer. \nAge Guide: 12+\nPlease be aware that the show is improvised and there may be adult themes and explicit language. Content may be inappropriate for younger children\, parental discretion is advised.\n\nClick here for the daytime\, Family-Friendly show.
URL:https://improvtheatre.co.uk/upcoming-show/this-is-your-panto/2025-12-18/
LOCATION:The Bristol Improv Theatre\, Bristol Improv Theatre\, 50 St Paul's Rd\, Clifton\, Bristol BS8 1LP\, Bristol\, BS8 1LP\, United Kingdom
CATEGORIES:Flagship Shows,Homegrown Heroes
ATTACH;FMTTYPE=image/jpeg:https://improvtheatre.co.uk/wp-content/uploads/2025/09/This-is-your-Panto-1440.jpg
ORGANIZER;CN="The Bristol Improv Theatre":MAILTO:hello@improvtheatre.co.uk
END:VEVENT
BEGIN:VEVENT
DTSTART;TZID=Europe/London:20251219T200000
DTEND;TZID=Europe/London:20251219T230000
DTSTAMP:20260423T041853
CREATED:20250901T104414Z
LAST-MODIFIED:20251120T133138Z
UID:10002937-1766174400-1766185200@improvtheatre.co.uk
SUMMARY:This Is Your Panto!
DESCRIPTION:Wednesday – Saturday\, 17th – 20th December | 20:00\n(Doors Open 19:00)\nYou’ve never seen a panto like this… \nA hilarious new spin on a Christmas theatre tradition\, This Is Your Panto! takes suggestions from the audience and uses them to weave an entirely new panto\, complete with festive trimmings and live musical accompaniment. Even the songs are made up on the spot (Oh yes\, they are!) \nBrought to you by the Bristol Improv Theatre\, their community\, and the creative team behind the improvised musical flagship This Is Your Musical\, this show will make you laugh\, gasp\, and sing along to lift your spirits for the festive season. \nFeaturing an exciting new cast of improv talent alongside regular This Is Your Musical cast\, This Is Your Panto! will tickle your funny bone and top up your festive cheer. \nOur fully stocked bar is open before and after the show\, as well as during the interval. Serving Bristol Beer Factory draught and cans alongside an array of spirits\, soft drinks and our famous hot mulled cider as a winter warmer. \nAge Guide: 12+\nPlease be aware that the show is improvised and there may be adult themes and explicit language. Content may be inappropriate for younger children\, parental discretion is advised.\n\nClick here for the daytime\, Family-Friendly show.
URL:https://improvtheatre.co.uk/upcoming-show/this-is-your-panto/2025-12-19/
LOCATION:The Bristol Improv Theatre\, Bristol Improv Theatre\, 50 St Paul's Rd\, Clifton\, Bristol BS8 1LP\, Bristol\, BS8 1LP\, United Kingdom
CATEGORIES:Flagship Shows,Homegrown Heroes
ATTACH;FMTTYPE=image/jpeg:https://improvtheatre.co.uk/wp-content/uploads/2025/09/This-is-your-Panto-1440.jpg
ORGANIZER;CN="The Bristol Improv Theatre":MAILTO:hello@improvtheatre.co.uk
END:VEVENT
BEGIN:VEVENT
DTSTART;TZID=Europe/London:20251220T140000
DTEND;TZID=Europe/London:20251220T163000
DTSTAMP:20260423T041853
CREATED:20250901T112826Z
LAST-MODIFIED:20251120T132832Z
UID:10002921-1766239200-1766248200@improvtheatre.co.uk
SUMMARY:This Is Your Panto! - Family Friendly Matinee
DESCRIPTION:Saturday\, 20th December | 14:00\n(Doors Open 13:30)\nThis Panto is made up on the spot? Oh yes\, it is! Brought to you by the Bristol Improv Theatre\, their community\, and the creative team behind the improvised musical flagship This Is Your Musical\, this show will make you laugh\, gasp\, and sing along to lift your spirits for the festive season. \nA hilarious new spin on a Christmas theatre tradition\, This Is Your Panto! takes your suggestions and uses them to weave an entirely new story\, complete with classic panto trimmings and live musical accompaniment. You won’t believe that even the songs are made up on the spot (Oh yes\, they are!) \nFeaturing a brand new cast of improv talent affectionately taking on or twisting classic panto tropes\, This Is Your Panto! will tickle your funny bone and top up your festive cheer. \nOur fully stocked bar is open before and after the show\, as well as during the interval. Serving Bristol Beer Factory draught and cans alongside an array of spirits\, soft drinks and our famous hot mulled cider as a winter warmer. \nThis show is recommended for Ages 5+ \nPlease be aware that there is no-step free access to the building and no baby changing facilities on site. There are 6 steps up to the building then 18 steps down to the theatre. Children under the age of 16 must be supervised at all times. We can’t accommodate prams due to limited space within the theatre. \nClick here for the evening shows.
URL:https://improvtheatre.co.uk/upcoming-show/this-is-your-panto-family-friendly-matinee/
LOCATION:The Bristol Improv Theatre\, Bristol Improv Theatre\, 50 St Paul's Rd\, Clifton\, Bristol BS8 1LP\, Bristol\, BS8 1LP\, United Kingdom
CATEGORIES:Flagship Shows,Homegrown Heroes
ATTACH;FMTTYPE=image/jpeg:https://improvtheatre.co.uk/wp-content/uploads/2025/09/This-is-your-Panto-1440.jpg
ORGANIZER;CN="The Bristol Improv Theatre":MAILTO:hello@improvtheatre.co.uk
END:VEVENT
BEGIN:VEVENT
DTSTART;TZID=Europe/London:20251220T200000
DTEND;TZID=Europe/London:20251220T230000
DTSTAMP:20260423T041853
CREATED:20250901T104414Z
LAST-MODIFIED:20251120T133138Z
UID:10002938-1766260800-1766271600@improvtheatre.co.uk
SUMMARY:This Is Your Panto!
DESCRIPTION:Wednesday – Saturday\, 17th – 20th December | 20:00\n(Doors Open 19:00)\nYou’ve never seen a panto like this… \nA hilarious new spin on a Christmas theatre tradition\, This Is Your Panto! takes suggestions from the audience and uses them to weave an entirely new panto\, complete with festive trimmings and live musical accompaniment. Even the songs are made up on the spot (Oh yes\, they are!) \nBrought to you by the Bristol Improv Theatre\, their community\, and the creative team behind the improvised musical flagship This Is Your Musical\, this show will make you laugh\, gasp\, and sing along to lift your spirits for the festive season. \nFeaturing an exciting new cast of improv talent alongside regular This Is Your Musical cast\, This Is Your Panto! will tickle your funny bone and top up your festive cheer. \nOur fully stocked bar is open before and after the show\, as well as during the interval. Serving Bristol Beer Factory draught and cans alongside an array of spirits\, soft drinks and our famous hot mulled cider as a winter warmer. \nAge Guide: 12+\nPlease be aware that the show is improvised and there may be adult themes and explicit language. Content may be inappropriate for younger children\, parental discretion is advised.\n\nClick here for the daytime\, Family-Friendly show.
URL:https://improvtheatre.co.uk/upcoming-show/this-is-your-panto/2025-12-20/
LOCATION:The Bristol Improv Theatre\, Bristol Improv Theatre\, 50 St Paul's Rd\, Clifton\, Bristol BS8 1LP\, Bristol\, BS8 1LP\, United Kingdom
CATEGORIES:Flagship Shows,Homegrown Heroes
ATTACH;FMTTYPE=image/jpeg:https://improvtheatre.co.uk/wp-content/uploads/2025/09/This-is-your-Panto-1440.jpg
ORGANIZER;CN="The Bristol Improv Theatre":MAILTO:hello@improvtheatre.co.uk
END:VEVENT
END:VCALENDAR