BEGIN:VCALENDAR
VERSION:2.0
PRODID:-//Improv Shows &amp; Courses, Bristol | The Bristol Improv Theatre - ECPv6.15.20//NONSGML v1.0//EN
CALSCALE:GREGORIAN
METHOD:PUBLISH
X-WR-CALNAME:Improv Shows &amp; Courses, Bristol | The Bristol Improv Theatre
X-ORIGINAL-URL:https://improvtheatre.co.uk
X-WR-CALDESC:Events for Improv Shows &amp; Courses, Bristol | The Bristol Improv Theatre
REFRESH-INTERVAL;VALUE=DURATION:PT1H
X-Robots-Tag:noindex
X-PUBLISHED-TTL:PT1H
BEGIN:VTIMEZONE
TZID:UTC
BEGIN:STANDARD
TZOFFSETFROM:+0000
TZOFFSETTO:+0000
TZNAME:UTC
DTSTART:20240101T000000
END:STANDARD
END:VTIMEZONE
BEGIN:VTIMEZONE
TZID:Europe/London
BEGIN:DAYLIGHT
TZOFFSETFROM:+0000
TZOFFSETTO:+0100
TZNAME:BST
DTSTART:20240331T010000
END:DAYLIGHT
BEGIN:STANDARD
TZOFFSETFROM:+0100
TZOFFSETTO:+0000
TZNAME:GMT
DTSTART:20241027T010000
END:STANDARD
BEGIN:DAYLIGHT
TZOFFSETFROM:+0000
TZOFFSETTO:+0100
TZNAME:BST
DTSTART:20250330T010000
END:DAYLIGHT
BEGIN:STANDARD
TZOFFSETFROM:+0100
TZOFFSETTO:+0000
TZNAME:GMT
DTSTART:20251026T010000
END:STANDARD
BEGIN:DAYLIGHT
TZOFFSETFROM:+0000
TZOFFSETTO:+0100
TZNAME:BST
DTSTART:20260329T010000
END:DAYLIGHT
BEGIN:STANDARD
TZOFFSETFROM:+0100
TZOFFSETTO:+0000
TZNAME:GMT
DTSTART:20261025T010000
END:STANDARD
END:VTIMEZONE
BEGIN:VEVENT
DTSTART;TZID=UTC:20251028T183000
DTEND;TZID=UTC:20251209T210000
DTSTAMP:20260423T053750
CREATED:20250705T102950Z
LAST-MODIFIED:20260112T195339Z
UID:10002301-1761676200-1765314000@improvtheatre.co.uk
SUMMARY:Level 3: Performing Improv - Creating Characters
DESCRIPTION:28th October – 9th December | Tuesdays | 18:30 – 21:00\nBe anyone (or anything) you want to be – in improv\, the possibilities are limitless! But where to start? When you’re making spontaneous creative choices and responding on-the-fly\, it can be difficult to play a character who feels different from yourself. There’s often so much going on that you hardly have room to think about being someone else. \nThis seven-week course introduces the tools\, techniques\, and tricks used to create characters on-the-spot. You’ll explore how characters can emerge and grow through physicality\, status\, and the relationships between characters – building your confidence in stepping into another person’s shoes when you perform.\n \nWho is this course for? \n\nStudents who have completed Discovering Improv & Intro to Performing Improv and want to take the next step\nPerformers who have some improv experience and want to develop their improvised characterisation skills \nAnyone who has learned improv elsewhere and wants to start learning with the BIT school\n\n\n      \n        \n      \n    \nCLASS DETAILS\nThis course consists of 7 sessions that last for 2.5 hours each\, and will be taught by an experienced facilitator. Places are capped at 12. Like all our Performing Improv courses\, the 7th week includes a showcase performance to a supportive audience of friends\, family\, and fellow students.
URL:https://improvtheatre.co.uk/upcoming-show/level-3-performing-improv-creating-characters/
LOCATION:The Bristol Improv Theatre\, Bristol Improv Theatre\, 50 St Paul's Rd\, Clifton\, Bristol BS8 1LP\, Bristol\, BS8 1LP\, United Kingdom
CATEGORIES:Level 3 Courses,Theatre School
ATTACH;FMTTYPE=image/jpeg:https://improvtheatre.co.uk/wp-content/uploads/2025/07/Creating-Characters-scaled.jpg
ORGANIZER;CN="The Bristol Improv Theatre":MAILTO:hello@improvtheatre.co.uk
END:VEVENT
BEGIN:VEVENT
DTSTART;TZID=Europe/London:20251208T130000
DTEND;TZID=Europe/London:20251208T143000
DTSTAMP:20260423T053750
CREATED:20250721T194733Z
LAST-MODIFIED:20260401T122435Z
UID:10002461-1765198800-1765204200@improvtheatre.co.uk
SUMMARY:Lunchtime Improv with Rebecca MacMillan
DESCRIPTION:Mondays | 13:00 – 14:30\n(NO LUNCHTIME IMPROV ON 6TH APRIL 2026)\n(Please check the calendar below for dates of upcoming sessions)\nDiscover the joy of improv with Rebecca MacMillan’s lunchtime classes at Bristol Improv Theatre. These sessions are designed for creatives\, freelancers\, and everyone else who’s looking for a dose of joy in their day. Powerfully creative\, intensely playful\, and highly enjoyable\, improv is a great way to boost your confidence\, unleash creativity\, and improve your wellbeing. You’ll experience the joy and inner playfulness that comes from improvising and challenging yourself to be in the moment! Each drop-in session is stand-alone\, so you can join any Monday without needing prior experience. \n“It’s like skydiving for the imagination.”\n \nCome play\, laugh\, and connect with yourself and others\, and leave with a lighter heart and a smile on your face. \nTo book your ticket\, simply choose your preferred date below.\n——— \nTicket sales have been moved to our new events site!\nClick here to buy tickets!\n———
URL:https://improvtheatre.co.uk/upcoming-show/lunchtime-improv-with-rebecca-macmillan-2-2/2025-12-08/
LOCATION:The Bristol Improv Theatre\, Bristol Improv Theatre\, 50 St Paul's Rd\, Clifton\, Bristol BS8 1LP\, Bristol\, BS8 1LP\, United Kingdom
CATEGORIES:Theatre School
ATTACH;FMTTYPE=image/jpeg:https://improvtheatre.co.uk/wp-content/uploads/2024/09/Rebeca-macmillan-banner.jpg
ORGANIZER;CN="The Bristol Improv Theatre":MAILTO:hello@improvtheatre.co.uk
END:VEVENT
BEGIN:VEVENT
DTSTART;TZID=UTC:20251208T190000
DTEND;TZID=UTC:20251208T210000
DTSTAMP:20260423T053750
CREATED:20250705T112140Z
LAST-MODIFIED:20260202T192233Z
UID:10002482-1765220400-1765227600@improvtheatre.co.uk
SUMMARY:Improv Drop-ins
DESCRIPTION:Mondays | 19:00 – 21:00\nLooking to stretch your improvising muscles? Then our drop-ins are for you! \nOur drop-ins run every Monday evening and alternate between scene workshops and classes focused on specific skills to help you pad out your improvisers tool-kit. \nDuring our scene workshops\, you’ll receive supportive and constructive side-coaching\, tailored to the group and designed to develop your confidence and improvisation skills. On the other hand\, the regular drop-ins will take a specific skill and explore it through games\, exercises and scenes. \nFacilitated by an experienced Bristol Improv Theatre instructor\, drop-ins are a great chance to try improv at Bristol Improv Theatre and connect with others. \nAny questions\, please don’t hesitate to get in touch at theatreschool@improvtheatre.net. \nIf you are brand new to improv\, you may prefer to try the monthly Improv Taster Session. \nIf you have any accommodations or access needs\, please let us know at theatreschool@improvtheatre.net. If you are attending this class with a carer\, they do not need to buy a ticket\, but please do let us know so that we can keep an eye on class size. \nOur Improv Drop-Ins are very popular classes which regularly sell out. We would always recommend booking your place in advance in order to secure your spot. Whilst we do occasionally have drop outs and availability on the day\, we would recommend booking in advance to avoid disappointment. \nTo book your ticket\, simply choose your preferred date below.
URL:https://improvtheatre.co.uk/upcoming-show/improv-drop-ins-3-2-2-3/2025-12-08/
LOCATION:The Bristol Improv Theatre\, Bristol Improv Theatre\, 50 St Paul's Rd\, Clifton\, Bristol BS8 1LP\, Bristol\, BS8 1LP\, United Kingdom
CATEGORIES:Theatre School
ATTACH;FMTTYPE=image/jpeg:https://improvtheatre.co.uk/wp-content/uploads/2025/07/Improv-Drop-Ins-scaled.jpg
ORGANIZER;CN="The Bristol Improv Theatre":MAILTO:hello@improvtheatre.co.uk
END:VEVENT
BEGIN:VEVENT
DTSTART;TZID=UTC:20251208T193000
DTEND;TZID=UTC:20251208T203000
DTSTAMP:20260423T053750
CREATED:20251202T191908Z
LAST-MODIFIED:20251202T192158Z
UID:10002438-1765222200-1765225800@improvtheatre.co.uk
SUMMARY:Performing Improv Level 4: Exploring Narrative - Student Showcase
DESCRIPTION:Monday 8th December | Doors 19:00 | 19:30 – 20:30\nCome and see the graduates of BIT’s latest Performing Improv course as they share some of the skills they’ve been building over the 7 week course. \nOur wonderful students will be improvising stories and weaving scenes together into narratives based on your suggestions. \nFREE ENTRY – fellow students\, family and friends welcome! \nThe bar will be open from 7:00pm and the show starts at 7:30pm. Why not join us for a celebratory drink after the show? \n 
URL:https://improvtheatre.co.uk/upcoming-show/performing-improv-level-4-exploring-narrative-student-showcase/
LOCATION:The Bristol Improv Theatre\, Bristol Improv Theatre\, 50 St Paul's Rd\, Clifton\, Bristol BS8 1LP\, Bristol\, BS8 1LP\, United Kingdom
CATEGORIES:Community Event,Level 4 Courses,Theatre School
ATTACH;FMTTYPE=image/webp:https://improvtheatre.co.uk/wp-content/uploads/2024/11/Tickets-icon.webp
ORGANIZER;CN="The Bristol Improv Theatre":MAILTO:hello@improvtheatre.co.uk
END:VEVENT
BEGIN:VEVENT
DTSTART;TZID=UTC:20251209T193000
DTEND;TZID=UTC:20251209T203000
DTSTAMP:20260423T053750
CREATED:20251202T200436Z
LAST-MODIFIED:20251209T175053Z
UID:10002933-1765308600-1765312200@improvtheatre.co.uk
SUMMARY:Performing Improv Level 3: Creating Characters Student Showcase
DESCRIPTION:Tuesday 9th December | Doors 19:00 | 19:30 – 20:30\n(Doors open 19:00)\nCome and see the graduates of BIT’s latest Performing Improv Level 3 course as they share some of the skills they’ve been building over the 7 week course. Our wonderful students will be improvising characters and scenes before your eyes\, based on your suggestions. \nFREE ENTRY – fellow students\, family and friends welcome! \nThe bar will be open from 7:00pm and the show starts at 7:30pm. Why not join us for a celebratory drink after the show?
URL:https://improvtheatre.co.uk/upcoming-show/performing-improv-level-3-creating-characters-student-showcase-2/
LOCATION:The Bristol Improv Theatre\, Bristol Improv Theatre\, 50 St Paul's Rd\, Clifton\, Bristol BS8 1LP\, Bristol\, BS8 1LP\, United Kingdom
CATEGORIES:Community Event,Level 3 Courses,Theatre School
ATTACH;FMTTYPE=image/jpeg:https://improvtheatre.co.uk/wp-content/uploads/2023/02/TheatreJam_03January2019_WebResolution_Pullen-1601-1.jpg
ORGANIZER;CN="The Bristol Improv Theatre":MAILTO:hello@improvtheatre.co.uk
END:VEVENT
BEGIN:VEVENT
DTSTART;TZID=UTC:20251210T193000
DTEND;TZID=UTC:20251210T210000
DTSTAMP:20260423T053750
CREATED:20250908T140222Z
LAST-MODIFIED:20251209T175155Z
UID:10002934-1765395000-1765400400@improvtheatre.co.uk
SUMMARY:The Harold made easy with Maria Peters STUDENT SHOWCASE
DESCRIPTION:Wednesday 10th December | 19:30 – 21:00\n(Doors open 19:00)\nCome and see the graduates of the BIT’s The Harold made easy made easy course as they share some of the skills they’ve been building over the 6 week course. \nOur wonderful students will be improvising this improv comedy form\, based on your suggestions. \nFREE ENTRY – fellow students\, family and friends welcome! \nThe bar will be open from 7:00pm and the show starts at 7:30pm. Why not join us for a celebratory drink after the show?
URL:https://improvtheatre.co.uk/upcoming-show/performing-improv-l1-singing-songs-student-showcase-2/
LOCATION:The Bristol Improv Theatre\, Bristol Improv Theatre\, 50 St Paul's Rd\, Clifton\, Bristol BS8 1LP\, Bristol\, BS8 1LP\, United Kingdom
CATEGORIES:Community Event,Theatre School
ATTACH;FMTTYPE=image/png:https://improvtheatre.co.uk/wp-content/uploads/2025/09/Chicago-2013-scaled.png
ORGANIZER;CN="The Bristol Improv Theatre":MAILTO:hello@improvtheatre.co.uk
END:VEVENT
BEGIN:VEVENT
DTSTART;TZID=Europe/London:20251211T193000
DTEND;TZID=Europe/London:20251211T213000
DTSTAMP:20260423T053750
CREATED:20251210T110838Z
LAST-MODIFIED:20251210T110843Z
UID:10002948-1765481400-1765488600@improvtheatre.co.uk
SUMMARY:The Drag Dungeoneers
DESCRIPTION:Thursday 11th December | 19:30\n(NEW TIME: Doors Open from 18:30)\nCLICK TO BOOK NOW \nBristol’s no.1 show that slays… literally.  \nRunning since 2022\, The Drag Dungeoneers is a loose narrative monster-of-the-week style D&D live show adventure\, featuring some of Bristol’s finest drag nerds.  \nExpect to encounter sexy NPCs and sexier monsters\, all with a healthy dose of improv\, audience interaction\, and utter nonsense. \nDon’t know the rules of DND? Don’t worry\, neither does most of the cast! The Drag Dungeoneers is designed to be enjoyed by anyone no matter what subclass of nerd they decided to spend their skill points in. \n  \n“Truly one of the silliest shows in Bristol\, I have cried with laughter every time.” \n“A perfect blend of chaotic humour\, pop culture references and whimsical storytelling.” \n““An absolute riot of a good time. Whether you’re a DnD fanatic or not\,” \n“Highlight of my month every month. Funny\, queer\, fantastic fun” \n  \nStarring \nBooHoo Mann \nJersey The Devil  \nYuGiHoe \nVaccine \n– \nTickets: \nStandard – £12\nConcessions – £9 \nAccessibility information:\nThe Bristol Improv Theatre’s entrance contains stairs and there isn’t a bathroom suitable for wheelchair users. The rear entrance requires fewer stairs and has wider access so may be suitable for those with limited mobility. For any further questions please email thedragdungeoneers@gmail.com\n\nThe show contains no flashing lights\, but occasional sudden loud sounds – mostly Jersey the Devil’s laugh. \nEntry requirements: 18+\, any under 18s accompanied by 21+ adult 1:1 ratio \nCLICK TO BOOK NOW
URL:https://improvtheatre.co.uk/upcoming-show/the-drag-dungeoneers-2-2/
LOCATION:The Bristol Improv Theatre\, Bristol Improv Theatre\, 50 St Paul's Rd\, Clifton\, Bristol BS8 1LP\, Bristol\, BS8 1LP\, United Kingdom
CATEGORIES:Flagship Shows
ATTACH;FMTTYPE=image/jpeg:https://improvtheatre.co.uk/wp-content/uploads/2025/07/TDD-scaled.jpg
ORGANIZER;CN="The Bristol Improv Theatre":MAILTO:hello@improvtheatre.co.uk
END:VEVENT
BEGIN:VEVENT
DTSTART;TZID=UTC:20251213T140000
DTEND;TZID=UTC:20251213T160000
DTSTAMP:20260423T053750
CREATED:20250611T183626Z
LAST-MODIFIED:20260202T170252Z
UID:10002285-1765634400-1765641600@improvtheatre.co.uk
SUMMARY:Improv Taster Session
DESCRIPTION:Saturdays | 14:00 – 16:00\n(Please see below for dates of upcoming sessions)\nApproximately twice a month\, we run the Improv Taster Session for anyone looking to try their hand at improvisation before committing to a course. \nFacilitated by an experienced Bristol Improv Theatre instructor\, the class will explore the fundamental skills of improvisation using a smorgasbord of improv games and exercises. It’s a great chance to try improv and connect with others in a playful way. \nCome along and give improv a go! \nPlaces are capped at 20 with up to 2 instructors present. \nAny questions\, please don’t hesitate to get in touch at theatreschool@improvtheatre.net. \nIf you have any accommodations or access needs\, please let us know at theatreschool@improvtheatre.net. If you are attending this class with a carer\, they do not need to buy a ticket\, but please do let us know so that we can keep an eye on class size. \nTo book your ticket\, simply choose your preferred date from below.
URL:https://improvtheatre.co.uk/upcoming-show/improv-taster-session-3/2025-12-13/
LOCATION:The Bristol Improv Theatre\, Bristol Improv Theatre\, 50 St Paul's Rd\, Clifton\, Bristol BS8 1LP\, Bristol\, BS8 1LP\, United Kingdom
CATEGORIES:Theatre School
ATTACH;FMTTYPE=image/jpeg:https://improvtheatre.co.uk/wp-content/uploads/2025/09/Improv-Taster-scaled.jpg
ORGANIZER;CN="The Bristol Improv Theatre":MAILTO:hello@improvtheatre.co.uk
END:VEVENT
BEGIN:VEVENT
DTSTART;TZID=Europe/London:20251213T193000
DTEND;TZID=Europe/London:20251213T213000
DTSTAMP:20260423T053750
CREATED:20250903T130708Z
LAST-MODIFIED:20251009T141332Z
UID:10002929-1765654200-1765661400@improvtheatre.co.uk
SUMMARY:Maydays Present: Happily Never After
DESCRIPTION:Saturday\, 13th December | 19:30\n(Doors open 19:00)\nOn the 13th of December\, the Maydays invite you to hold on to some nightmares before giving in to Christmas when they bring their 5-star improvised show\, Happily Never After\, to the Bristol Improv Theatre. A ‘darkly comedic’ twisted musical tale inspired by gothic themes\, fairytales\, and the warped imaginations that brought us Lemony Snicket\, Beetlejuice\, Shockheaded Peter and Grimm’s Tales. \nPlucked from the seed of your suggestion\, The Maydays will take you on a unique journey – weaving a gothic tale that’s completely different every time. There’s no telling what strange characters\, innocent beasts or talking objects you might meet along the way! \nThe Maydays have been wowing audiences across the UK and Europe with packed houses and standing ovations for their spontaneous show\, which Reviews Hub called ‘touching\, incredibly funny’ and ‘rich in narrative twists and charm’. \nWith a bespoke\, improvised soundtrack for every show\, this will be a truly creepy\, mischievous and fantastical experience.
URL:https://improvtheatre.co.uk/upcoming-show/maydays-present-happily-never-after/
LOCATION:The Bristol Improv Theatre\, Bristol Improv Theatre\, 50 St Paul's Rd\, Clifton\, Bristol BS8 1LP\, Bristol\, BS8 1LP\, United Kingdom
CATEGORIES:Visiting Acts
ATTACH;FMTTYPE=image/jpeg:https://improvtheatre.co.uk/wp-content/uploads/2025/09/1920x1080-HNA-pic-only-.jpg
ORGANIZER;CN="The Bristol Improv Theatre":MAILTO:hello@improvtheatre.co.uk
END:VEVENT
BEGIN:VEVENT
DTSTART;TZID=Europe/London:20251214T100000
DTEND;TZID=Europe/London:20251214T160000
DTSTAMP:20260423T053750
CREATED:20251029T215843Z
LAST-MODIFIED:20251029T215843Z
UID:10002956-1765706400-1765728000@improvtheatre.co.uk
SUMMARY:Character\, Story & Song with The Maydays
DESCRIPTION:14th December | Sunday | 10:00 – 16:00\n  \nJoin Liz Peters\, Rebecca MacMillan and Joe Samuel for a musical improv workshop inspired by The Maydays’ acclaimed improvised musical show Happily Never After\, as part of their tour to Bristol Improv Theatre. Together we’ll explore the beautiful\, bizarre and delightfully dark corners of creating theatre through spontaneous song. \nThis intensive is for intermediate to experienced improvisers with some musical improv experience who want to push their skills in singing\, movement and ensemble musical storytelling beyond the obvious. Dive into the playful\, unpredictable world of musical improv through: \n\nCharacter-driven musical scenes inspired by fairy tales and whimsical narratives.\n\n\nGroup harmonies\, counterpoint and soundscapes to sharpen your listening skills and evoke atmospheres. \n\n\nPhysicality: playful ensemble movement and compelling stage presence.\n\n\nHaunting melodies\, stirring rhythms and unconventional musical styles.\n\n\nCollaborative freeform musical storytelling with emotional depth and theatricality.\n\nExpect creative risk-taking\, and spontaneous musical magic. By the end of the workshop\, you’ll have new tools for integrating song\, character and theatricality into your improvisation — and the confidence to explore musical improv in bold\, surprising ways. \nMagical\, gothic\, otherworldly\, but always playful; just bring your energy\, your imagination and a willingness to get weird! \nMore about the tutors and The Maydays \nWith a history spanning over twenty years\, The Maydays – an award-winning Brighton based improv company – were UK pioneers of longform and music improvisation\, both in performance and running improv classes and retreats. Having taught throughout the UK and Europe\, there are many improv communities that have their roots in Maydays teaching. Their show Happily Never After\, which toured internationally as well as multiple Edinburgh Fringes\, has been revived this year and plays at the BIT on 13th December. Now predominantly a performance company\, this is a rare opportunity to learn with two of the longest standing Maydays company members Liz Peters (Yes Anderson\, Bumper Blyton) & Rebecca MacMillan (Closer Each Day\, Impromptu Shakespeare)\, together with Joe Samuel\, who is widely regarded as one of the world’s best improv musicians.  \nMore about the instructors: \nRebecca MacMillan\nRebecca has been teaching for over twenty years and has been learning and performing improv since before then\, taking inspiration from a huge range of schools\, teachers and other influences. She’s active in developing an improv community in Stroud\, where she lives\, and also teaches in collaboration with the Bristol Improv Theatre.  \nThe past year saw her teach at the Robin Hood International Improv Festival in Nottingham\, Birmingham Improv Festival and Gather Improv Festival in Ireland. Co-founder of the Maydays\,  she also performs with Closer Each Day\, Impromptu Shakespeare\, Le Wronge and The Library of Forgotten Books with Anděl Sudik.  \nRebecca is a nurturing and supportive teacher with a playful sparkle. She loves to help improvisers discover their improv superpowers\, lean into and take joy from them. Outside of improv\, she dances in amazing places with legendary folksters Boss Morris. \nLiz Peters \nLiz has been performing professionally for 20+ years\, having trained as an actor at Mountview before studying improv at iO Chicago and with many teachers from other improv schools.  \nA player with The Maydays since 2009\, she has improvised and taught across Europe at numerous festivals and performs regularly at Komedia Brighton.  Liz is part of Ohana\, an international collective of improvisers committed to developing our craft\, and performs with other teams including Bumper Blyton\, Le Wronge\, Yes Queens and Yes Anderson – an improvised Wes Anderson style show. \nShe created a solo musical comedy ‘Toybox’\, which earned her a Best Female Performer nomination at Brighton Fringe. Offstage\, Liz uses improv and embodiment as a training tool for organisations and individuals\, and wrote the non-fiction book ‘Own It’\,  for which she also narrates the audiobook. \nShe likes being underwater and eating potatoes in all their forms\, though not at the same time.  \nJoe Samuel \nJoe trained in Music at Royal Holloway University and went on to perform in bands\, and then became Musical Director of The Treason Show and The Maydays both based in Brighton.  He has been the Musical Director of many European Improv Festivals including Barcelona\, Amsterdam and Lyon\, to name but a few.  He has performed with many of the Improv Troupes in the UK and abroad\, collaborating with Joe Bill and Heather with ‘Blues Hammer’ and performing with the likes of Stacey Smith\, Patty Stiles and Jill Bernard. \nJoe conceived and directed ‘Happily Never After’ with The Maydays\, which was performed throughout Europe and at the Edinburgh Festival to much acclaim.  He is one of the few improv musicians worldwide who plays online for workshops and shows. He has also co-written a book on musical improv\, as well as creating content around music theory and harmony. \nAs a musician and coach\, Joe specialises in developing the relationship between musician and on-stage improviser\, encouraging people to use and respond to music in scenes as well as songs and full-length improvised musicals.
URL:https://improvtheatre.co.uk/upcoming-show/character-story-song-with-the-maydays/
LOCATION:The Bristol Improv Theatre\, Bristol Improv Theatre\, 50 St Paul's Rd\, Clifton\, Bristol BS8 1LP\, Bristol\, BS8 1LP\, United Kingdom
CATEGORIES:Guest Workshops,Theatre School
ATTACH;FMTTYPE=image/jpeg:https://improvtheatre.co.uk/wp-content/uploads/2025/10/LP-JS-RM-Maydays.jpg
ORGANIZER;CN="The Bristol Improv Theatre":MAILTO:hello@improvtheatre.co.uk
END:VEVENT
END:VCALENDAR