BEGIN:VCALENDAR
VERSION:2.0
PRODID:-//Improv Shows &amp; Courses, Bristol | The Bristol Improv Theatre - ECPv6.15.20//NONSGML v1.0//EN
CALSCALE:GREGORIAN
METHOD:PUBLISH
X-WR-CALNAME:Improv Shows &amp; Courses, Bristol | The Bristol Improv Theatre
X-ORIGINAL-URL:https://improvtheatre.co.uk
X-WR-CALDESC:Events for Improv Shows &amp; Courses, Bristol | The Bristol Improv Theatre
REFRESH-INTERVAL;VALUE=DURATION:PT1H
X-Robots-Tag:noindex
X-PUBLISHED-TTL:PT1H
BEGIN:VTIMEZONE
TZID:Europe/London
BEGIN:DAYLIGHT
TZOFFSETFROM:+0000
TZOFFSETTO:+0100
TZNAME:BST
DTSTART:20240331T010000
END:DAYLIGHT
BEGIN:STANDARD
TZOFFSETFROM:+0100
TZOFFSETTO:+0000
TZNAME:GMT
DTSTART:20241027T010000
END:STANDARD
BEGIN:DAYLIGHT
TZOFFSETFROM:+0000
TZOFFSETTO:+0100
TZNAME:BST
DTSTART:20250330T010000
END:DAYLIGHT
BEGIN:STANDARD
TZOFFSETFROM:+0100
TZOFFSETTO:+0000
TZNAME:GMT
DTSTART:20251026T010000
END:STANDARD
BEGIN:DAYLIGHT
TZOFFSETFROM:+0000
TZOFFSETTO:+0100
TZNAME:BST
DTSTART:20260329T010000
END:DAYLIGHT
BEGIN:STANDARD
TZOFFSETFROM:+0100
TZOFFSETTO:+0000
TZNAME:GMT
DTSTART:20261025T010000
END:STANDARD
END:VTIMEZONE
BEGIN:VTIMEZONE
TZID:UTC
BEGIN:STANDARD
TZOFFSETFROM:+0000
TZOFFSETTO:+0000
TZNAME:UTC
DTSTART:20240101T000000
END:STANDARD
END:VTIMEZONE
BEGIN:VEVENT
DTSTART;TZID=Europe/London:20251013T130000
DTEND;TZID=Europe/London:20251013T143000
DTSTAMP:20260422T150612
CREATED:20250721T194733Z
LAST-MODIFIED:20260401T122435Z
UID:10002453-1760360400-1760365800@improvtheatre.co.uk
SUMMARY:Lunchtime Improv with Rebecca MacMillan
DESCRIPTION:Mondays | 13:00 – 14:30\n(NO LUNCHTIME IMPROV ON 6TH APRIL 2026)\n(Please check the calendar below for dates of upcoming sessions)\nDiscover the joy of improv with Rebecca MacMillan’s lunchtime classes at Bristol Improv Theatre. These sessions are designed for creatives\, freelancers\, and everyone else who’s looking for a dose of joy in their day. Powerfully creative\, intensely playful\, and highly enjoyable\, improv is a great way to boost your confidence\, unleash creativity\, and improve your wellbeing. You’ll experience the joy and inner playfulness that comes from improvising and challenging yourself to be in the moment! Each drop-in session is stand-alone\, so you can join any Monday without needing prior experience. \n“It’s like skydiving for the imagination.”\n \nCome play\, laugh\, and connect with yourself and others\, and leave with a lighter heart and a smile on your face. \nTo book your ticket\, simply choose your preferred date below.\n——— \nTicket sales have been moved to our new events site!\nClick here to buy tickets!\n———
URL:https://improvtheatre.co.uk/upcoming-show/lunchtime-improv-with-rebecca-macmillan-2-2/2025-10-13/
LOCATION:The Bristol Improv Theatre\, Bristol Improv Theatre\, 50 St Paul's Rd\, Clifton\, Bristol BS8 1LP\, Bristol\, BS8 1LP\, United Kingdom
CATEGORIES:Theatre School
ATTACH;FMTTYPE=image/jpeg:https://improvtheatre.co.uk/wp-content/uploads/2024/09/Rebeca-macmillan-banner.jpg
ORGANIZER;CN="The Bristol Improv Theatre":MAILTO:hello@improvtheatre.co.uk
END:VEVENT
BEGIN:VEVENT
DTSTART;TZID=UTC:20251013T190000
DTEND;TZID=UTC:20251013T210000
DTSTAMP:20260422T150612
CREATED:20250705T112140Z
LAST-MODIFIED:20260202T192233Z
UID:10002474-1760382000-1760389200@improvtheatre.co.uk
SUMMARY:Improv Drop-ins
DESCRIPTION:Mondays | 19:00 – 21:00\nLooking to stretch your improvising muscles? Then our drop-ins are for you! \nOur drop-ins run every Monday evening and alternate between scene workshops and classes focused on specific skills to help you pad out your improvisers tool-kit. \nDuring our scene workshops\, you’ll receive supportive and constructive side-coaching\, tailored to the group and designed to develop your confidence and improvisation skills. On the other hand\, the regular drop-ins will take a specific skill and explore it through games\, exercises and scenes. \nFacilitated by an experienced Bristol Improv Theatre instructor\, drop-ins are a great chance to try improv at Bristol Improv Theatre and connect with others. \nAny questions\, please don’t hesitate to get in touch at theatreschool@improvtheatre.net. \nIf you are brand new to improv\, you may prefer to try the monthly Improv Taster Session. \nIf you have any accommodations or access needs\, please let us know at theatreschool@improvtheatre.net. If you are attending this class with a carer\, they do not need to buy a ticket\, but please do let us know so that we can keep an eye on class size. \nOur Improv Drop-Ins are very popular classes which regularly sell out. We would always recommend booking your place in advance in order to secure your spot. Whilst we do occasionally have drop outs and availability on the day\, we would recommend booking in advance to avoid disappointment. \nTo book your ticket\, simply choose your preferred date below.
URL:https://improvtheatre.co.uk/upcoming-show/improv-drop-ins-3-2-2-3/2025-10-13/
LOCATION:The Bristol Improv Theatre\, Bristol Improv Theatre\, 50 St Paul's Rd\, Clifton\, Bristol BS8 1LP\, Bristol\, BS8 1LP\, United Kingdom
CATEGORIES:Theatre School
ATTACH;FMTTYPE=image/jpeg:https://improvtheatre.co.uk/wp-content/uploads/2025/07/Improv-Drop-Ins-scaled.jpg
ORGANIZER;CN="The Bristol Improv Theatre":MAILTO:hello@improvtheatre.co.uk
END:VEVENT
BEGIN:VEVENT
DTSTART;TZID=UTC:20251017T200000
DTEND;TZID=UTC:20251017T220000
DTSTAMP:20260422T150612
CREATED:20230904T150049Z
LAST-MODIFIED:20250822T144346Z
UID:10002120-1760731200-1760738400@improvtheatre.co.uk
SUMMARY:This Is Your Musical
DESCRIPTION:Friday 22nd August | 20:00\nFriday 19th September | 20:00\nFriday 17th October | 20:00\nFriday 21st November | 20:00\n(Doors open 19:30)\nPrepare to be amazed as you witness the creation of a brand new musical theatre show\, courtesy of The Bristol Improv Theatre’s flagship musical theatre company\, This Is Your Musical! \nTake your seats as this team of talented actors and musicians present a magnificent evening of theatre\, musical numbers and show-tunes\, made-up on the spot and inspired by your stories. \nThis night of musical fun is not to be missed! \nTo book your ticket\, simply choose your preferred date from the calendar below
URL:https://improvtheatre.co.uk/upcoming-show/this-is-your-musical-2/2025-10-17/
LOCATION:The Bristol Improv Theatre\, Bristol Improv Theatre\, 50 St Paul's Rd\, Clifton\, Bristol BS8 1LP\, Bristol\, BS8 1LP\, United Kingdom
CATEGORIES:Flagship Shows
ATTACH;FMTTYPE=image/jpeg:https://improvtheatre.co.uk/wp-content/uploads/2022/12/014-November-18-2022-This-Is-Your-Musical-scaled.jpg
ORGANIZER;CN="The Bristol Improv Theatre":MAILTO:hello@improvtheatre.co.uk
END:VEVENT
BEGIN:VEVENT
DTSTART;TZID=Europe/London:20251018T193000
DTEND;TZID=Europe/London:20251018T213000
DTSTAMP:20260422T150612
CREATED:20250715T125407Z
LAST-MODIFIED:20250715T125407Z
UID:10002445-1760815800-1760823000@improvtheatre.co.uk
SUMMARY:Tasklord
DESCRIPTION:Saturday 18th October | 19:30 – 21:30\n(Doors open 19:00)\n  \n5 improvisers\, a series of ridiculous tasks and 1 almighty Tasklord to judge them all. \n  \nTasklord is a live comedy show that brings together some of the most inventive and quick-thinking performers from the local improv scene to take on a range of unusual and entertaining challenges. Expect an evening of creativity\, competition\, and spontaneous fun. \n  \nEach contestant must approach the tasks in their own unique way\, relying on their wit\, imagination\, and spontaneity to outdo their fellow competitors in both pre-prepared tasks and entirely unexpected live tasks in the theatre. Points will be awarded for creativity\, ingenuity\, and sheer audacity – but fairness is not guaranteed\, and the Tasklord’s decisions are final. \n  \nWhether you’re a fan of improv\, a lover of live comedy\, or just curious to see what happens when performers are thrown into unpredictable situations\, Tasklord offers a warm\, funny\, and entertaining view into the minds of these performers. Come for the chaos\, stay for the comedy.
URL:https://improvtheatre.co.uk/upcoming-show/tasklord/
LOCATION:The Bristol Improv Theatre\, Bristol Improv Theatre\, 50 St Paul's Rd\, Clifton\, Bristol BS8 1LP\, Bristol\, BS8 1LP\, United Kingdom
CATEGORIES:Visiting Acts
ATTACH;FMTTYPE=image/jpeg:https://improvtheatre.co.uk/wp-content/uploads/2025/07/Tasklord-Listing-Banner-1.jpg
ORGANIZER;CN="The Bristol Improv Theatre":MAILTO:hello@improvtheatre.co.uk
END:VEVENT
END:VCALENDAR