BEGIN:VCALENDAR
VERSION:2.0
PRODID:-//Improv Shows &amp; Courses, Bristol | The Bristol Improv Theatre - ECPv6.15.20//NONSGML v1.0//EN
CALSCALE:GREGORIAN
METHOD:PUBLISH
X-ORIGINAL-URL:https://improvtheatre.co.uk
X-WR-CALDESC:Events for Improv Shows &amp; Courses, Bristol | The Bristol Improv Theatre
REFRESH-INTERVAL;VALUE=DURATION:PT1H
X-Robots-Tag:noindex
X-PUBLISHED-TTL:PT1H
BEGIN:VTIMEZONE
TZID:Europe/London
BEGIN:DAYLIGHT
TZOFFSETFROM:+0000
TZOFFSETTO:+0100
TZNAME:BST
DTSTART:20240331T010000
END:DAYLIGHT
BEGIN:STANDARD
TZOFFSETFROM:+0100
TZOFFSETTO:+0000
TZNAME:GMT
DTSTART:20241027T010000
END:STANDARD
BEGIN:DAYLIGHT
TZOFFSETFROM:+0000
TZOFFSETTO:+0100
TZNAME:BST
DTSTART:20250330T010000
END:DAYLIGHT
BEGIN:STANDARD
TZOFFSETFROM:+0100
TZOFFSETTO:+0000
TZNAME:GMT
DTSTART:20251026T010000
END:STANDARD
BEGIN:DAYLIGHT
TZOFFSETFROM:+0000
TZOFFSETTO:+0100
TZNAME:BST
DTSTART:20260329T010000
END:DAYLIGHT
BEGIN:STANDARD
TZOFFSETFROM:+0100
TZOFFSETTO:+0000
TZNAME:GMT
DTSTART:20261025T010000
END:STANDARD
END:VTIMEZONE
BEGIN:VTIMEZONE
TZID:UTC
BEGIN:STANDARD
TZOFFSETFROM:+0000
TZOFFSETTO:+0000
TZNAME:UTC
DTSTART:20240101T000000
END:STANDARD
END:VTIMEZONE
BEGIN:VEVENT
DTSTART;TZID=Europe/London:20250915T130000
DTEND;TZID=Europe/London:20250915T143000
DTSTAMP:20260423T042652
CREATED:20250721T194733Z
LAST-MODIFIED:20260401T122435Z
UID:10002449-1757941200-1757946600@improvtheatre.co.uk
SUMMARY:Lunchtime Improv with Rebecca MacMillan
DESCRIPTION:Mondays | 13:00 – 14:30\n(NO LUNCHTIME IMPROV ON 6TH APRIL 2026)\n(Please check the calendar below for dates of upcoming sessions)\nDiscover the joy of improv with Rebecca MacMillan’s lunchtime classes at Bristol Improv Theatre. These sessions are designed for creatives\, freelancers\, and everyone else who’s looking for a dose of joy in their day. Powerfully creative\, intensely playful\, and highly enjoyable\, improv is a great way to boost your confidence\, unleash creativity\, and improve your wellbeing. You’ll experience the joy and inner playfulness that comes from improvising and challenging yourself to be in the moment! Each drop-in session is stand-alone\, so you can join any Monday without needing prior experience. \n“It’s like skydiving for the imagination.”\n \nCome play\, laugh\, and connect with yourself and others\, and leave with a lighter heart and a smile on your face. \nTo book your ticket\, simply choose your preferred date below.\n——— \nTicket sales have been moved to our new events site!\nClick here to buy tickets!\n———
URL:https://improvtheatre.co.uk/upcoming-show/lunchtime-improv-with-rebecca-macmillan-2-2/2025-09-15/
LOCATION:The Bristol Improv Theatre\, Bristol Improv Theatre\, 50 St Paul's Rd\, Clifton\, Bristol BS8 1LP\, Bristol\, BS8 1LP\, United Kingdom
CATEGORIES:Theatre School
ATTACH;FMTTYPE=image/jpeg:https://improvtheatre.co.uk/wp-content/uploads/2024/09/Rebeca-macmillan-banner.jpg
ORGANIZER;CN="The Bristol Improv Theatre":MAILTO:hello@improvtheatre.co.uk
END:VEVENT
BEGIN:VEVENT
DTSTART;TZID=UTC:20250915T190000
DTEND;TZID=UTC:20250915T210000
DTSTAMP:20260423T042652
CREATED:20250705T112140Z
LAST-MODIFIED:20260202T192233Z
UID:10003107-1757962800-1757970000@improvtheatre.co.uk
SUMMARY:Improv Drop-ins
DESCRIPTION:Mondays | 19:00 – 21:00\nLooking to stretch your improvising muscles? Then our drop-ins are for you! \nOur drop-ins run every Monday evening and alternate between scene workshops and classes focused on specific skills to help you pad out your improvisers tool-kit. \nDuring our scene workshops\, you’ll receive supportive and constructive side-coaching\, tailored to the group and designed to develop your confidence and improvisation skills. On the other hand\, the regular drop-ins will take a specific skill and explore it through games\, exercises and scenes. \nFacilitated by an experienced Bristol Improv Theatre instructor\, drop-ins are a great chance to try improv at Bristol Improv Theatre and connect with others. \nAny questions\, please don’t hesitate to get in touch at theatreschool@improvtheatre.net. \nIf you are brand new to improv\, you may prefer to try the monthly Improv Taster Session. \nIf you have any accommodations or access needs\, please let us know at theatreschool@improvtheatre.net. If you are attending this class with a carer\, they do not need to buy a ticket\, but please do let us know so that we can keep an eye on class size. \nOur Improv Drop-Ins are very popular classes which regularly sell out. We would always recommend booking your place in advance in order to secure your spot. Whilst we do occasionally have drop outs and availability on the day\, we would recommend booking in advance to avoid disappointment. \nTo book your ticket\, simply choose your preferred date below.
URL:https://improvtheatre.co.uk/upcoming-show/improv-drop-ins-3-2-2-3/2025-09-15/
LOCATION:The Bristol Improv Theatre\, Bristol Improv Theatre\, 50 St Paul's Rd\, Clifton\, Bristol BS8 1LP\, Bristol\, BS8 1LP\, United Kingdom
CATEGORIES:Theatre School
ATTACH;FMTTYPE=image/jpeg:https://improvtheatre.co.uk/wp-content/uploads/2025/07/Improv-Drop-Ins-scaled.jpg
ORGANIZER;CN="The Bristol Improv Theatre":MAILTO:hello@improvtheatre.co.uk
END:VEVENT
BEGIN:VEVENT
DTSTART;TZID=UTC:20250915T190000
DTEND;TZID=UTC:20250915T210000
DTSTAMP:20260423T042652
CREATED:20250915T145858Z
LAST-MODIFIED:20250915T145859Z
UID:10002470-1757962800-1757970000@improvtheatre.co.uk
SUMMARY:Improv Drop-ins
DESCRIPTION:Mondays | 19:00 – 21:00  CANCELLED\nLooking to stretch your improvising muscles? Then our drop-ins are for you! \nOur drop-ins run every Monday evening and alternate between scene workshops and classes focused on specific skills to help you pad out your improvisers tool-kit. \nDuring our scene workshops\, you’ll receive supportive and constructive side-coaching\, tailored to the group and designed to develop your confidence and improvisation skills. On the other hand\, the regular drop-ins will take a specific skill and explore it through games\, exercises and scenes. \nFacilitated by an experienced Bristol Improv Theatre instructor\, drop-ins are a great chance to try improv at Bristol Improv Theatre and connect with others. \nAny questions\, please don’t hesitate to get in touch at theatreschool@improvtheatre.net. \nIf you are brand new to improv\, you may prefer to try the monthly Improv Taster Session. \nIf you have any accommodations or access needs\, please let us know at theatreschool@improvtheatre.net. If you are attending this class with a carer\, they do not need to buy a ticket\, but please do let us know so that we can keep an eye on class size. \nOur Improv Drop-Ins are very popular classes which regularly sell out. We would always recommend booking your place in advance in order to secure your spot. Whilst we do occasionally have drop outs and availability on the day\, we would recommend booking in advance to avoid disappointment. \nTo book your ticket\, simply choose your preferred date below.
URL:https://improvtheatre.co.uk/upcoming-show/improv-drop-ins-3-2-2-3-2/
LOCATION:The Bristol Improv Theatre\, Bristol Improv Theatre\, 50 St Paul's Rd\, Clifton\, Bristol BS8 1LP\, Bristol\, BS8 1LP\, United Kingdom
CATEGORIES:Theatre School
ATTACH;FMTTYPE=image/jpeg:https://improvtheatre.co.uk/wp-content/uploads/2023/03/6-731x1024-portrait-opt.jpg
ORGANIZER;CN="The Bristol Improv Theatre":MAILTO:hello@improvtheatre.co.uk
END:VEVENT
BEGIN:VEVENT
DTSTART;TZID=UTC:20250917T193000
DTEND;TZID=UTC:20250917T220000
DTSTAMP:20260423T042652
CREATED:20250811T192459Z
LAST-MODIFIED:20250815T130217Z
UID:10002542-1758137400-1758146400@improvtheatre.co.uk
SUMMARY:La La Bar
DESCRIPTION:Wednesday 17th | 19:30\n(Doors open 19:00)\n\n\n\n\nJoin us at the Bristol Improv Theatre for our musical theatre open mic night with live piano accompaniment! \nFrom performance pros to absolute beginners\, this is a welcome-all night where anyone can get on stage to share their favourite songs and stories. Regale us with a classic or introduce the room to a musical they’ve never heard of. \nIf you’re not quite ready to jump on stage and take the mic\, there are still chances to join in with the group numbers. \nFriendly compering provided by Caitlin Campbell\, musical stylings courtesy of Sara Garrard.  \nWant to sing at La La Bar? Please send your submissions to lalabarsingers@gmail.com before Saturday 1st March to be sure of your slot!  \nTickets are “pay what you decide”\, with a suggested donation of £5 or a supporter donation level of £10.  Please book your ticket below and use the donation box to decide how much you would like to pay or book the recommended £5 or £10 donation ticket. All proceeds go to our live pianist. \nWe recommend booking in advance; if we reach capacity on the night we may have to turn away people who have not pre-booked.
URL:https://improvtheatre.co.uk/upcoming-show/la-la-bar-3/
LOCATION:The Bristol Improv Theatre\, Bristol Improv Theatre\, 50 St Paul's Rd\, Clifton\, Bristol BS8 1LP\, Bristol\, BS8 1LP\, United Kingdom
CATEGORIES:Community Event
ATTACH;FMTTYPE=image/jpeg:https://improvtheatre.co.uk/wp-content/uploads/2023/11/La-La-Bar-cover-image.jpg
ORGANIZER;CN="The Bristol Improv Theatre":MAILTO:hello@improvtheatre.co.uk
END:VEVENT
BEGIN:VEVENT
DTSTART;TZID=UTC:20250919T200000
DTEND;TZID=UTC:20250919T220000
DTSTAMP:20260423T042652
CREATED:20230904T150049Z
LAST-MODIFIED:20250822T144346Z
UID:10002119-1758312000-1758319200@improvtheatre.co.uk
SUMMARY:This Is Your Musical
DESCRIPTION:Friday 22nd August | 20:00\nFriday 19th September | 20:00\nFriday 17th October | 20:00\nFriday 21st November | 20:00\n(Doors open 19:30)\nPrepare to be amazed as you witness the creation of a brand new musical theatre show\, courtesy of The Bristol Improv Theatre’s flagship musical theatre company\, This Is Your Musical! \nTake your seats as this team of talented actors and musicians present a magnificent evening of theatre\, musical numbers and show-tunes\, made-up on the spot and inspired by your stories. \nThis night of musical fun is not to be missed! \nTo book your ticket\, simply choose your preferred date from the calendar below
URL:https://improvtheatre.co.uk/upcoming-show/this-is-your-musical-2/2025-09-19/
LOCATION:The Bristol Improv Theatre\, Bristol Improv Theatre\, 50 St Paul's Rd\, Clifton\, Bristol BS8 1LP\, Bristol\, BS8 1LP\, United Kingdom
CATEGORIES:Flagship Shows
ATTACH;FMTTYPE=image/jpeg:https://improvtheatre.co.uk/wp-content/uploads/2022/12/014-November-18-2022-This-Is-Your-Musical-scaled.jpg
ORGANIZER;CN="The Bristol Improv Theatre":MAILTO:hello@improvtheatre.co.uk
END:VEVENT
BEGIN:VEVENT
DTSTART;TZID=Europe/London:20250920T200000
DTEND;TZID=Europe/London:20250920T220000
DTSTAMP:20260423T042652
CREATED:20250715T114906Z
LAST-MODIFIED:20250908T151648Z
UID:10002444-1758398400-1758405600@improvtheatre.co.uk
SUMMARY:Tales From The Wasteland: Post-Apocalyptic Improv
DESCRIPTION:Saturday 20th September | 20:00 – 22:00\n(Doors open 19:30)\nTales From The Wasteland is an improvised post-apocalyptic adventure comedy. This twisted and talented cast of wastelanders will take a single suggestion from you and craft an entire narrative show with no pre-prepared characters\, story or dialogue. \nIf the world was ending\, what would be the one thing you’d want to survive? Join us as we explore a new world and find out what’s left over after Earth’s devastation. Expect raiders\, mutants and violence over scarce resources in this absurd dark comedy inspired by classics of the genre such as Mad Max\, The Last of Us and Fallout. \nWarning: this show tends to have dark themes\, violence and cannibalism. Seriously\, cannibalism comes up way too often. \n“They have the audience in stitches\, thanks to sharp timing and an ability to spin chaos into comedy.” – Bristol 24/7 \n“Their world-building is bewitching; conjuring a violent\, gory Mad Max vibe alongside whimsical and\, somehow\, endearing characters.” – The Everyday Magazine \nWITH SUPPORT FROM: I Don’t Know What You’ll Do This Summer\nThis summer\, a group of friends set out on the trip of their lives. But all is not well as a mysterious and yet to be determined force puts them all in peril. \nWill they blindly ignore sensible warnings from strangers in petrol stations? Why can’t they just use their phones to get help? How could anyone think this is worth a direct-to-DVD sequel? \nSee how it all goes wrong for our characters and their friendships. \nA comedy inspired by teen horror films from the 90’s and 00’s.
URL:https://improvtheatre.co.uk/upcoming-show/tales-from-the-wasteland-post-apocalyptic-improv-2/
LOCATION:The Bristol Improv Theatre\, Bristol Improv Theatre\, 50 St Paul's Rd\, Clifton\, Bristol BS8 1LP\, Bristol\, BS8 1LP\, United Kingdom
CATEGORIES:Homegrown Heroes
ATTACH;FMTTYPE=image/jpeg:https://improvtheatre.co.uk/wp-content/uploads/2025/07/Image.jpg
ORGANIZER;CN="The Bristol Improv Theatre":MAILTO:hello@improvtheatre.co.uk
END:VEVENT
END:VCALENDAR