BEGIN:VCALENDAR
VERSION:2.0
PRODID:-//Improv Shows &amp; Courses, Bristol | The Bristol Improv Theatre - ECPv6.15.20//NONSGML v1.0//EN
CALSCALE:GREGORIAN
METHOD:PUBLISH
X-WR-CALNAME:Improv Shows &amp; Courses, Bristol | The Bristol Improv Theatre
X-ORIGINAL-URL:https://improvtheatre.co.uk
X-WR-CALDESC:Events for Improv Shows &amp; Courses, Bristol | The Bristol Improv Theatre
REFRESH-INTERVAL;VALUE=DURATION:PT1H
X-Robots-Tag:noindex
X-PUBLISHED-TTL:PT1H
BEGIN:VTIMEZONE
TZID:Europe/London
BEGIN:DAYLIGHT
TZOFFSETFROM:+0000
TZOFFSETTO:+0100
TZNAME:BST
DTSTART:20240331T010000
END:DAYLIGHT
BEGIN:STANDARD
TZOFFSETFROM:+0100
TZOFFSETTO:+0000
TZNAME:GMT
DTSTART:20241027T010000
END:STANDARD
BEGIN:DAYLIGHT
TZOFFSETFROM:+0000
TZOFFSETTO:+0100
TZNAME:BST
DTSTART:20250330T010000
END:DAYLIGHT
BEGIN:STANDARD
TZOFFSETFROM:+0100
TZOFFSETTO:+0000
TZNAME:GMT
DTSTART:20251026T010000
END:STANDARD
BEGIN:DAYLIGHT
TZOFFSETFROM:+0000
TZOFFSETTO:+0100
TZNAME:BST
DTSTART:20260329T010000
END:DAYLIGHT
BEGIN:STANDARD
TZOFFSETFROM:+0100
TZOFFSETTO:+0000
TZNAME:GMT
DTSTART:20261025T010000
END:STANDARD
END:VTIMEZONE
BEGIN:VTIMEZONE
TZID:UTC
BEGIN:STANDARD
TZOFFSETFROM:+0000
TZOFFSETTO:+0000
TZNAME:UTC
DTSTART:20240101T000000
END:STANDARD
END:VTIMEZONE
BEGIN:VEVENT
DTSTART;TZID=Europe/London:20250901T130000
DTEND;TZID=Europe/London:20250901T143000
DTSTAMP:20260423T065103
CREATED:20250721T194733Z
LAST-MODIFIED:20260401T122435Z
UID:10002157-1756731600-1756737000@improvtheatre.co.uk
SUMMARY:Lunchtime Improv with Rebecca MacMillan
DESCRIPTION:Mondays | 13:00 – 14:30\n(NO LUNCHTIME IMPROV ON 6TH APRIL 2026)\n(Please check the calendar below for dates of upcoming sessions)\nDiscover the joy of improv with Rebecca MacMillan’s lunchtime classes at Bristol Improv Theatre. These sessions are designed for creatives\, freelancers\, and everyone else who’s looking for a dose of joy in their day. Powerfully creative\, intensely playful\, and highly enjoyable\, improv is a great way to boost your confidence\, unleash creativity\, and improve your wellbeing. You’ll experience the joy and inner playfulness that comes from improvising and challenging yourself to be in the moment! Each drop-in session is stand-alone\, so you can join any Monday without needing prior experience. \n“It’s like skydiving for the imagination.”\n \nCome play\, laugh\, and connect with yourself and others\, and leave with a lighter heart and a smile on your face. \nTo book your ticket\, simply choose your preferred date below.\n——— \nTicket sales have been moved to our new events site!\nClick here to buy tickets!\n———
URL:https://improvtheatre.co.uk/upcoming-show/lunchtime-improv-with-rebecca-macmillan-2-2/2025-09-01/
LOCATION:The Bristol Improv Theatre\, Bristol Improv Theatre\, 50 St Paul's Rd\, Clifton\, Bristol BS8 1LP\, Bristol\, BS8 1LP\, United Kingdom
CATEGORIES:Theatre School
ATTACH;FMTTYPE=image/jpeg:https://improvtheatre.co.uk/wp-content/uploads/2024/09/Rebeca-macmillan-banner.jpg
ORGANIZER;CN="The Bristol Improv Theatre":MAILTO:hello@improvtheatre.co.uk
END:VEVENT
BEGIN:VEVENT
DTSTART;TZID=UTC:20250901T193000
DTEND;TZID=UTC:20250901T213000
DTSTAMP:20260423T065103
CREATED:20250428T153015Z
LAST-MODIFIED:20250705T105737Z
UID:10002191-1756755000-1756762200@improvtheatre.co.uk
SUMMARY:Improv Drop-ins
DESCRIPTION:Mondays | 19:30 – 21:30\nLooking to stretch your improvising muscles? Then our drop-ins are for you! \nOur drop-ins run every Monday evening and alternate between scene workshops and classes focused on specific skills to help you pad out your improvisers tool-kit. \nDuring our scene workshops\, you’ll receive supportive and constructive side-coaching\, tailored to the group and designed to develop your confidence and improvisation skills. On the other hand\, the regular drop-ins will take a specific skill and explore it through games\, exercises and scenes. \nFacilitated by an experienced Bristol Improv Theatre instructor\, drop-ins are a great chance to try improv at Bristol Improv Theatre and connect with others. \nAny questions\, please don’t hesitate to get in touch at theatreschool@improvtheatre.net. \nIf you are brand new to improv\, you may prefer to try the monthly Improv Taster Session. \nIf you have any accommodations or access needs\, please let us know at theatreschool@improvtheatre.net. If you are attending this class with a carer\, they do not need to buy a ticket\, but please do let us know so that we can keep an eye on class size. \nOur Improv Drop-Ins are very popular classes which regularly sell out. We would always recommend booking your place in advance in order to secure your spot. Whilst we do occasionally have drop outs and availability on the day\, we would recommend booking in advance to avoid disappointment. \nTo book your ticket\, simply choose your preferred date below.
URL:https://improvtheatre.co.uk/upcoming-show/improv-drop-ins-3-2/2025-09-01/
LOCATION:The Bristol Improv Theatre\, Bristol Improv Theatre\, 50 St Paul's Rd\, Clifton\, Bristol BS8 1LP\, Bristol\, BS8 1LP\, United Kingdom
CATEGORIES:Theatre School
ATTACH;FMTTYPE=image/jpeg:https://improvtheatre.co.uk/wp-content/uploads/2023/03/6-731x1024-portrait-opt.jpg
ORGANIZER;CN="The Bristol Improv Theatre":MAILTO:hello@improvtheatre.co.uk
END:VEVENT
BEGIN:VEVENT
DTSTART;TZID=UTC:20250901T200000
DTEND;TZID=UTC:20250901T213000
DTSTAMP:20260423T065103
CREATED:20250728T185706Z
LAST-MODIFIED:20250901T184828Z
UID:10002469-1756756800-1756762200@improvtheatre.co.uk
SUMMARY:Performing Improv Level1: Making a Scene Student Showcase
DESCRIPTION:Monday 1st September | 20:00\nCome and see the graduates of BIT’s latest Performing Improv course as they share some of the skills they’ve been building over the 7 week course. \nFREE ENTRY – fellow students\, family and friends welcome! \nThe bar will be open from 7:30pm and the show starts at 8pm. Why not join us for a celebratory drink after the show?
URL:https://improvtheatre.co.uk/upcoming-show/performing-improv-level1-making-a-scene-student-showcase/
LOCATION:The Bristol Improv Theatre\, Bristol Improv Theatre\, 50 St Paul's Rd\, Clifton\, Bristol BS8 1LP\, Bristol\, BS8 1LP\, United Kingdom
CATEGORIES:Level 3 Courses,Theatre School
ATTACH;FMTTYPE=image/jpeg:https://improvtheatre.co.uk/wp-content/uploads/2023/02/TheatreJam_03January2019_WebResolution_Pullen-1654.jpg
ORGANIZER;CN="The Bristol Improv Theatre":MAILTO:hello@improvtheatre.co.uk
END:VEVENT
BEGIN:VEVENT
DTSTART;TZID=UTC:20250904T193000
DTEND;TZID=UTC:20250904T213000
DTSTAMP:20260423T065103
CREATED:20250807T115414Z
LAST-MODIFIED:20250807T135529Z
UID:10002538-1757014200-1757021400@improvtheatre.co.uk
SUMMARY:Improv Jam & Social
DESCRIPTION:Thursday 4th September | 19:30 – 21:30\n(Doors open 19:00)\nJoin us for an evening of improv games\, socialising and fun at our monthly jam. \nYou can sign up to play improv games – think ‘Whose Line Is It Anyway?’ – or scenes\, all facilitated by our experienced compere. There will be lots of silly nonsense\, laughs and plenty of chances to join in! Everyone is welcome\, whether you’re aching to stretch your improv muscles\, curious to try improvising for the very first time\, or simply want to come along and watch. \nTickets are pay what you decide\, but please book in advance so we know who we’re expecting. Please book your ticket below and use the donation box to decide how much you would like to pay.
URL:https://improvtheatre.co.uk/upcoming-show/improv-jam-social-sept-25/
LOCATION:The Bristol Improv Theatre\, Bristol Improv Theatre\, 50 St Paul's Rd\, Clifton\, Bristol BS8 1LP\, Bristol\, BS8 1LP\, United Kingdom
CATEGORIES:Community Event
ATTACH;FMTTYPE=image/jpeg:https://improvtheatre.co.uk/wp-content/uploads/2023/07/Improv-Jam-Social-cover-image-1-1MB.jpg
ORGANIZER;CN="The Bristol Improv Theatre":MAILTO:hello@improvtheatre.co.uk
END:VEVENT
BEGIN:VEVENT
DTSTART;TZID=UTC:20250905T193000
DTEND;TZID=UTC:20250905T213000
DTSTAMP:20260423T065103
CREATED:20230307T105245Z
LAST-MODIFIED:20250905T184218Z
UID:10002292-1757100600-1757107800@improvtheatre.co.uk
SUMMARY:The Bish Bosh Bash: The Improvised Game Show
DESCRIPTION:Friday 5th September | 19:30 – 21:30 (Please note: new start time)\nFriday 3rd October | 19:30 – 21:30\nFriday 7th November | 19:30 – 21:30\nFriday 5th December | 19:30 – 21:30\n(Doors open 19:00)\nThe Bish Bosh Bash: The Improvised Game Show is back\, bringing songs\, scenes and silliness. \nThe Bish Bosh Bash is a great introduction for those who’ve never seen improv before. An easy going and mischievous evening awaits. \nIt’s a game of two halves! \nIn the first half\, our teams will go head-to-head playing quick-fire games\, which those familiar with ‘Whose Line Is It Anyway?’ might recognise. \nThe second half is our knockout round\, where our players are both the writers and actors of mini plays inspired by your suggestions. \nThey’re battling it out for you\, playing for your votes and adoration. You decide who makes it to the end\, and ultimately which team goes home with the glory! \n“A good value evening’s entertainment and plenty of playfulness. Five stars!” \n★★★★★ Bristol 24/7 \nTo book your ticket\, simply choose your preferred date from the calendar below.
URL:https://improvtheatre.co.uk/upcoming-show/the-bish-bosh-bash-the-improvised-game-show/2025-09-05/
LOCATION:The Bristol Improv Theatre\, Bristol Improv Theatre\, 50 St Paul's Rd\, Clifton\, Bristol BS8 1LP\, Bristol\, BS8 1LP\, United Kingdom
CATEGORIES:Flagship Shows
ATTACH;FMTTYPE=image/jpeg:https://improvtheatre.co.uk/wp-content/uploads/2022/12/005-March-03-2023-BIT-Bish-Bosh-Bash-web-res-DSC_7665-PULLEN-scaled.jpg
ORGANIZER;CN="The Bristol Improv Theatre":MAILTO:hello@improvtheatre.co.uk
END:VEVENT
BEGIN:VEVENT
DTSTART;TZID=Europe/London:20250906T193000
DTEND;TZID=Europe/London:20250906T213000
DTSTAMP:20260423T065103
CREATED:20250807T135754Z
LAST-MODIFIED:20250905T084405Z
UID:10002539-1757187000-1757194200@improvtheatre.co.uk
SUMMARY:The Antics Joke Show
DESCRIPTION:Saturday 6th September | 19:30\n(Doors open 19:00)\nUp The Antics present their killer format of comedy variety\, featuring the best local stand-up talent\, improvised comedy from Up The Antics and sketch comedy from a special guest. Bristol-based Up The Antics (as heard on BBC Radio 4) takes us down the rabbit hole of improvised sketch comedy. With the suggestion of a location\, the antics will explore the characters and journeys taken to arrive there\, with hilarious results.\n\nLine-Up: \n–\n\nSketch Comedy from The Biscuit Barrel\nBiscuit Barrel are a quickfire sketch group\, whose production ‘The 69-Sketch Show’ has brought in over 4\,000 people since 2023. \n“Non-stop laughs” ★★★★★ – The Mumble \n“An excellent comedy show” ★★★★ – Broadway Baby \nA blend of slapstick\, wordplay\, songs\, rap-battles and absurd characters\, the Barrel defy predictability with sketches ranging from ten seconds to three minutes\, ensuring constant surprises. \nCredits include Leicester Comedy Festival\, Winchester Comedy Festival (Theatre Royal Winchester)\, Edinburgh Fringe (Gilded Balloon; Just the Tonic)\, and Brighton Fringe (Brighton Spiegeltent; Komedia for 2025). \n–\nImprov Comedy from Up The Antics\n\nBristol’s own Up The Antics will be bringing their unique brand of improv silliness. Just give them a suggestion of a location and watch them fall down the rabbit hole of hilarious characters\, sketches and quick wit. Come see the group that has been featured on BBC Radio 4 Extra\, performed four hit Edinburgh Fringe shows and won awards for their online sketch content. \nLeicester Square Sketch-Off Semi-Finalists \n“Brilliantly witty” ★★★★★ – Inter:Mission \n“Up The Antics are guaranteed to deliver a laugh every minute” ★★★★ – EdFringeReview \n–\nPlus Stand-Up Comedy hand-picked from the rising stars of the local circuit!
URL:https://improvtheatre.co.uk/upcoming-show/the-antics-joke-show-sept-25/
LOCATION:The Bristol Improv Theatre\, Bristol Improv Theatre\, 50 St Paul's Rd\, Clifton\, Bristol BS8 1LP\, Bristol\, BS8 1LP\, United Kingdom
CATEGORIES:Flagship Shows,Visiting Acts
ATTACH;FMTTYPE=image/png:https://improvtheatre.co.uk/wp-content/uploads/2025/04/antics-joke-show-new-yuup.png
ORGANIZER;CN="The Bristol Improv Theatre":MAILTO:hello@improvtheatre.co.uk
END:VEVENT
END:VCALENDAR