BEGIN:VCALENDAR
VERSION:2.0
PRODID:-//Improv Shows &amp; Courses, Bristol | The Bristol Improv Theatre - ECPv6.15.20//NONSGML v1.0//EN
CALSCALE:GREGORIAN
METHOD:PUBLISH
X-ORIGINAL-URL:https://improvtheatre.co.uk
X-WR-CALDESC:Events for Improv Shows &amp; Courses, Bristol | The Bristol Improv Theatre
REFRESH-INTERVAL;VALUE=DURATION:PT1H
X-Robots-Tag:noindex
X-PUBLISHED-TTL:PT1H
BEGIN:VTIMEZONE
TZID:UTC
BEGIN:STANDARD
TZOFFSETFROM:+0000
TZOFFSETTO:+0000
TZNAME:UTC
DTSTART:20240101T000000
END:STANDARD
END:VTIMEZONE
BEGIN:VTIMEZONE
TZID:Europe/London
BEGIN:DAYLIGHT
TZOFFSETFROM:+0000
TZOFFSETTO:+0100
TZNAME:BST
DTSTART:20240331T010000
END:DAYLIGHT
BEGIN:STANDARD
TZOFFSETFROM:+0100
TZOFFSETTO:+0000
TZNAME:GMT
DTSTART:20241027T010000
END:STANDARD
BEGIN:DAYLIGHT
TZOFFSETFROM:+0000
TZOFFSETTO:+0100
TZNAME:BST
DTSTART:20250330T010000
END:DAYLIGHT
BEGIN:STANDARD
TZOFFSETFROM:+0100
TZOFFSETTO:+0000
TZNAME:GMT
DTSTART:20251026T010000
END:STANDARD
BEGIN:DAYLIGHT
TZOFFSETFROM:+0000
TZOFFSETTO:+0100
TZNAME:BST
DTSTART:20260329T010000
END:DAYLIGHT
BEGIN:STANDARD
TZOFFSETFROM:+0100
TZOFFSETTO:+0000
TZNAME:GMT
DTSTART:20261025T010000
END:STANDARD
END:VTIMEZONE
BEGIN:VEVENT
DTSTART;TZID=UTC:20250825T193000
DTEND;TZID=UTC:20250825T213000
DTSTAMP:20260423T082115
CREATED:20250428T153015Z
LAST-MODIFIED:20250705T105737Z
UID:10002190-1756150200-1756157400@improvtheatre.co.uk
SUMMARY:Improv Drop-ins
DESCRIPTION:Mondays | 19:30 – 21:30\nLooking to stretch your improvising muscles? Then our drop-ins are for you! \nOur drop-ins run every Monday evening and alternate between scene workshops and classes focused on specific skills to help you pad out your improvisers tool-kit. \nDuring our scene workshops\, you’ll receive supportive and constructive side-coaching\, tailored to the group and designed to develop your confidence and improvisation skills. On the other hand\, the regular drop-ins will take a specific skill and explore it through games\, exercises and scenes. \nFacilitated by an experienced Bristol Improv Theatre instructor\, drop-ins are a great chance to try improv at Bristol Improv Theatre and connect with others. \nAny questions\, please don’t hesitate to get in touch at theatreschool@improvtheatre.net. \nIf you are brand new to improv\, you may prefer to try the monthly Improv Taster Session. \nIf you have any accommodations or access needs\, please let us know at theatreschool@improvtheatre.net. If you are attending this class with a carer\, they do not need to buy a ticket\, but please do let us know so that we can keep an eye on class size. \nOur Improv Drop-Ins are very popular classes which regularly sell out. We would always recommend booking your place in advance in order to secure your spot. Whilst we do occasionally have drop outs and availability on the day\, we would recommend booking in advance to avoid disappointment. \nTo book your ticket\, simply choose your preferred date below.
URL:https://improvtheatre.co.uk/upcoming-show/improv-drop-ins-3-2/2025-08-25/
LOCATION:The Bristol Improv Theatre\, Bristol Improv Theatre\, 50 St Paul's Rd\, Clifton\, Bristol BS8 1LP\, Bristol\, BS8 1LP\, United Kingdom
CATEGORIES:Theatre School
ATTACH;FMTTYPE=image/jpeg:https://improvtheatre.co.uk/wp-content/uploads/2023/03/6-731x1024-portrait-opt.jpg
ORGANIZER;CN="The Bristol Improv Theatre":MAILTO:hello@improvtheatre.co.uk
END:VEVENT
BEGIN:VEVENT
DTSTART;TZID=Europe/London:20250829T200000
DTEND;TZID=Europe/London:20250829T220000
DTSTAMP:20260423T082115
CREATED:20250702T104256Z
LAST-MODIFIED:20251006T143927Z
UID:10002277-1756497600-1756504800@improvtheatre.co.uk
SUMMARY:Bristol Longform Takeover
DESCRIPTION:Friday 29th August | 20:00 – 22:00\n(Doors open 19:30)\nGet ready for a takeover!  \nBristol Longform Comedy are taking over the Bristol Improv Theatre to showcase local improv troupes performing fantastically funny longform improv – as well as the uniquely assembled Takeover Team featuring different new and experienced improvisers each time! \nBristol Longform Comedy (BLC) is a community-oriented group who shines a light on American-Style Longform Improv. American Longform is a continuous improvised piece inspired by an audience suggestion\, structured like sketch comedy\, rather than a play. \nTheir takeover will show you the wide range of wonderful improv Bristol has to offer. There will be two established groups and the Takeover Team: a community troupe created just for the night. \nCome along for an evening jam-packed with entertainment and comedy! \nACT ONE – Last Day on Earth \nThe first graduate house team of legendary improv night Parent’s Basement take a location from the audience and proceed to take us on a journey through improvised sketch and character comedy. \nFeaturing performers from: This Is Your Musical\, Up The Antics & After Dusk\, the improvised twilight zone\, Last Day on Earth have travelled all over the country with their chaotic\, hilarious comedic style and consistently deliver premium laughter. \nACT TWO – The Takeover Team\nThe Takeover Team is a mystery assortment of improvisers from the community who have assembled for just one show. That’s right\, just one show. Catch them while you can\, because if you miss them\, you’ll never get to see them again! \nACT THREE – The Groundhogs \nThe Groundhogs originated as part of Bristol Longform Comedy and are icons of Bristol’s longform improv scene. Watch their cast relive the same scene over and over – and see how the tiniest of changes can lead to a totally different future\, exploring the many different ways that a single scene could have gone…but didn’t.
URL:https://improvtheatre.co.uk/upcoming-show/bristol-longform-takeover-4/
LOCATION:The Bristol Improv Theatre\, Bristol Improv Theatre\, 50 St Paul's Rd\, Clifton\, Bristol BS8 1LP\, Bristol\, BS8 1LP\, United Kingdom
CATEGORIES:Homegrown Heroes
ATTACH;FMTTYPE=image/jpeg:https://improvtheatre.co.uk/wp-content/uploads/2025/07/Longform-Takeover-scaled.jpg
ORGANIZER;CN="The Bristol Improv Theatre":MAILTO:hello@improvtheatre.co.uk
END:VEVENT
BEGIN:VEVENT
DTSTART;TZID=UTC:20250830T140000
DTEND;TZID=UTC:20250830T160000
DTSTAMP:20260423T082115
CREATED:20250611T183626Z
LAST-MODIFIED:20260202T170252Z
UID:10002253-1756562400-1756569600@improvtheatre.co.uk
SUMMARY:Improv Taster Session
DESCRIPTION:Saturdays | 14:00 – 16:00\n(Please see below for dates of upcoming sessions)\nApproximately twice a month\, we run the Improv Taster Session for anyone looking to try their hand at improvisation before committing to a course. \nFacilitated by an experienced Bristol Improv Theatre instructor\, the class will explore the fundamental skills of improvisation using a smorgasbord of improv games and exercises. It’s a great chance to try improv and connect with others in a playful way. \nCome along and give improv a go! \nPlaces are capped at 20 with up to 2 instructors present. \nAny questions\, please don’t hesitate to get in touch at theatreschool@improvtheatre.net. \nIf you have any accommodations or access needs\, please let us know at theatreschool@improvtheatre.net. If you are attending this class with a carer\, they do not need to buy a ticket\, but please do let us know so that we can keep an eye on class size. \nTo book your ticket\, simply choose your preferred date from below.
URL:https://improvtheatre.co.uk/upcoming-show/improv-taster-session-3/2025-08-30/
LOCATION:The Bristol Improv Theatre\, Bristol Improv Theatre\, 50 St Paul's Rd\, Clifton\, Bristol BS8 1LP\, Bristol\, BS8 1LP\, United Kingdom
CATEGORIES:Theatre School
ATTACH;FMTTYPE=image/jpeg:https://improvtheatre.co.uk/wp-content/uploads/2025/09/Improv-Taster-scaled.jpg
ORGANIZER;CN="The Bristol Improv Theatre":MAILTO:hello@improvtheatre.co.uk
END:VEVENT
END:VCALENDAR