BEGIN:VCALENDAR
VERSION:2.0
PRODID:-//Improv Shows &amp; Courses, Bristol | The Bristol Improv Theatre - ECPv6.15.20//NONSGML v1.0//EN
CALSCALE:GREGORIAN
METHOD:PUBLISH
X-WR-CALNAME:Improv Shows &amp; Courses, Bristol | The Bristol Improv Theatre
X-ORIGINAL-URL:https://improvtheatre.co.uk
X-WR-CALDESC:Events for Improv Shows &amp; Courses, Bristol | The Bristol Improv Theatre
REFRESH-INTERVAL;VALUE=DURATION:PT1H
X-Robots-Tag:noindex
X-PUBLISHED-TTL:PT1H
BEGIN:VTIMEZONE
TZID:Europe/London
BEGIN:DAYLIGHT
TZOFFSETFROM:+0000
TZOFFSETTO:+0100
TZNAME:BST
DTSTART:20240331T010000
END:DAYLIGHT
BEGIN:STANDARD
TZOFFSETFROM:+0100
TZOFFSETTO:+0000
TZNAME:GMT
DTSTART:20241027T010000
END:STANDARD
BEGIN:DAYLIGHT
TZOFFSETFROM:+0000
TZOFFSETTO:+0100
TZNAME:BST
DTSTART:20250330T010000
END:DAYLIGHT
BEGIN:STANDARD
TZOFFSETFROM:+0100
TZOFFSETTO:+0000
TZNAME:GMT
DTSTART:20251026T010000
END:STANDARD
BEGIN:DAYLIGHT
TZOFFSETFROM:+0000
TZOFFSETTO:+0100
TZNAME:BST
DTSTART:20260329T010000
END:DAYLIGHT
BEGIN:STANDARD
TZOFFSETFROM:+0100
TZOFFSETTO:+0000
TZNAME:GMT
DTSTART:20261025T010000
END:STANDARD
END:VTIMEZONE
BEGIN:VTIMEZONE
TZID:UTC
BEGIN:STANDARD
TZOFFSETFROM:+0000
TZOFFSETTO:+0000
TZNAME:UTC
DTSTART:20240101T000000
END:STANDARD
END:VTIMEZONE
BEGIN:VEVENT
DTSTART;TZID=Europe/London:20250317T130000
DTEND;TZID=Europe/London:20250317T143000
DTSTAMP:20260419T131856
CREATED:20240919T110254Z
LAST-MODIFIED:20250520T102101Z
UID:10002029-1742216400-1742221800@improvtheatre.co.uk
SUMMARY:Lunchtime Improv with Rebecca MacMillan
DESCRIPTION:Mondays | 13:00 – 14:30\n(Please check the calendar below for dates of upcoming sessions)\nDiscover the joy of improv with Rebecca MacMillan’s lunchtime classes at Bristol Improv Theatre. These sessions are designed for creatives\, freelancers\, and everyone else that’s looking for a dose of joy in their day. Powerfully creative\, intensely playful\, and highly enjoyable\, improv is a great way to boost your confidence\, unleash creativity\, and improve your wellbeing. You’ll experience the joy and inner playfulness that comes from improvising and challenging yourself to be in the moment! Each drop-in session is stand-alone\, so you can join any Monday without needing prior experience. \n“It’s like skydiving for the imagination.”\n \nCome play\, laugh\, and connect with yourself and others\, and leave with a lighter heart and a smile on your face. \nTo book your ticket\, simply choose your preferred date below.
URL:https://improvtheatre.co.uk/upcoming-show/lunchtime-improv-with-rebecca-macmillan-2/2025-03-17/
LOCATION:The Bristol Improv Theatre\, Bristol Improv Theatre\, 50 St Paul's Rd\, Clifton\, Bristol BS8 1LP\, Bristol\, BS8 1LP\, United Kingdom
CATEGORIES:Theatre School
ATTACH;FMTTYPE=image/jpeg:https://improvtheatre.co.uk/wp-content/uploads/2024/09/Rebeca-macmillan-banner.jpg
ORGANIZER;CN="The Bristol Improv Theatre":MAILTO:hello@improvtheatre.co.uk
END:VEVENT
BEGIN:VEVENT
DTSTART;TZID=UTC:20250319T200000
DTEND;TZID=UTC:20250319T220000
DTSTAMP:20260419T131856
CREATED:20231124T105910Z
LAST-MODIFIED:20250207T110029Z
UID:10000565-1742414400-1742421600@improvtheatre.co.uk
SUMMARY:La La Bar
DESCRIPTION:Wednesday 19th March | 20:00\n(Doors open 19:30)\n\n\n\n\nJoin us at the Bristol Improv Theatre for our musical theatre open mic night with live piano accompaniment! \nFrom performance pros to absolute beginners\, this is a welcome-all night where anyone can get on stage to share their favourite songs and stories. Regale us with a classic or introduce the room to a musical they’ve never heard of. \nIf you’re not quite ready to jump on stage and take the mic\, there are still chances to join in with the group numbers. \nFriendly compering provided by Caitlin Campbell\, musical stylings courtesy of Sara Garrard.  \nWant to sing at La La Bar? Please send your submissions to lalabarsingers@gmail.com before Saturday 1st March to be sure of your slot!  \nTickets are “pay what you decide”\, with a suggested donation of £5 or a supporter donation level of £10.  Please book your ticket below and use the donation box to decide how much you would like to pay or book the recommended £5 or £10 donation ticket. All proceeds go to our live pianist. \nWe recommend booking in advance; if we reach capacity on the night we may have to turn away people who have not pre-booked.
URL:https://improvtheatre.co.uk/upcoming-show/la-la-bar-2/
LOCATION:The Bristol Improv Theatre\, Bristol Improv Theatre\, 50 St Paul's Rd\, Clifton\, Bristol BS8 1LP\, Bristol\, BS8 1LP\, United Kingdom
CATEGORIES:Community Event
ATTACH;FMTTYPE=image/jpeg:https://improvtheatre.co.uk/wp-content/uploads/2023/11/La-La-Bar-cover-image.jpg
ORGANIZER;CN="The Bristol Improv Theatre":MAILTO:hello@improvtheatre.co.uk
END:VEVENT
BEGIN:VEVENT
DTSTART;TZID=UTC:20250320T190000
DTEND;TZID=UTC:20250320T220000
DTSTAMP:20260419T131856
CREATED:20250225T141745Z
LAST-MODIFIED:20250612T180027Z
UID:10002064-1742497200-1742508000@improvtheatre.co.uk
SUMMARY:The Improv Gym
DESCRIPTION:Thursdays | 19:00 – 22:00\n(please see dates of upcoming events below)\nImprove your improv!  \nIn your journey through improv\, it isn’t always about acquiring a new skill for your improviser’s toolkit or throwing yourself into a new and unfamiliar style of play. Sometimes you need to practise your existing skills\, polish up your play\, and get your reps in with some feedback/pointers and constructive critique from an expert. Enter the Improv Gym! \nPart rehearsal room\, part personal improv training\, the Improv Gym is a facilitated space where you can work on your skills and draw upon the expertise of our experienced teaching staff. Each session will be led by a Bristol Improv Theatre Instructor who will warm you up and set you going with exercises\, games\, and scenes that will work on the skill areas that you want to improve\, before providing individualised feedback\, coaching\, and critique to help you get to the next level. \nIf you have a particular skill or piece of work that you want to focus on\, let the instructor know and they’ll tailor your session accordingly. If you’re working on something with specialised equipment\, skills\, or knowledge – such as puppetry\, singing\, dance\, or any props/technical requirements – please email theatreschool@improvtheatre.co.uk ahead of time so that we can prepare everything we’ll need to support you in the session. \nEach session lasts 3 hours and is capped at 8 places.  \nThe Improv Gym is about improving the skills you want to work on – if you’re looking for something a bit more structured or just want to turn up and play\, why not try our Improv Drop-ins? \nTo book your ticket\, simply choose your preferred date below.
URL:https://improvtheatre.co.uk/upcoming-show/the-improv-gym-4/2025-03-20/
LOCATION:The Bristol Improv Theatre\, Bristol Improv Theatre\, 50 St Paul's Rd\, Clifton\, Bristol BS8 1LP\, Bristol\, BS8 1LP\, United Kingdom
CATEGORIES:Theatre School
ATTACH;FMTTYPE=image/jpeg:https://improvtheatre.co.uk/wp-content/uploads/2023/06/008-June-24-2023-BIT-Theatre-School-web-res-NZ8_9138-Enhanced-NR-PULLEN-scaled.jpg
ORGANIZER;CN="The Bristol Improv Theatre":MAILTO:hello@improvtheatre.co.uk
END:VEVENT
BEGIN:VEVENT
DTSTART;TZID=Europe/London:20250320T200000
DTEND;TZID=Europe/London:20250320T220000
DTSTAMP:20260419T131856
CREATED:20250311T142038Z
LAST-MODIFIED:20250317T124922Z
UID:10002088-1742500800-1742508000@improvtheatre.co.uk
SUMMARY:Glam Jam
DESCRIPTION:Thursday 20th March | 20:00\n(doors open 19:30)\nDid you know we’ve been nominated for an award? We’re very excited\, but since we can’t take everyone to the awards ceremony we’re hosting a celebratory improv jam for those that can’t go! A bit like an awards season after party\, but earlier in the evening and with more improv… Dress code: Glam but still able to Jam! \nPut your name down to take part in an improv game or scene onstage\, or simply sit back and enjoy the evening. Our people-on-the-inside at the Bristol Life Awards will let us know the outcome of our category later on in the night\, so that we can celebrate or commiserate together! \nPlease choose your preferred ticket below. Donation tickets include a glass of fizz or non-alcoholic alternative on arrival! By donating\, you help us to secure our future and continue offering inclusive\, welcoming shows and classes.
URL:https://improvtheatre.co.uk/upcoming-show/glam-jam/
LOCATION:The Bristol Improv Theatre\, Bristol Improv Theatre\, 50 St Paul's Rd\, Clifton\, Bristol BS8 1LP\, Bristol\, BS8 1LP\, United Kingdom
CATEGORIES:Community Event
ATTACH;FMTTYPE=image/png:https://improvtheatre.co.uk/wp-content/uploads/2025/03/Glam-jam-cover-image.png
ORGANIZER;CN="The Bristol Improv Theatre":MAILTO:hello@improvtheatre.co.uk
END:VEVENT
BEGIN:VEVENT
DTSTART;TZID=Europe/London:20250322T140000
DTEND;TZID=Europe/London:20250322T170000
DTSTAMP:20260419T131856
CREATED:20250312T095029Z
LAST-MODIFIED:20250312T095030Z
UID:10002086-1742652000-1742662800@improvtheatre.co.uk
SUMMARY:The Improv Lab
DESCRIPTION:Saturday 22nd March | 14:00 – 17:00\nSaturday 31st May | 14:00 – 17:00\nWelcome to The Improv Lab! Join us at The Bristol Improv Theatre for a weekend afternoon to watch various different groups from the local Bristol improv community. For free! \nThese groups could be showcasing brand new shows\, formats\, changes to existing shows or just simply be getting in more practice. You’ll also have a chance to provide valuable feedback and help shape the shows’ futures. \nThe Improv Lab is hosted in the bar of the Bristol Improv Theatre. The bar will be open so come on in and enjoy a drink with an afternoon of free shows and a Jam.\n \nDoors open at 2pm and the first show will go on at 2.20pm. When arriving\, please head straight to the bar and grab a seat. Groups may be warming up at the back of the room before the show and during the interval. \nFor the March lab we have (order TBC):\n\n\nLe Ponde – The house group that you could be in! A whimsical show about the interconnected lives of creatures and denizens of a pond.\nImprov Shuffle – We play random tracks from an audience member’s most played\, then we make scenes and stories based on a song! Where could your music take us? Come and find out!\nWhose Rhyme Is It Anyway? A freestyle hip hop improv group. They combine scenes and games with improvised rapping.\nThe Big Book of Improvised Interactive Musical Stories by David Puck – viral drag sensation David Puck Drag is your living bedtime storybook. You choose the location\, characters\, even their decisions (warming up for their evening show also at The BIT\, come along!)\n\nIf you have a show that you would like to bring to the lab\, or if you’d like to get involved as a cast member\, director\, photographer or host please email bristolimprovlab@gmail.com or fill in this form with details of the show. To be selected\, the majority of the show must involve improvisation. \nTickets are “pay what you decide”\, with a suggested donation of £5. Please book your ticket below and use the donation box to decide how much you would like to pay\, or book the recommended £5 donation ticket.
URL:https://improvtheatre.co.uk/upcoming-show/the-improv-lab-2/
LOCATION:The Bristol Improv Theatre\, Bristol Improv Theatre\, 50 St Paul's Rd\, Clifton\, Bristol BS8 1LP\, Bristol\, BS8 1LP\, United Kingdom
CATEGORIES:Community Event
ATTACH;FMTTYPE=image/png:https://improvtheatre.co.uk/wp-content/uploads/2024/10/Improv-lab-resized-1.png
ORGANIZER;CN="The Bristol Improv Theatre":MAILTO:hello@improvtheatre.co.uk
END:VEVENT
BEGIN:VEVENT
DTSTART;TZID=Europe/London:20250322T200000
DTEND;TZID=Europe/London:20250322T220000
DTSTAMP:20260419T131856
CREATED:20250304T123157Z
LAST-MODIFIED:20250321T165051Z
UID:10002082-1742673600-1742680800@improvtheatre.co.uk
SUMMARY:Double Bill: Night Fictions & The Bish Bosh Bash and Friends Presents: Story Smash!
DESCRIPTION:Saturday 22nd March | 20:00 – 22:00\n(Doors open 19:30)\nA double bill of interactive storytelling \nDue to unforeseen circumstances\, David Puck Drag will no longer be performing as part of this Saturday’s double bill. We’re pleased to welcome The Bish Bosh Bash and Friends Presents: Story Smash! in their place. They’ll bring 4 unique stories to life before your very eyes\, and then it’s up to you to decide which one gets an ending! \nNight Fictions will still be performing their surreal\, second-person storytelling adventure\, weaving improvised tales with music and soundscaping to create darkly fun and mysterious worlds. \nNight Fictions\nNight Fictions are a trio from Bristol consisting of Andrew Weildon-Denis\, Lee Abecasis and Joe Urwin\, that have been creating together for over 5 years. They combine voice acting and storytelling with an eclectic mix of music and soundscaping\, to create a darkly fun and mysterious experience. \nNight Fictions predominantly write and release in audio drama form\, and use improv in the early stages to find ideas. The live show is totally improvised using your suggestions to weave the story world. Follow the dream-like adventures of our main character\, “you”\, way out into the shadowy long grass\, where singing animals and entities and uncanny characters reside. \nThe Bish Bosh Bash and Friends Presents: Story Smash\nFour directors\, only one winner. Using your suggestions our directors will create 4 unique\, never-seen-before stories before your very eyes. The catch? You only get to see the end of one! You decide who makes it to the end\, and ultimately which director goes home with the glory!
URL:https://improvtheatre.co.uk/upcoming-show/double-bill-david-pucks-night-fictions/
LOCATION:The Bristol Improv Theatre\, Bristol Improv Theatre\, 50 St Paul's Rd\, Clifton\, Bristol BS8 1LP\, Bristol\, BS8 1LP\, United Kingdom
CATEGORIES:Homegrown Heroes
ATTACH;FMTTYPE=image/jpeg:https://improvtheatre.co.uk/wp-content/uploads/2025/03/Double-Bill-David-Pucks-l-replacement-cover-image.jpg
ORGANIZER;CN="The Bristol Improv Theatre":MAILTO:hello@improvtheatre.co.uk
END:VEVENT
END:VCALENDAR