BEGIN:VCALENDAR
VERSION:2.0
PRODID:-//Improv Shows &amp; Courses, Bristol | The Bristol Improv Theatre - ECPv6.15.20//NONSGML v1.0//EN
CALSCALE:GREGORIAN
METHOD:PUBLISH
X-ORIGINAL-URL:https://improvtheatre.co.uk
X-WR-CALDESC:Events for Improv Shows &amp; Courses, Bristol | The Bristol Improv Theatre
REFRESH-INTERVAL;VALUE=DURATION:PT1H
X-Robots-Tag:noindex
X-PUBLISHED-TTL:PT1H
BEGIN:VTIMEZONE
TZID:UTC
BEGIN:STANDARD
TZOFFSETFROM:+0000
TZOFFSETTO:+0000
TZNAME:UTC
DTSTART:20240101T000000
END:STANDARD
END:VTIMEZONE
BEGIN:VTIMEZONE
TZID:Europe/London
BEGIN:DAYLIGHT
TZOFFSETFROM:+0000
TZOFFSETTO:+0100
TZNAME:BST
DTSTART:20240331T010000
END:DAYLIGHT
BEGIN:STANDARD
TZOFFSETFROM:+0100
TZOFFSETTO:+0000
TZNAME:GMT
DTSTART:20241027T010000
END:STANDARD
BEGIN:DAYLIGHT
TZOFFSETFROM:+0000
TZOFFSETTO:+0100
TZNAME:BST
DTSTART:20250330T010000
END:DAYLIGHT
BEGIN:STANDARD
TZOFFSETFROM:+0100
TZOFFSETTO:+0000
TZNAME:GMT
DTSTART:20251026T010000
END:STANDARD
BEGIN:DAYLIGHT
TZOFFSETFROM:+0000
TZOFFSETTO:+0100
TZNAME:BST
DTSTART:20260329T010000
END:DAYLIGHT
BEGIN:STANDARD
TZOFFSETFROM:+0100
TZOFFSETTO:+0000
TZNAME:GMT
DTSTART:20261025T010000
END:STANDARD
END:VTIMEZONE
BEGIN:VEVENT
DTSTART;TZID=UTC:20250217T200000
DTEND;TZID=UTC:20250217T213000
DTSTAMP:20260419T170926
CREATED:20240708T105938Z
LAST-MODIFIED:20250211T151344Z
UID:10000962-1739822400-1739827800@improvtheatre.co.uk
SUMMARY:Performing L1: Making a Scene Student Showcase
DESCRIPTION:Monday 17th February | 20:00\nCome and see the graduates of BIT’s latest Performing Improv course as they share some of the skills they’ve been building over the 7 week course. \nOur wonderful students will be improvising stories and scenes before your eyes\, based on your suggestions. \nFREE ENTRY – fellow students\, family and friends welcome! \nThe bar will be open from 7:30pm and the show starts at 8pm. Why not join us for a celebratory drink after the show?
URL:https://improvtheatre.co.uk/upcoming-show/performing-l1-making-a-scene-student-showcase/
LOCATION:The Bristol Improv Theatre\, Bristol Improv Theatre\, 50 St Paul's Rd\, Clifton\, Bristol BS8 1LP\, Bristol\, BS8 1LP\, United Kingdom
CATEGORIES:Level 3 Courses,Theatre School
ATTACH;FMTTYPE=image/jpeg:https://improvtheatre.co.uk/wp-content/uploads/2023/02/TheatreJam_03January2019_WebResolution_Pullen-1654.jpg
ORGANIZER;CN="The Bristol Improv Theatre":MAILTO:hello@improvtheatre.co.uk
END:VEVENT
BEGIN:VEVENT
DTSTART;TZID=Europe/London:20250222T100000
DTEND;TZID=Europe/London:20250222T160000
DTSTAMP:20260419T170926
CREATED:20241212T172658Z
LAST-MODIFIED:20241212T172658Z
UID:10001944-1740218400-1740240000@improvtheatre.co.uk
SUMMARY:Directing Improv with Imogen Palmer
DESCRIPTION:Saturday 22nd February | 10:oo – 16:00\nDirecting improvised theatre and/or comedy shows is a magical experience; bringing a group of creative humans together and finding ways to explore a collective creative vision. In this class\, we explore different approaches to directing to help empower and inspire. \nThis includes:\n– identifying & communicating a vision for a show\n– designing rehearsal and skills sessions around a vision\n– incorporating ensemble feedback into a vision\n– feedback and coaching techniques \nIf you are a budding improviser with an idea that you are looking to bring to life\, a member of an existing performing group in a leadership role\, or just want to add directing to your toolkit as an improviser or performer\, this is the class for you. \nWith over 12 years of experience in the performing arts\, Imo creates a safe and empowering classroom for all abilities to develop.
URL:https://improvtheatre.co.uk/upcoming-show/directing-improv-with-imogen-palmer/
LOCATION:The Bristol Improv Theatre\, Bristol Improv Theatre\, 50 St Paul's Rd\, Clifton\, Bristol BS8 1LP\, Bristol\, BS8 1LP\, United Kingdom
CATEGORIES:Guest Workshops
ATTACH;FMTTYPE=image/jpeg:https://improvtheatre.co.uk/wp-content/uploads/2024/12/Cover-image-directing-improv.jpg
ORGANIZER;CN="The Bristol Improv Theatre":MAILTO:hello@improvtheatre.co.uk
END:VEVENT
BEGIN:VEVENT
DTSTART;TZID=UTC:20250222T110000
DTEND;TZID=UTC:20250222T130000
DTSTAMP:20260419T170926
CREATED:20240411T145255Z
LAST-MODIFIED:20250508T180939Z
UID:10002041-1740222000-1740229200@improvtheatre.co.uk
SUMMARY:Improv for Fun
DESCRIPTION:Wednesdays | 19:00 – 21:00\n(Please see dates of sessions in the calendars below)\nThis is a session where you don’t need to worry about learning performance skills or progressing onto the next course – this is improv just for fun!  \nWhile teaching our Taster Sessions and Discovering Improv classes\, Anna and Cat (two of our fantastic instructors) have found that sometimes\, people just want to do something FUN. So they’ve listened and developed Improv for Fun! This class is for all those people who are looking for a place to play\, where you can connect with your inner-child and other like-minded individuals. \nJoin Anna and Cat for a session of guided improv exercises and games where you don’t have to worry about what comes next. All you need to do is turn up and be ready to play! \nIf you have any accommodations or access needs\, please let us know at theatreschool@improvtheatre.net. If you are attending this class with a carer\, they do not need to buy a ticket\, but please do let us know so that we can keep an eye on class size. \nTo book your ticket\, simply choose your preferred date below.
URL:https://improvtheatre.co.uk/upcoming-show/improv-for-fun/2025-02-22/
LOCATION:The Bristol Improv Theatre\, Bristol Improv Theatre\, 50 St Paul's Rd\, Clifton\, Bristol BS8 1LP\, Bristol\, BS8 1LP\, United Kingdom
CATEGORIES:Theatre School
ATTACH;FMTTYPE=image/jpeg:https://improvtheatre.co.uk/wp-content/uploads/2024/04/043-March-23-2024-BIT-Little-Improv-Festival-web-res-LEE-PULLEN-PHOTOGRAPHY.jpg
ORGANIZER;CN="The Bristol Improv Theatre":MAILTO:hello@improvtheatre.co.uk
END:VEVENT
BEGIN:VEVENT
DTSTART;TZID=Europe/London:20250222T200000
DTEND;TZID=Europe/London:20250222T220000
DTSTAMP:20260419T170926
CREATED:20250121T165824Z
LAST-MODIFIED:20250218T163935Z
UID:10001989-1740254400-1740261600@improvtheatre.co.uk
SUMMARY:Antics Joke Show Ft. The Death Hilarious
DESCRIPTION:Saturday 22nd February | 20:00\n(Doors open 19:30)\nUp The Antics present their hit format of comedy variety\, featuring the best  stand-up\, improv & sketch comedy. This month\, they will be joined by Chortle Best Newcomer Award nominees The Death Hilarious! \nFull Line-Up:\n \nSKETCH COMEDY from THE DEATH HILARIOUS  \n(Age rating: 18+) \nWelsh\, working-class firebrands The Death Hilarious are a sketch-centric comedy duo cut from the same rag as The League Of Gentlemen and The Mighty Boosh. They parade a coterie of crazed characters such as Creole exorcists\, apelike weirdos and a homemade sex robot. Variously described as immersive\, horrifying and joyous\, The Death Hilarious mix the profound and the puerile with no thought for their own safety. They never sleep\, these boys. They are dancing\, dancing. They say that they will never die. \nTW – dark humour and adult themes \nNominated For Chortle Best Newcomer Award\, 2018 \nUP THE ANTICS \nAfter wowing audiences with their hilarious sketch and improv comedy at The Edinburgh Fringe\, Bristol’s own Up The Antics will be bringing their unique brand of improv silliness. Just give them a suggestion of a location and watch them fall down the rabbit of hole of hilarious characters\, sketches and quick wit.  Come see this group that have been featured on BBC Radio 4 Extra and won awards for their online sketch content \nLeicester Square Sketch-Off Semi-Finalists  \n“Brilliantly Witty” ★★★★★ Inter:Mission  \n“Up The Antics are guaranteed to deliver a laugh every minute” ★★★★ EdFringeReview \nFeaturing stand-up from the cream of the crop of local talent! \nAge Rating – 18+
URL:https://improvtheatre.co.uk/upcoming-show/antics-joke-show-ft-the-death-hilarious/
LOCATION:The Bristol Improv Theatre\, Bristol Improv Theatre\, 50 St Paul's Rd\, Clifton\, Bristol BS8 1LP\, Bristol\, BS8 1LP\, United Kingdom
CATEGORIES:Flagship Shows
ATTACH;FMTTYPE=image/jpeg:https://improvtheatre.co.uk/wp-content/uploads/2025/01/Untitled-design-1.jpg
ORGANIZER;CN="The Bristol Improv Theatre":MAILTO:hello@improvtheatre.co.uk
END:VEVENT
BEGIN:VEVENT
DTSTART;TZID=Europe/London:20250223T100000
DTEND;TZID=Europe/London:20250223T160000
DTSTAMP:20260419T170926
CREATED:20241216T142631Z
LAST-MODIFIED:20241216T142631Z
UID:10001949-1740304800-1740326400@improvtheatre.co.uk
SUMMARY:Working the Room: Hosting and MC Skills with Imogen Palmer
DESCRIPTION:Sunday 23rd February | 10:00 – 16:00\nDo you get nervous in front of crowds? \nThinking about what your hands are doing? Where you should be looking? \nHave you been hosting or introducing a show and want to develop your technique? \nIn this class\, we will focus on the fundamentals of stage presence and delivery\, finetuning your ability to be warm\, relaxed and confident when interacting with a room full of people!\n \nKey skills explored: \n\nStage presence unpacked and translated into practicable tools\nPublic speaking \nBreathing and relaxation techniques for being grounded\nAudience warm-up and interaction \n\nIdeal for improvisers\, actors\, stand-up comedians or anyone looking to develop their public speaking and audience interaction skills. Suitable for all levels of experience.  \nWith over 12 years of experience in the performing arts\, Imo creates a safe and empowering classroom for all abilities to develop.
URL:https://improvtheatre.co.uk/upcoming-show/working-the-room-hosting-and-mc-skills-with-imogen-palmer/
LOCATION:The Bristol Improv Theatre\, Bristol Improv Theatre\, 50 St Paul's Rd\, Clifton\, Bristol BS8 1LP\, Bristol\, BS8 1LP\, United Kingdom
CATEGORIES:Guest Workshops,Theatre School
ATTACH;FMTTYPE=image/jpeg:https://improvtheatre.co.uk/wp-content/uploads/2024/12/Imo-Intensive-MC-crop-scaled-e1762871112450.jpg
ORGANIZER;CN="The Bristol Improv Theatre":MAILTO:hello@improvtheatre.co.uk
END:VEVENT
END:VCALENDAR