BEGIN:VCALENDAR
VERSION:2.0
PRODID:-//Improv Shows &amp; Courses, Bristol | The Bristol Improv Theatre - ECPv6.15.20//NONSGML v1.0//EN
CALSCALE:GREGORIAN
METHOD:PUBLISH
X-ORIGINAL-URL:https://improvtheatre.co.uk
X-WR-CALDESC:Events for Improv Shows &amp; Courses, Bristol | The Bristol Improv Theatre
REFRESH-INTERVAL;VALUE=DURATION:PT1H
X-Robots-Tag:noindex
X-PUBLISHED-TTL:PT1H
BEGIN:VTIMEZONE
TZID:UTC
BEGIN:STANDARD
TZOFFSETFROM:+0000
TZOFFSETTO:+0000
TZNAME:UTC
DTSTART:20250101T000000
END:STANDARD
END:VTIMEZONE
BEGIN:VEVENT
DTSTART;TZID=UTC:20260106T183000
DTEND;TZID=UTC:20260106T210000
DTSTAMP:20260422T222521
CREATED:20250505T121350Z
LAST-MODIFIED:20260112T164541Z
UID:10002136-1767724200-1767733200@improvtheatre.co.uk
SUMMARY:Performing Improv Level 3: Singing Songs
DESCRIPTION:6th January – 17th February | Tuesdays | 18:30 – 21:00\nSinging Songs is the course for anyone who’s ever fancied making up songs on the spot\, and for those who don’t think they can sing but would love to have a go! \nThis seven-week course explores different song structures and games to help build your musicality\, rhythm\, and improv skills so you can perform group numbers and improvised singing games. All voices are welcomed\, some improv skills are recommended (but not strictly required).  \nWho is this course for? \n\nStudents who have completed Discovering Improv & Intro to Performing Improv and want to take the next step\nPerformers who have some improv experience and want to develop their improvised singing skills \nAnyone who has learned improv elsewhere and wants to start learning with the BIT school\n\nThis course consists of 7 sessions that last for 2.5 hours each\, and will be taught by one of our experienced facilitators and an accompanying pianist. Places are capped at 12. Like all our Performing Improv courses\, the 7th week includes a showcase performance to a supportive audience of friends\, family\, and fellow students.
URL:https://improvtheatre.co.uk/upcoming-show/performing-improv-level-1-singing-songs-2/
LOCATION:The Bristol Improv Theatre\, Bristol Improv Theatre\, 50 St Paul's Rd\, Clifton\, Bristol BS8 1LP\, Bristol\, BS8 1LP\, United Kingdom
CATEGORIES:Level 3 Courses,Theatre School
ATTACH;FMTTYPE=image/webp:https://improvtheatre.co.uk/wp-content/uploads/2024/11/Tickets-icon-1.webp
ORGANIZER;CN="The Bristol Improv Theatre":MAILTO:hello@improvtheatre.co.uk
END:VEVENT
END:VCALENDAR