BEGIN:VCALENDAR
VERSION:2.0
PRODID:-//Improv Shows &amp; Courses, Bristol | The Bristol Improv Theatre - ECPv6.15.20//NONSGML v1.0//EN
CALSCALE:GREGORIAN
METHOD:PUBLISH
X-ORIGINAL-URL:https://improvtheatre.co.uk
X-WR-CALDESC:Events for Improv Shows &amp; Courses, Bristol | The Bristol Improv Theatre
REFRESH-INTERVAL;VALUE=DURATION:PT1H
X-Robots-Tag:noindex
X-PUBLISHED-TTL:PT1H
BEGIN:VTIMEZONE
TZID:Europe/London
BEGIN:DAYLIGHT
TZOFFSETFROM:+0000
TZOFFSETTO:+0100
TZNAME:BST
DTSTART:20230326T010000
END:DAYLIGHT
BEGIN:STANDARD
TZOFFSETFROM:+0100
TZOFFSETTO:+0000
TZNAME:GMT
DTSTART:20231029T010000
END:STANDARD
BEGIN:DAYLIGHT
TZOFFSETFROM:+0000
TZOFFSETTO:+0100
TZNAME:BST
DTSTART:20240331T010000
END:DAYLIGHT
BEGIN:STANDARD
TZOFFSETFROM:+0100
TZOFFSETTO:+0000
TZNAME:GMT
DTSTART:20241027T010000
END:STANDARD
BEGIN:DAYLIGHT
TZOFFSETFROM:+0000
TZOFFSETTO:+0100
TZNAME:BST
DTSTART:20250330T010000
END:DAYLIGHT
BEGIN:STANDARD
TZOFFSETFROM:+0100
TZOFFSETTO:+0000
TZNAME:GMT
DTSTART:20251026T010000
END:STANDARD
END:VTIMEZONE
BEGIN:VEVENT
DTSTART;TZID=Europe/London:20240126T200000
DTEND;TZID=Europe/London:20240126T220000
DTSTAMP:20260419T132705
CREATED:20231228T184348Z
LAST-MODIFIED:20231228T184348Z
UID:10000707-1706299200-1706306400@improvtheatre.co.uk
SUMMARY:Sci-fi Double Feature: Spon Trek: The Next Improvisation and Waiting for Robo(T)
DESCRIPTION:Friday 26th January | 20:00\n  \nIt’s a Science Fiction Double Feature. Two improv shows\, one Sci-Fi theme. Join us for two brand new stories inspired by your favourite shows and science fiction concepts. \n  \nSpon Trek: The Next Improvisation \nSpace: the final frontier. These are the unscripted voyages of the starship Enterprise. Its continuing mission: to explore strange new worlds. To seek out new jokes and new civilizations. To boldly go where no one has gone before! \nAs if there wasn’t quite enough Star Trek right now\, join us for a “wonderfully geeky\,” (Edfringe Review) brand new episode of the cult sci-fi classic. Inspired by your audience suggestions\, this comedic parody is suitable for all levels of nerdiness and Star Trek knowledge\, including none! \n  \nReal Positive Poles are a Bristol based sci-fi improv troupe. Their previous shows have included The Y Files an improvised X Files and After Dusk an improvised Twilight Zone which won best improv show at the Brighton Fringe 2022 and was top 3 shortlisted for best show in all categories. \n“A beautiful demonstration of everything that improvised performance can be” ★★★★★ – The Reviews Hub \n“Quirky\, offbeat and hilarious” – Swindon Fringe Review \n“Absolutely perfect improv” – Starburst Magazine \nWaiting for Robo(t) \nIn the fast-paced modern world of automation and AI assistants\, it’s an increasingly common worry that a robot might one day replace you and make you obsolete. \nBut what if it’s already happening? What if your colleagues\, friends\, family – even yourself – have already been replaced by synthetic imitators? \nWell\, worry no more! GC Industries is proud to present this live demonstration of their groundbreaking Voight-Kampff test. Sit back and watch as our trained interrogator puts an unsuspecting suspect under the spotlight and finds out whether they’re as human as they claim to be. \nFrom the joyful idiots that brought you Steves and Wooster and Holy Unauthorised Improv Parody\, Batman! comes a new show inspired by that one bit from the beginning of Blade Runner. \n  \n\n\n 
URL:https://improvtheatre.co.uk/upcoming-show/sci-fi-double-feature-spon-trek/
LOCATION:The Bristol Improv Theatre\, Bristol Improv Theatre\, 50 St Paul's Rd\, Clifton\, Bristol BS8 1LP\, Bristol\, BS8 1LP\, United Kingdom
CATEGORIES:Homegrown Heroes,Visiting Acts
ATTACH;FMTTYPE=image/jpeg:https://improvtheatre.co.uk/wp-content/uploads/2023/11/waiting-for-robo.jpeg
ORGANIZER;CN="The Bristol Improv Theatre":MAILTO:hello@improvtheatre.co.uk
END:VEVENT
END:VCALENDAR