BEGIN:VCALENDAR
VERSION:2.0
PRODID:-//Improv Shows &amp; Courses, Bristol | The Bristol Improv Theatre - ECPv6.15.20//NONSGML v1.0//EN
CALSCALE:GREGORIAN
METHOD:PUBLISH
X-WR-CALNAME:Improv Shows &amp; Courses, Bristol | The Bristol Improv Theatre
X-ORIGINAL-URL:https://improvtheatre.co.uk
X-WR-CALDESC:Events for Improv Shows &amp; Courses, Bristol | The Bristol Improv Theatre
REFRESH-INTERVAL;VALUE=DURATION:PT1H
X-Robots-Tag:noindex
X-PUBLISHED-TTL:PT1H
BEGIN:VTIMEZONE
TZID:UTC
BEGIN:STANDARD
TZOFFSETFROM:+0000
TZOFFSETTO:+0000
TZNAME:UTC
DTSTART:20250101T000000
END:STANDARD
END:VTIMEZONE
BEGIN:VEVENT
DTSTART;TZID=UTC:20261002T193000
DTEND;TZID=UTC:20261002T213000
DTSTAMP:20260419T221215
CREATED:20260309T160920Z
LAST-MODIFIED:20260330T123145Z
UID:10003092-1790969400-1790976600@improvtheatre.co.uk
SUMMARY:The Bish Bosh Bash: The Improvised Game Show
DESCRIPTION:Friday\, 3rd April 2026 | 19:30\nFriday\, 1st May 2026 | 19:30\nFriday\, 3rd July 2026 | 19:30\nFriday\, 7th August 2026 | 19:30\nFriday\, 4th September 2026 | 19:30\nFriday\, 2nd October 2026 | 19:30\nFriday\, 6th November 2026 | 19:30\nSaturday\, 4th December 2026 | 19:30\n(Doors Open: 18:30)\nThe Bish Bosh Bash: The Improvised Game Show is back\, bringing songs\, scenes and silliness. \nThe Bish Bosh Bash is a great introduction for those who’ve never seen improv before. An easy-going and mischievous evening awaits. \nIt’s a game of two halves! \nIn the first half\, our teams will go head-to-head playing quick-fire games\, which those familiar with ‘Whose Line Is It Anyway?’ might recognise. The second half is our knockout round\, where our players are both writers and actors in mini-plays inspired by your suggestions. \nThey’re battling it out for you\, playing for your votes and adoration. You decide who makes it to the end\, and ultimately\, which team goes home with the glory! \nJoin The Bish Bosh Bash on the first Friday of each month. \n“A good value evening’s entertainment and plenty of playfulness. Five stars!”\n★★★★★ Bristol 24/7 \nTo book your ticket\, choose your preferred date from the calendar below. \n——— \nTicket sales have been moved to our new events site!\nClick here to buy tickets!\n———
URL:https://improvtheatre.co.uk/upcoming-show/the-bish-bosh-bash-the-improvised-game-show-2026-2/2026-10-02/
LOCATION:The Bristol Improv Theatre\, Bristol Improv Theatre\, 50 St Paul's Rd\, Clifton\, Bristol BS8 1LP\, Bristol\, BS8 1LP\, United Kingdom
CATEGORIES:Flagship Shows
ATTACH;FMTTYPE=image/jpeg:https://improvtheatre.co.uk/wp-content/uploads/2025/12/Bish-Bosh-Bash-at-Bristol-Improv-Theatre.jpg
ORGANIZER;CN="The Bristol Improv Theatre":MAILTO:hello@improvtheatre.co.uk
END:VEVENT
BEGIN:VEVENT
DTSTART;TZID=UTC:20261016T200000
DTEND;TZID=UTC:20261016T220000
DTSTAMP:20260419T221215
CREATED:20251202T133052Z
LAST-MODIFIED:20260401T135627Z
UID:10003079-1792180800-1792188000@improvtheatre.co.uk
SUMMARY:This Is Your Musical
DESCRIPTION:Friday\, 17th April 2026 | 20:00\nFriday\, 15th May 2026 | 20:00\nFriday\, 19th June 2026 | 20:00\nFriday\, 17th July 2026 | 20:00\nFriday\, 18th September 2026 | 20:00\n\n(Bar open from 18:30)\nPrepare to be amazed as you witness the creation of a brand new musical theatre show\, courtesy of The Bristol Improv Theatre’s flagship musical theatre company\, This Is Your Musical! \nTake your seats as this team of talented actors and musicians present a magnificent evening of theatre\, musical numbers and show-tunes\, made-up on the spot and inspired by your stories. \nThis night of musical fun is not to be missed! \nTo book your ticket\, choose your preferred date from the calendar below\n——— \nTicket sales have been moved to our new events site!\nClick here to buy tickets!\n———
URL:https://improvtheatre.co.uk/upcoming-show/this-is-your-musical-2026/2026-10-16/
LOCATION:The Bristol Improv Theatre\, Bristol Improv Theatre\, 50 St Paul's Rd\, Clifton\, Bristol BS8 1LP\, Bristol\, BS8 1LP\, United Kingdom
CATEGORIES:Flagship Shows
ATTACH;FMTTYPE=image/jpeg:https://improvtheatre.co.uk/wp-content/uploads/2022/12/014-November-18-2022-This-Is-Your-Musical-scaled.jpg
ORGANIZER;CN="The Bristol Improv Theatre":MAILTO:hello@improvtheatre.co.uk
END:VEVENT
BEGIN:VEVENT
DTSTART;TZID=UTC:20261120T200000
DTEND;TZID=UTC:20261120T220000
DTSTAMP:20260419T221215
CREATED:20251202T133052Z
LAST-MODIFIED:20260401T135627Z
UID:10003080-1795204800-1795212000@improvtheatre.co.uk
SUMMARY:This Is Your Musical
DESCRIPTION:Friday\, 17th April 2026 | 20:00\nFriday\, 15th May 2026 | 20:00\nFriday\, 19th June 2026 | 20:00\nFriday\, 17th July 2026 | 20:00\nFriday\, 18th September 2026 | 20:00\n\n(Bar open from 18:30)\nPrepare to be amazed as you witness the creation of a brand new musical theatre show\, courtesy of The Bristol Improv Theatre’s flagship musical theatre company\, This Is Your Musical! \nTake your seats as this team of talented actors and musicians present a magnificent evening of theatre\, musical numbers and show-tunes\, made-up on the spot and inspired by your stories. \nThis night of musical fun is not to be missed! \nTo book your ticket\, choose your preferred date from the calendar below\n——— \nTicket sales have been moved to our new events site!\nClick here to buy tickets!\n———
URL:https://improvtheatre.co.uk/upcoming-show/this-is-your-musical-2026/2026-11-20/
LOCATION:The Bristol Improv Theatre\, Bristol Improv Theatre\, 50 St Paul's Rd\, Clifton\, Bristol BS8 1LP\, Bristol\, BS8 1LP\, United Kingdom
CATEGORIES:Flagship Shows
ATTACH;FMTTYPE=image/jpeg:https://improvtheatre.co.uk/wp-content/uploads/2022/12/014-November-18-2022-This-Is-Your-Musical-scaled.jpg
ORGANIZER;CN="The Bristol Improv Theatre":MAILTO:hello@improvtheatre.co.uk
END:VEVENT
BEGIN:VEVENT
DTSTART;TZID=UTC:20261204T193000
DTEND;TZID=UTC:20261204T213000
DTSTAMP:20260419T221215
CREATED:20260309T160920Z
LAST-MODIFIED:20260330T123145Z
UID:10003093-1796412600-1796419800@improvtheatre.co.uk
SUMMARY:The Bish Bosh Bash: The Improvised Game Show
DESCRIPTION:Friday\, 3rd April 2026 | 19:30\nFriday\, 1st May 2026 | 19:30\nFriday\, 3rd July 2026 | 19:30\nFriday\, 7th August 2026 | 19:30\nFriday\, 4th September 2026 | 19:30\nFriday\, 2nd October 2026 | 19:30\nFriday\, 6th November 2026 | 19:30\nSaturday\, 4th December 2026 | 19:30\n(Doors Open: 18:30)\nThe Bish Bosh Bash: The Improvised Game Show is back\, bringing songs\, scenes and silliness. \nThe Bish Bosh Bash is a great introduction for those who’ve never seen improv before. An easy-going and mischievous evening awaits. \nIt’s a game of two halves! \nIn the first half\, our teams will go head-to-head playing quick-fire games\, which those familiar with ‘Whose Line Is It Anyway?’ might recognise. The second half is our knockout round\, where our players are both writers and actors in mini-plays inspired by your suggestions. \nThey’re battling it out for you\, playing for your votes and adoration. You decide who makes it to the end\, and ultimately\, which team goes home with the glory! \nJoin The Bish Bosh Bash on the first Friday of each month. \n“A good value evening’s entertainment and plenty of playfulness. Five stars!”\n★★★★★ Bristol 24/7 \nTo book your ticket\, choose your preferred date from the calendar below. \n——— \nTicket sales have been moved to our new events site!\nClick here to buy tickets!\n———
URL:https://improvtheatre.co.uk/upcoming-show/the-bish-bosh-bash-the-improvised-game-show-2026-2/2026-12-04/
LOCATION:The Bristol Improv Theatre\, Bristol Improv Theatre\, 50 St Paul's Rd\, Clifton\, Bristol BS8 1LP\, Bristol\, BS8 1LP\, United Kingdom
CATEGORIES:Flagship Shows
ATTACH;FMTTYPE=image/jpeg:https://improvtheatre.co.uk/wp-content/uploads/2025/12/Bish-Bosh-Bash-at-Bristol-Improv-Theatre.jpg
ORGANIZER;CN="The Bristol Improv Theatre":MAILTO:hello@improvtheatre.co.uk
END:VEVENT
BEGIN:VEVENT
DTSTART;TZID=UTC:20261212T200000
DTEND;TZID=UTC:20261212T220000
DTSTAMP:20260419T221215
CREATED:20251202T133052Z
LAST-MODIFIED:20260401T135627Z
UID:10003081-1797105600-1797112800@improvtheatre.co.uk
SUMMARY:This Is Your Musical
DESCRIPTION:Friday\, 17th April 2026 | 20:00\nFriday\, 15th May 2026 | 20:00\nFriday\, 19th June 2026 | 20:00\nFriday\, 17th July 2026 | 20:00\nFriday\, 18th September 2026 | 20:00\n\n(Bar open from 18:30)\nPrepare to be amazed as you witness the creation of a brand new musical theatre show\, courtesy of The Bristol Improv Theatre’s flagship musical theatre company\, This Is Your Musical! \nTake your seats as this team of talented actors and musicians present a magnificent evening of theatre\, musical numbers and show-tunes\, made-up on the spot and inspired by your stories. \nThis night of musical fun is not to be missed! \nTo book your ticket\, choose your preferred date from the calendar below\n——— \nTicket sales have been moved to our new events site!\nClick here to buy tickets!\n———
URL:https://improvtheatre.co.uk/upcoming-show/this-is-your-musical-2026/2026-12-12/
LOCATION:The Bristol Improv Theatre\, Bristol Improv Theatre\, 50 St Paul's Rd\, Clifton\, Bristol BS8 1LP\, Bristol\, BS8 1LP\, United Kingdom
CATEGORIES:Flagship Shows
ATTACH;FMTTYPE=image/jpeg:https://improvtheatre.co.uk/wp-content/uploads/2022/12/014-November-18-2022-This-Is-Your-Musical-scaled.jpg
ORGANIZER;CN="The Bristol Improv Theatre":MAILTO:hello@improvtheatre.co.uk
END:VEVENT
BEGIN:VEVENT
DTSTART;TZID=UTC:20270211T193000
DTEND;TZID=UTC:20270211T213000
DTSTAMP:20260419T221216
CREATED:20251202T163024Z
LAST-MODIFIED:20260325T114126Z
UID:10003186-1802374200-1802381400@improvtheatre.co.uk
SUMMARY:The Bish Bosh Bash: The Improvised Game Show
DESCRIPTION:Friday\, 6th February 2026 | 19:30\nFriday\, 6th March 2026 | 19:30\nFriday\, 3rd April 2026 | 19:30\nFriday\, 1st May 2026 | 19:30\nFriday\, 3rd July 2026 | 19:30\nFriday\, 7th August 2026 | 19:30\nFriday\, 4th September 2026 | 19:30\nFriday\, 2nd October 2026 | 19:30\nFriday\, 6th November 2026 | 19:30\nSaturday\, 4th December 2026 | 19:30\n(Doors Open: 18:30)\nThe Bish Bosh Bash: The Improvised Game Show is back\, bringing songs\, scenes and silliness. \nThe Bish Bosh Bash is a great introduction for those who’ve never seen improv before. An easy-going and mischievous evening awaits. \nIt’s a game of two halves! \nIn the first half\, our teams will go head-to-head playing quick-fire games\, which those familiar with ‘Whose Line Is It Anyway?’ might recognise. The second half is our knockout round\, where our players are both writers and actors in mini-plays inspired by your suggestions. \nThey’re battling it out for you\, playing for your votes and adoration. You decide who makes it to the end\, and ultimately\, which team goes home with the glory! \nJoin The Bish Bosh Bash on the first Friday of each month. \n“A good value evening’s entertainment and plenty of playfulness. Five stars!”\n★★★★★ Bristol 24/7 \n  \n——— \nTicket sales are temporarily closed for a system update and will reopen on Saturday\, 28th March 2026\nFollow us on Instagram for updates! \n———
URL:https://improvtheatre.co.uk/upcoming-show/the-bish-bosh-bash-the-improvised-game-show-2026/2027-02-11/
LOCATION:The Bristol Improv Theatre\, Bristol Improv Theatre\, 50 St Paul's Rd\, Clifton\, Bristol BS8 1LP\, Bristol\, BS8 1LP\, United Kingdom
CATEGORIES:Flagship Shows
ATTACH;FMTTYPE=image/jpeg:https://improvtheatre.co.uk/wp-content/uploads/2025/12/Bish-Bosh-Bash-at-Bristol-Improv-Theatre.jpg
ORGANIZER;CN="The Bristol Improv Theatre":MAILTO:hello@improvtheatre.co.uk
END:VEVENT
END:VCALENDAR