BEGIN:VCALENDAR
VERSION:2.0
PRODID:-//Improv Shows &amp; Courses, Bristol | The Bristol Improv Theatre - ECPv6.15.20//NONSGML v1.0//EN
CALSCALE:GREGORIAN
METHOD:PUBLISH
X-WR-CALNAME:Improv Shows &amp; Courses, Bristol | The Bristol Improv Theatre
X-ORIGINAL-URL:https://improvtheatre.co.uk
X-WR-CALDESC:Events for Improv Shows &amp; Courses, Bristol | The Bristol Improv Theatre
REFRESH-INTERVAL;VALUE=DURATION:PT1H
X-Robots-Tag:noindex
X-PUBLISHED-TTL:PT1H
BEGIN:VTIMEZONE
TZID:Europe/London
BEGIN:DAYLIGHT
TZOFFSETFROM:+0000
TZOFFSETTO:+0100
TZNAME:BST
DTSTART:20250330T010000
END:DAYLIGHT
BEGIN:STANDARD
TZOFFSETFROM:+0100
TZOFFSETTO:+0000
TZNAME:GMT
DTSTART:20251026T010000
END:STANDARD
BEGIN:DAYLIGHT
TZOFFSETFROM:+0000
TZOFFSETTO:+0100
TZNAME:BST
DTSTART:20260329T010000
END:DAYLIGHT
BEGIN:STANDARD
TZOFFSETFROM:+0100
TZOFFSETTO:+0000
TZNAME:GMT
DTSTART:20261025T010000
END:STANDARD
BEGIN:DAYLIGHT
TZOFFSETFROM:+0000
TZOFFSETTO:+0100
TZNAME:BST
DTSTART:20270328T010000
END:DAYLIGHT
BEGIN:STANDARD
TZOFFSETFROM:+0100
TZOFFSETTO:+0000
TZNAME:GMT
DTSTART:20271031T010000
END:STANDARD
END:VTIMEZONE
BEGIN:VEVENT
DTSTART;TZID=Europe/London:20260319T180000
DTEND;TZID=Europe/London:20260319T193000
DTSTAMP:20260422T135226
CREATED:20260206T152127Z
LAST-MODIFIED:20260206T152432Z
UID:10003156-1773943200-1773948600@improvtheatre.co.uk
SUMMARY:Breathwork for Stress Release - Free Session
DESCRIPTION:Thursday\, 19 March 2026 | 18:00 – 19:30\nCome and join us for a FREE Conscious Connected Breathwork session to alleviate the stress and tension that arises from modern\, busy lives. \nIn collaboration with Becky and Suki from Culture Kick Ltd\, we are excited to be hosting a FREE Conscious Connected Breathwork session to encourage more people to try what is an impactful and energising practice. \nWhat is Conscious Connected Breathwork? \nA unique style of breathwork using a deep\, circular mouth-in\, mouth-out pattern\, staying consciously engaged with each inhale and exhale. Sessions are facilitator-led in music-guided rounds with breath retentions. This empowering session will finish with a guided themed visualisation while people relax deeply. \nWhat are the benefits? \nModern life is busy and often overwhelming. Breathwork offers a chance to pause\, reconnect with your body\, and release tension\, stored emotions\, or stagnant energy\, leaving you feeling physically and emotionally lighter. It can help you feel more resilient\, with greater capacity\, clarity\, focus\, and calm\, both at work and at home. Over time\, it also supports a deeper connection with yourself and strengthens your sense of self-trust and self-leadership. \nWhat is the structure of the session? \nThe session begins with a brief introduction to Conscious Connected Breathing\, a demonstration of the pattern\, and time for questions. You’ll then get comfortable lying down with eyes closed\, followed by a short grounding exercise. Then move into 2–3 rounds of breathing to music\, with optional guided breath retentions and finish with a guided visualisation and reading while you relax deeply to music.  \nWhat do I need for the session? \nYou’ll need to lie down\, so bring a yoga mat or something similar\, plus anything that helps you feel comfortable – pillows\, a blanket\, and comfortable\, non-restrictive clothing. Have some water on hand and come with an open mind.  \nThis style of breathwork is for adults aged 18 and over only. \nBreathwork can result in intense physical\, emotional\, and energetic release. Therefore\, it is not advised for individuals with any of the following conditions: \n\nCardiovascular conditions\, including angina\, previous heart attacks\, or pacemakers\nHigh blood pressure\nGlaucoma or retinal detachment\nEpilepsy or seizure disorders\nA personal or family history of aneurysms\nSevere or chronic mental health conditions (unless with prior Dr approval)\nOsteoporosis or any condition exacerbated by intense movement or breathing\nRecent major surgeries or physical injuries\nCurrently taking major medications that impair physical or emotional regulation\nPregnant women are advised not to do this form of breathwork without first consulting and receiving approval from Dr.\nIndividuals with asthma should consult with their Dr and inform the breathwork facilitator before participating. Inhalers must be brought to the session.
URL:https://improvtheatre.co.uk/upcoming-show/breathwork-for-stress-release-free-session/
LOCATION:The Bristol Improv Theatre\, Bristol Improv Theatre\, 50 St Paul's Rd\, Clifton\, Bristol BS8 1LP\, Bristol\, BS8 1LP\, United Kingdom
CATEGORIES:Community Event,Guest Workshops,Theatre School
ATTACH;FMTTYPE=image/png:https://improvtheatre.co.uk/wp-content/uploads/2026/02/Free-breathwork-taster.png
ORGANIZER;CN="The Bristol Improv Theatre":MAILTO:hello@improvtheatre.co.uk
END:VEVENT
END:VCALENDAR