BEGIN:VCALENDAR
VERSION:2.0
PRODID:-//Improv Shows &amp; Courses, Bristol | The Bristol Improv Theatre - ECPv6.15.20//NONSGML v1.0//EN
CALSCALE:GREGORIAN
METHOD:PUBLISH
X-ORIGINAL-URL:https://improvtheatre.co.uk
X-WR-CALDESC:Events for Improv Shows &amp; Courses, Bristol | The Bristol Improv Theatre
REFRESH-INTERVAL;VALUE=DURATION:PT1H
X-Robots-Tag:noindex
X-PUBLISHED-TTL:PT1H
BEGIN:VTIMEZONE
TZID:Europe/London
BEGIN:DAYLIGHT
TZOFFSETFROM:+0000
TZOFFSETTO:+0100
TZNAME:BST
DTSTART:20250330T010000
END:DAYLIGHT
BEGIN:STANDARD
TZOFFSETFROM:+0100
TZOFFSETTO:+0000
TZNAME:GMT
DTSTART:20251026T010000
END:STANDARD
BEGIN:DAYLIGHT
TZOFFSETFROM:+0000
TZOFFSETTO:+0100
TZNAME:BST
DTSTART:20260329T010000
END:DAYLIGHT
BEGIN:STANDARD
TZOFFSETFROM:+0100
TZOFFSETTO:+0000
TZNAME:GMT
DTSTART:20261025T010000
END:STANDARD
BEGIN:DAYLIGHT
TZOFFSETFROM:+0000
TZOFFSETTO:+0100
TZNAME:BST
DTSTART:20270328T010000
END:DAYLIGHT
BEGIN:STANDARD
TZOFFSETFROM:+0100
TZOFFSETTO:+0000
TZNAME:GMT
DTSTART:20271031T010000
END:STANDARD
END:VTIMEZONE
BEGIN:VTIMEZONE
TZID:UTC
BEGIN:STANDARD
TZOFFSETFROM:+0000
TZOFFSETTO:+0000
TZNAME:UTC
DTSTART:20250101T000000
END:STANDARD
END:VTIMEZONE
BEGIN:VEVENT
DTSTART;TZID=Europe/London:20260126T130000
DTEND;TZID=Europe/London:20260126T143000
DTSTAMP:20260424T110039
CREATED:20260112T123110Z
LAST-MODIFIED:20260330T103213Z
UID:10003051-1769432400-1769437800@improvtheatre.co.uk
SUMMARY:Lunchtime Improv with Rebecca MacMillan
DESCRIPTION:Mondays | 13:00 – 14:30\n(NO LUNCHTIME IMPROV ON MON\, 30TH MARCH or 6TH APRIL 2026)\n(Please check the calendar below for dates of upcoming sessions)\nDiscover the joy of improv with Rebecca MacMillan’s lunchtime classes at Bristol Improv Theatre. These sessions are designed for creatives\, freelancers\, and everyone else that’s looking for a dose of joy in their day. Powerfully creative\, intensely playful\, and highly enjoyable\, improv is a great way to boost your confidence\, unleash creativity\, and improve your wellbeing. You’ll experience the joy and inner playfulness that comes from improvising and challenging yourself to be in the moment! Each drop-in session is stand-alone\, so you can join any Monday without needing prior experience. \n“It’s like skydiving for the imagination.”\n \nCome play\, laugh\, and connect with yourself and others\, and leave with a lighter heart and a smile on your face. \nBring a Newcomer for Free this January\nWith every paid ticket booked for Rebecca MacMillan’s Lunchtime Improv 19th and 26th January classes you can claim a free ticket as long as the free ticket is for someone who has never been to a Lunchtime Improv class before. And it must be redeemed at the time you buy a standard or concession rate ticket. So whether you’re a regular looking to entice a friend who has never been before\, or newcomers wanting to try the session together this offer is for you! \nClick here to find out more \nTo book your ticket\, simply choose your preferred date below.
URL:https://improvtheatre.co.uk/upcoming-show/lunchtime-improv-with-rebecca-macmillan-2-2-3/
LOCATION:The Bristol Improv Theatre\, Bristol Improv Theatre\, 50 St Paul's Rd\, Clifton\, Bristol BS8 1LP\, Bristol\, BS8 1LP\, United Kingdom
CATEGORIES:Theatre School
ATTACH;FMTTYPE=image/jpeg:https://improvtheatre.co.uk/wp-content/uploads/2024/09/Rebeca-macmillan-banner.jpg
ORGANIZER;CN="The Bristol Improv Theatre":MAILTO:hello@improvtheatre.co.uk
END:VEVENT
BEGIN:VEVENT
DTSTART;TZID=UTC:20260126T190000
DTEND;TZID=UTC:20260126T210000
DTSTAMP:20260424T110039
CREATED:20251204T220635Z
LAST-MODIFIED:20260112T193835Z
UID:10002963-1769454000-1769461200@improvtheatre.co.uk
SUMMARY:Improv Drop-ins
DESCRIPTION:Mondays | 19:00 – 21:00\nLooking to stretch your improvising muscles? Then our drop-ins are for you! \nOur drop-ins run every Monday evening and alternate between scene workshops and classes focused on specific skills to help you pad out your improvisers tool-kit. \nDuring our scene workshops\, you’ll receive supportive and constructive side-coaching\, tailored to the group and designed to develop your confidence and improvisation skills. On the other hand\, the regular drop-ins will take a specific skill and explore it through games\, exercises and scenes. \nFacilitated by an experienced Bristol Improv Theatre instructor\, drop-ins are a great chance to try improv at Bristol Improv Theatre and connect with others. \nAny questions\, please don’t hesitate to get in touch at theatreschool@improvtheatre.net. \nIf you are brand new to improv\, you may prefer to try the monthly Improv Taster Session. \nIf you have any accommodations or access needs\, please let us know at theatreschool@improvtheatre.net. If you are attending this class with a carer\, they do not need to buy a ticket\, but please do let us know so that we can keep an eye on class size. \nOur Improv Drop-Ins are very popular classes which regularly sell out. We would always recommend booking your place in advance in order to secure your spot. Whilst we do occasionally have drop outs and availability on the day\, we would recommend booking in advance to avoid disappointment. \nTo book your ticket\, simply choose your preferred date below.
URL:https://improvtheatre.co.uk/upcoming-show/improv-drop-ins-3-2-2-3-3/2026-01-26/
LOCATION:The Bristol Improv Theatre\, Bristol Improv Theatre\, 50 St Paul's Rd\, Clifton\, Bristol BS8 1LP\, Bristol\, BS8 1LP\, United Kingdom
CATEGORIES:Theatre School
ATTACH;FMTTYPE=image/jpeg:https://improvtheatre.co.uk/wp-content/uploads/2025/07/Improv-Drop-Ins-scaled.jpg
ORGANIZER;CN="The Bristol Improv Theatre":MAILTO:hello@improvtheatre.co.uk
END:VEVENT
END:VCALENDAR