BEGIN:VCALENDAR
VERSION:2.0
PRODID:-//Improv Shows &amp; Courses, Bristol | The Bristol Improv Theatre - ECPv6.15.20//NONSGML v1.0//EN
CALSCALE:GREGORIAN
METHOD:PUBLISH
X-WR-CALNAME:Improv Shows &amp; Courses, Bristol | The Bristol Improv Theatre
X-ORIGINAL-URL:https://improvtheatre.co.uk
X-WR-CALDESC:Events for Improv Shows &amp; Courses, Bristol | The Bristol Improv Theatre
REFRESH-INTERVAL;VALUE=DURATION:PT1H
X-Robots-Tag:noindex
X-PUBLISHED-TTL:PT1H
BEGIN:VTIMEZONE
TZID:Europe/London
BEGIN:DAYLIGHT
TZOFFSETFROM:+0000
TZOFFSETTO:+0100
TZNAME:BST
DTSTART:20240331T010000
END:DAYLIGHT
BEGIN:STANDARD
TZOFFSETFROM:+0100
TZOFFSETTO:+0000
TZNAME:GMT
DTSTART:20241027T010000
END:STANDARD
BEGIN:DAYLIGHT
TZOFFSETFROM:+0000
TZOFFSETTO:+0100
TZNAME:BST
DTSTART:20250330T010000
END:DAYLIGHT
BEGIN:STANDARD
TZOFFSETFROM:+0100
TZOFFSETTO:+0000
TZNAME:GMT
DTSTART:20251026T010000
END:STANDARD
BEGIN:DAYLIGHT
TZOFFSETFROM:+0000
TZOFFSETTO:+0100
TZNAME:BST
DTSTART:20260329T010000
END:DAYLIGHT
BEGIN:STANDARD
TZOFFSETFROM:+0100
TZOFFSETTO:+0000
TZNAME:GMT
DTSTART:20261025T010000
END:STANDARD
END:VTIMEZONE
BEGIN:VTIMEZONE
TZID:UTC
BEGIN:STANDARD
TZOFFSETFROM:+0000
TZOFFSETTO:+0000
TZNAME:UTC
DTSTART:20240101T000000
END:STANDARD
END:VTIMEZONE
BEGIN:VEVENT
DTSTART;TZID=Europe/London:20251022T183000
DTEND;TZID=Europe/London:20251203T210000
DTSTAMP:20260424T105936
CREATED:20250908T130942Z
LAST-MODIFIED:20250924T101850Z
UID:10002932-1761157800-1764795600@improvtheatre.co.uk
SUMMARY:The Harold Made Easy with Maria Peters
DESCRIPTION:October 22nd – December 10th | Wednesdays | 18:30 – 2100 (Showcase on 10th December)\n———————(No class on November 26th)———————\n\nThis course will undoubtedly make you a better improviser.\n\nThe Harold improv format is an essential skill set for anyone looking to upgrade their improv to the next level.\nIt pushes you to listen more deeply\, play with greater creativity\, and build stories that stick with an audience far beyond a single scene. Whether you’ve been performing The Harold for a while or have only heard rumours about it\, these 6 x workshops will guide you through both foundations and advanced techniques\, all while boosting your confidence in a fun\, supportive\, and welcoming space.\n\nAnd when it comes to your instructor there’s no one better to learn The Harold from. Maria Peters trained directly with Charna Halpern\, the actual co-creator of the format. She spent months studying with instructors from iO and Second City Chicago\, UCB New York and brings over a decade of experience performing around the world.\n\nHere are some of the things you’ll walk away with from the course: \n\n\n\n\nGroup Mind – Practical techniques that lead to that elusive\, abstract\, and magical thing when an ensemble seems to be thinking with one mind.\n\n\nLong-Form Storytelling – We’re not talking about the classic narrative ‘hero’s journey’ or ‘once upon a time’ narrative structure here. You’ll learn the 3-stranded framework that almost all Television episodes are based upon. You’ll weave characters arcs and themes throughout. All while building satisfying endings to shows that feel like powerful scripted narratives.\n\n\nAdvanced Editing Skills – You’ll have a better sense of scenic timing as well as greater confidence in entering or ending scenes.\n\n\nAmerican Style Improv – The Harold is the foundation for a lot of long-form improv worldwide. Knowing it will help you wrap your head around loads of other formats as well as giving you the tools and inspiration to create your own. 
URL:https://improvtheatre.co.uk/upcoming-show/the-harold-made-easy-with-maria-peters/
LOCATION:The Bristol Improv Theatre\, Bristol Improv Theatre\, 50 St Paul's Rd\, Clifton\, Bristol BS8 1LP\, Bristol\, BS8 1LP\, United Kingdom
CATEGORIES:Guest Workshops,Theatre School
ATTACH;FMTTYPE=image/png:https://improvtheatre.co.uk/wp-content/uploads/2025/09/Chicago-2013-scaled.png
ORGANIZER;CN="The Bristol Improv Theatre":MAILTO:hello@improvtheatre.co.uk
END:VEVENT
BEGIN:VEVENT
DTSTART;TZID=UTC:20251028T183000
DTEND;TZID=UTC:20251209T210000
DTSTAMP:20260424T105936
CREATED:20250705T102950Z
LAST-MODIFIED:20260112T195339Z
UID:10002301-1761676200-1765314000@improvtheatre.co.uk
SUMMARY:Level 3: Performing Improv - Creating Characters
DESCRIPTION:28th October – 9th December | Tuesdays | 18:30 – 21:00\nBe anyone (or anything) you want to be – in improv\, the possibilities are limitless! But where to start? When you’re making spontaneous creative choices and responding on-the-fly\, it can be difficult to play a character who feels different from yourself. There’s often so much going on that you hardly have room to think about being someone else. \nThis seven-week course introduces the tools\, techniques\, and tricks used to create characters on-the-spot. You’ll explore how characters can emerge and grow through physicality\, status\, and the relationships between characters – building your confidence in stepping into another person’s shoes when you perform.\n \nWho is this course for? \n\nStudents who have completed Discovering Improv & Intro to Performing Improv and want to take the next step\nPerformers who have some improv experience and want to develop their improvised characterisation skills \nAnyone who has learned improv elsewhere and wants to start learning with the BIT school\n\n\n      \n        \n      \n    \nCLASS DETAILS\nThis course consists of 7 sessions that last for 2.5 hours each\, and will be taught by an experienced facilitator. Places are capped at 12. Like all our Performing Improv courses\, the 7th week includes a showcase performance to a supportive audience of friends\, family\, and fellow students.
URL:https://improvtheatre.co.uk/upcoming-show/level-3-performing-improv-creating-characters/
LOCATION:The Bristol Improv Theatre\, Bristol Improv Theatre\, 50 St Paul's Rd\, Clifton\, Bristol BS8 1LP\, Bristol\, BS8 1LP\, United Kingdom
CATEGORIES:Level 3 Courses,Theatre School
ATTACH;FMTTYPE=image/jpeg:https://improvtheatre.co.uk/wp-content/uploads/2025/07/Creating-Characters-scaled.jpg
ORGANIZER;CN="The Bristol Improv Theatre":MAILTO:hello@improvtheatre.co.uk
END:VEVENT
BEGIN:VEVENT
DTSTART;TZID=Europe/London:20251124T130000
DTEND;TZID=Europe/London:20251124T143000
DTSTAMP:20260424T105936
CREATED:20250721T194733Z
LAST-MODIFIED:20260401T122435Z
UID:10002459-1763989200-1763994600@improvtheatre.co.uk
SUMMARY:Lunchtime Improv with Rebecca MacMillan
DESCRIPTION:Mondays | 13:00 – 14:30\n(NO LUNCHTIME IMPROV ON 6TH APRIL 2026)\n(Please check the calendar below for dates of upcoming sessions)\nDiscover the joy of improv with Rebecca MacMillan’s lunchtime classes at Bristol Improv Theatre. These sessions are designed for creatives\, freelancers\, and everyone else who’s looking for a dose of joy in their day. Powerfully creative\, intensely playful\, and highly enjoyable\, improv is a great way to boost your confidence\, unleash creativity\, and improve your wellbeing. You’ll experience the joy and inner playfulness that comes from improvising and challenging yourself to be in the moment! Each drop-in session is stand-alone\, so you can join any Monday without needing prior experience. \n“It’s like skydiving for the imagination.”\n \nCome play\, laugh\, and connect with yourself and others\, and leave with a lighter heart and a smile on your face. \nTo book your ticket\, simply choose your preferred date below.\n——— \nTicket sales have been moved to our new events site!\nClick here to buy tickets!\n———
URL:https://improvtheatre.co.uk/upcoming-show/lunchtime-improv-with-rebecca-macmillan-2-2/2025-11-24/
LOCATION:The Bristol Improv Theatre\, Bristol Improv Theatre\, 50 St Paul's Rd\, Clifton\, Bristol BS8 1LP\, Bristol\, BS8 1LP\, United Kingdom
CATEGORIES:Theatre School
ATTACH;FMTTYPE=image/jpeg:https://improvtheatre.co.uk/wp-content/uploads/2024/09/Rebeca-macmillan-banner.jpg
ORGANIZER;CN="The Bristol Improv Theatre":MAILTO:hello@improvtheatre.co.uk
END:VEVENT
BEGIN:VEVENT
DTSTART;TZID=Europe/London:20251124T150000
DTEND;TZID=Europe/London:20251124T163000
DTSTAMP:20260424T105936
CREATED:20250929T120321Z
LAST-MODIFIED:20250929T120321Z
UID:10002945-1763996400-1764001800@improvtheatre.co.uk
SUMMARY:Lloydie & Rebecca Spill the Afternoon Tea
DESCRIPTION:Monday\, 24th November | 15:00\n(Doors Open 14:40)\nAt 3pm on a Monday afternoon — the perfect time for scones\, jam and tea — Lloydie James Lloyd (Rhymes Against Humanity\, The Clones) and Rebecca MacMillan (Closer Each Day\, The Maydays\, Impromptu Shakespeare) invite you to tea as they reunite on stage. \nOld friends with decades of improv between them\, expect silliness and a touch of heartfelt truth\, conjured from nothing more than a suggestion from you. Like the juiciest gossip over afternoon tea\, it’s intimate\, delicious and gone before you can butter your second scone. \nNo script. No plan. No proof. Just one delightfully one-off afternoon of top-tier improv\, with two improvisers who really know how to spill it.
URL:https://improvtheatre.co.uk/upcoming-show/lloydie-rebecca-spill-the-afternoon-tea/
LOCATION:The Bristol Improv Theatre\, Bristol Improv Theatre\, 50 St Paul's Rd\, Clifton\, Bristol BS8 1LP\, Bristol\, BS8 1LP\, United Kingdom
CATEGORIES:Visiting Acts
ATTACH;FMTTYPE=image/jpeg:https://improvtheatre.co.uk/wp-content/uploads/2025/09/2025-11-24-Lloydie-Rebecca-Spill-the-Afternoon-Tea-poster.jpg
ORGANIZER;CN="The Bristol Improv Theatre":MAILTO:hello@improvtheatre.co.uk
END:VEVENT
BEGIN:VEVENT
DTSTART;TZID=UTC:20251124T190000
DTEND;TZID=UTC:20251124T210000
DTSTAMP:20260424T105936
CREATED:20250705T112140Z
LAST-MODIFIED:20260202T192233Z
UID:10002480-1764010800-1764018000@improvtheatre.co.uk
SUMMARY:Improv Drop-ins
DESCRIPTION:Mondays | 19:00 – 21:00\nLooking to stretch your improvising muscles? Then our drop-ins are for you! \nOur drop-ins run every Monday evening and alternate between scene workshops and classes focused on specific skills to help you pad out your improvisers tool-kit. \nDuring our scene workshops\, you’ll receive supportive and constructive side-coaching\, tailored to the group and designed to develop your confidence and improvisation skills. On the other hand\, the regular drop-ins will take a specific skill and explore it through games\, exercises and scenes. \nFacilitated by an experienced Bristol Improv Theatre instructor\, drop-ins are a great chance to try improv at Bristol Improv Theatre and connect with others. \nAny questions\, please don’t hesitate to get in touch at theatreschool@improvtheatre.net. \nIf you are brand new to improv\, you may prefer to try the monthly Improv Taster Session. \nIf you have any accommodations or access needs\, please let us know at theatreschool@improvtheatre.net. If you are attending this class with a carer\, they do not need to buy a ticket\, but please do let us know so that we can keep an eye on class size. \nOur Improv Drop-Ins are very popular classes which regularly sell out. We would always recommend booking your place in advance in order to secure your spot. Whilst we do occasionally have drop outs and availability on the day\, we would recommend booking in advance to avoid disappointment. \nTo book your ticket\, simply choose your preferred date below.
URL:https://improvtheatre.co.uk/upcoming-show/improv-drop-ins-3-2-2-3/2025-11-24/
LOCATION:The Bristol Improv Theatre\, Bristol Improv Theatre\, 50 St Paul's Rd\, Clifton\, Bristol BS8 1LP\, Bristol\, BS8 1LP\, United Kingdom
CATEGORIES:Theatre School
ATTACH;FMTTYPE=image/jpeg:https://improvtheatre.co.uk/wp-content/uploads/2025/07/Improv-Drop-Ins-scaled.jpg
ORGANIZER;CN="The Bristol Improv Theatre":MAILTO:hello@improvtheatre.co.uk
END:VEVENT
END:VCALENDAR