BEGIN:VCALENDAR
VERSION:2.0
PRODID:-//Improv Shows &amp; Courses, Bristol | The Bristol Improv Theatre - ECPv6.15.20//NONSGML v1.0//EN
CALSCALE:GREGORIAN
METHOD:PUBLISH
X-ORIGINAL-URL:https://improvtheatre.co.uk
X-WR-CALDESC:Events for Improv Shows &amp; Courses, Bristol | The Bristol Improv Theatre
REFRESH-INTERVAL;VALUE=DURATION:PT1H
X-Robots-Tag:noindex
X-PUBLISHED-TTL:PT1H
BEGIN:VTIMEZONE
TZID:Europe/London
BEGIN:DAYLIGHT
TZOFFSETFROM:+0000
TZOFFSETTO:+0100
TZNAME:BST
DTSTART:20240331T010000
END:DAYLIGHT
BEGIN:STANDARD
TZOFFSETFROM:+0100
TZOFFSETTO:+0000
TZNAME:GMT
DTSTART:20241027T010000
END:STANDARD
BEGIN:DAYLIGHT
TZOFFSETFROM:+0000
TZOFFSETTO:+0100
TZNAME:BST
DTSTART:20250330T010000
END:DAYLIGHT
BEGIN:STANDARD
TZOFFSETFROM:+0100
TZOFFSETTO:+0000
TZNAME:GMT
DTSTART:20251026T010000
END:STANDARD
BEGIN:DAYLIGHT
TZOFFSETFROM:+0000
TZOFFSETTO:+0100
TZNAME:BST
DTSTART:20260329T010000
END:DAYLIGHT
BEGIN:STANDARD
TZOFFSETFROM:+0100
TZOFFSETTO:+0000
TZNAME:GMT
DTSTART:20261025T010000
END:STANDARD
END:VTIMEZONE
BEGIN:VEVENT
DTSTART;TZID=Europe/London:20250910T213000
DTEND;TZID=Europe/London:20250910T233000
DTSTAMP:20260423T010818
CREATED:20250828T154858Z
LAST-MODIFIED:20250910T145828Z
UID:10002550-1757539800-1757547000@improvtheatre.co.uk
SUMMARY:The Cambridge Footlights International Tour Show 2025 - Fragile Contents
DESCRIPTION:Wednesday 10th September | 20:00 – 21:00\n(Bar Open: 19:00)\n‘The most renowned sketch troupe of them all’ (Independent) embark on their annual tour once again! \nThe Cambridge Footlights are back with five of Cambridge’s best student comedians putting on a brand-new show featuring their funniest sketches! \n“The Cambridge Footlights are at the top of their game and that is on display throughout the entirety of the show” \n★★★★ Broadway World – Footlights International Tour 2023 \nIn case you had any doubt\, Broadway Baby can confirm it’s pretty “special to witness such an established organisation at work”. – Footlights International Tour 2024 \nPlease note: This event is an external hire. For queries not related to the venue\, please contact The Cambridge Footlights.
URL:https://improvtheatre.co.uk/upcoming-show/the-cambridge-footlights-tour-2025/
LOCATION:The Bristol Improv Theatre\, Bristol Improv Theatre\, 50 St Paul's Rd\, Clifton\, Bristol BS8 1LP\, Bristol\, BS8 1LP\, United Kingdom
CATEGORIES:Visiting Acts
ATTACH;FMTTYPE=image/png:https://improvtheatre.co.uk/wp-content/uploads/2025/08/2025-09-13-Cambridge-Footlights-Fragile-Contents.png
ORGANIZER;CN="The Cambridge Footlights":MAILTO:tourmanager@cambridgefootlights.org
END:VEVENT
END:VCALENDAR