BEGIN:VCALENDAR
VERSION:2.0
PRODID:-//Improv Shows &amp; Courses, Bristol | The Bristol Improv Theatre - ECPv6.15.20//NONSGML v1.0//EN
CALSCALE:GREGORIAN
METHOD:PUBLISH
X-ORIGINAL-URL:https://improvtheatre.co.uk
X-WR-CALDESC:Events for Improv Shows &amp; Courses, Bristol | The Bristol Improv Theatre
REFRESH-INTERVAL;VALUE=DURATION:PT1H
X-Robots-Tag:noindex
X-PUBLISHED-TTL:PT1H
BEGIN:VTIMEZONE
TZID:UTC
BEGIN:STANDARD
TZOFFSETFROM:+0000
TZOFFSETTO:+0000
TZNAME:UTC
DTSTART:20240101T000000
END:STANDARD
END:VTIMEZONE
BEGIN:VEVENT
DTSTART;TZID=UTC:20250217T200000
DTEND;TZID=UTC:20250217T213000
DTSTAMP:20260419T144327
CREATED:20240708T105938Z
LAST-MODIFIED:20250211T151344Z
UID:10000962-1739822400-1739827800@improvtheatre.co.uk
SUMMARY:Performing L1: Making a Scene Student Showcase
DESCRIPTION:Monday 17th February | 20:00\nCome and see the graduates of BIT’s latest Performing Improv course as they share some of the skills they’ve been building over the 7 week course. \nOur wonderful students will be improvising stories and scenes before your eyes\, based on your suggestions. \nFREE ENTRY – fellow students\, family and friends welcome! \nThe bar will be open from 7:30pm and the show starts at 8pm. Why not join us for a celebratory drink after the show?
URL:https://improvtheatre.co.uk/upcoming-show/performing-l1-making-a-scene-student-showcase/
LOCATION:The Bristol Improv Theatre\, Bristol Improv Theatre\, 50 St Paul's Rd\, Clifton\, Bristol BS8 1LP\, Bristol\, BS8 1LP\, United Kingdom
CATEGORIES:Level 3 Courses,Theatre School
ATTACH;FMTTYPE=image/jpeg:https://improvtheatre.co.uk/wp-content/uploads/2023/02/TheatreJam_03January2019_WebResolution_Pullen-1654.jpg
ORGANIZER;CN="The Bristol Improv Theatre":MAILTO:hello@improvtheatre.co.uk
END:VEVENT
END:VCALENDAR