BEGIN:VCALENDAR
VERSION:2.0
PRODID:-//Improv Shows &amp; Courses, Bristol | The Bristol Improv Theatre - ECPv6.15.20//NONSGML v1.0//EN
CALSCALE:GREGORIAN
METHOD:PUBLISH
X-ORIGINAL-URL:https://improvtheatre.co.uk
X-WR-CALDESC:Events for Improv Shows &amp; Courses, Bristol | The Bristol Improv Theatre
REFRESH-INTERVAL;VALUE=DURATION:PT1H
X-Robots-Tag:noindex
X-PUBLISHED-TTL:PT1H
BEGIN:VTIMEZONE
TZID:Europe/London
BEGIN:DAYLIGHT
TZOFFSETFROM:+0000
TZOFFSETTO:+0100
TZNAME:BST
DTSTART:20220327T010000
END:DAYLIGHT
BEGIN:STANDARD
TZOFFSETFROM:+0100
TZOFFSETTO:+0000
TZNAME:GMT
DTSTART:20221030T010000
END:STANDARD
BEGIN:DAYLIGHT
TZOFFSETFROM:+0000
TZOFFSETTO:+0100
TZNAME:BST
DTSTART:20230326T010000
END:DAYLIGHT
BEGIN:STANDARD
TZOFFSETFROM:+0100
TZOFFSETTO:+0000
TZNAME:GMT
DTSTART:20231029T010000
END:STANDARD
BEGIN:DAYLIGHT
TZOFFSETFROM:+0000
TZOFFSETTO:+0100
TZNAME:BST
DTSTART:20240331T010000
END:DAYLIGHT
BEGIN:STANDARD
TZOFFSETFROM:+0100
TZOFFSETTO:+0000
TZNAME:GMT
DTSTART:20241027T010000
END:STANDARD
END:VTIMEZONE
BEGIN:VEVENT
DTSTART;TZID=Europe/London:20231123T200000
DTEND;TZID=Europe/London:20231123T220000
DTSTAMP:20260423T110659
CREATED:20231120T140034Z
LAST-MODIFIED:20231120T140034Z
UID:10000690-1700769600-1700776800@improvtheatre.co.uk
SUMMARY:MTB's Newbies Cabaret
DESCRIPTION:Thursday 23rd November | 20:00 (Doors 19:30)\nOur annual one night only musical theatre cabaret showcasing the talent of our fabulous Freshers\, featuring various numbers from your favourite musicals!
URL:https://improvtheatre.co.uk/upcoming-show/mtbs-newbies-cabaret/2023-11-23/
LOCATION:The Bristol Improv Theatre\, Bristol Improv Theatre\, 50 St Paul's Rd\, Clifton\, Bristol BS8 1LP\, Bristol\, BS8 1LP\, United Kingdom
CATEGORIES:Visiting Acts
ATTACH;FMTTYPE=image/jpeg:https://improvtheatre.co.uk/wp-content/uploads/2023/11/Newbies-Cab-image-scaled.jpg
ORGANIZER;CN="The Bristol Improv Theatre":MAILTO:hello@improvtheatre.co.uk
END:VEVENT
END:VCALENDAR