BEGIN:VCALENDAR
VERSION:2.0
PRODID:-//Improv Shows &amp; Courses, Bristol | The Bristol Improv Theatre - ECPv6.15.20//NONSGML v1.0//EN
CALSCALE:GREGORIAN
METHOD:PUBLISH
X-ORIGINAL-URL:https://improvtheatre.co.uk
X-WR-CALDESC:Events for Improv Shows &amp; Courses, Bristol | The Bristol Improv Theatre
REFRESH-INTERVAL;VALUE=DURATION:PT1H
X-Robots-Tag:noindex
X-PUBLISHED-TTL:PT1H
BEGIN:VTIMEZONE
TZID:UTC
BEGIN:STANDARD
TZOFFSETFROM:+0000
TZOFFSETTO:+0000
TZNAME:UTC
DTSTART:20220101T000000
END:STANDARD
END:VTIMEZONE
BEGIN:VEVENT
DTSTART;TZID=UTC:20230617T200000
DTEND;TZID=UTC:20230617T220000
DTSTAMP:20260420T025547
CREATED:20230419T123707Z
LAST-MODIFIED:20230529T104035Z
UID:10000522-1687032000-1687039200@improvtheatre.co.uk
SUMMARY:Do Not Adjust Your Stage
DESCRIPTION:Saturday 17th June | 20:00 (doors open 19:30)\nIn The Wunderkammer\, all new TED-style talks from expert guest speakers inspire totally improvised comedy from one of the UK’s leading groups\, Do Not Adjust Your Stage (DNAYS). \nNeither the audience nor performers have seen the talks before\, making for a unique evening of discovery and laughter through entirely spontaneous scenes\, sketches and characters. \nSince 2014\, DNAYS have performed The Wunderkammer at sell-out shows in the UK\, Europe and the US\, including New York’s iconic UCB Theatre and in residencies at London’s Natural History Museum and National Gallery. \nPrevious guest speakers include a professional extreme snowboarder\, a Greenpeace activist\, the scientist who cloned Dolly the sheep\, a Game of Thrones super fan and a piracy expert. \n★★★★★ “Fearless comedy to great effect” (Everything Theatre) \n★★★★★ “A superb masterclass in the art of improv comedy” (LondonTheatre1) \n★★★★ “Impressive” (Three Weeks) \n★★★★ “The thinking person’s improv night” (Remote Goat) \nWith Support from Jazz Police\nAmerican-style longform improv comedy troupe from Bristol. Having performed at the Edinburgh International Improv Festival and the Birmingham Comedy Festival\, explore the world of improv through a hilarious compilation of scenes and bits as these masters of wit take one word and turn it into a show.
URL:https://improvtheatre.co.uk/upcoming-show/do-not-adjust-your-stage/
LOCATION:The Bristol Improv Theatre\, Bristol Improv Theatre\, 50 St Paul's Rd\, Clifton\, Bristol BS8 1LP\, Bristol\, BS8 1LP\, United Kingdom
CATEGORIES:Visiting Acts
ATTACH;FMTTYPE=image/jpeg:https://improvtheatre.co.uk/wp-content/uploads/2023/04/DNAYS-2.jpeg
END:VEVENT
END:VCALENDAR